BEGIN:VCALENDAR
VERSION:2.0
PRODID:-//Bayshore Seniors - ECPv6.15.18//NONSGML v1.0//EN
CALSCALE:GREGORIAN
METHOD:PUBLISH
X-WR-CALNAME:Bayshore Seniors
X-ORIGINAL-URL:https://www.bayshoreseniors.ca
X-WR-CALDESC:Events for Bayshore Seniors
REFRESH-INTERVAL;VALUE=DURATION:PT1H
X-Robots-Tag:noindex
X-PUBLISHED-TTL:PT1H
BEGIN:VTIMEZONE
TZID:America/Toronto
BEGIN:DAYLIGHT
TZOFFSETFROM:-0500
TZOFFSETTO:-0400
TZNAME:EDT
DTSTART:20240310T070000
END:DAYLIGHT
BEGIN:STANDARD
TZOFFSETFROM:-0400
TZOFFSETTO:-0500
TZNAME:EST
DTSTART:20241103T060000
END:STANDARD
BEGIN:DAYLIGHT
TZOFFSETFROM:-0500
TZOFFSETTO:-0400
TZNAME:EDT
DTSTART:20250309T070000
END:DAYLIGHT
BEGIN:STANDARD
TZOFFSETFROM:-0400
TZOFFSETTO:-0500
TZNAME:EST
DTSTART:20251102T060000
END:STANDARD
BEGIN:DAYLIGHT
TZOFFSETFROM:-0500
TZOFFSETTO:-0400
TZNAME:EDT
DTSTART:20260308T070000
END:DAYLIGHT
BEGIN:STANDARD
TZOFFSETFROM:-0400
TZOFFSETTO:-0500
TZNAME:EST
DTSTART:20261101T060000
END:STANDARD
END:VTIMEZONE
BEGIN:VEVENT
DTSTART;TZID=America/Toronto:20250403T100000
DTEND;TZID=America/Toronto:20250403T113000
DTSTAMP:20260424T073354
CREATED:20250319T013407Z
LAST-MODIFIED:20251104T201053Z
UID:10004359-1743674400-1743679800@www.bayshoreseniors.ca
SUMMARY:Choir
DESCRIPTION:We rehearse at Bay Shore and sing at nursing homes in the area. The music is a mixture of secular and religious. We do four-part harmony where possible. Drop in to find out about what we do and see if you would like to join our group.
URL:https://www.bayshoreseniors.ca/event/choir/2025-04-03/
LOCATION:Main Hall
CATEGORIES:Choir
ATTACH;FMTTYPE=image/jpeg:https://www.bayshoreseniors.ca/wp-content/uploads/2025/03/music.jpg
END:VEVENT
BEGIN:VEVENT
DTSTART;TZID=America/Toronto:20250403T140000
DTEND;TZID=America/Toronto:20250403T160000
DTSTAMP:20260424T073354
CREATED:20250319T013649Z
LAST-MODIFIED:20251104T201051Z
UID:10004335-1743688800-1743696000@www.bayshoreseniors.ca
SUMMARY:Darts
DESCRIPTION:Held on Thursday afternoons from September to April. It’s a fun afternoon\, and skill level is not important.
URL:https://www.bayshoreseniors.ca/event/darts/2025-04-03/
LOCATION:Billiards Room
CATEGORIES:Games
ATTACH;FMTTYPE=image/jpeg:https://www.bayshoreseniors.ca/wp-content/uploads/2025/03/darts.jpg
END:VEVENT
END:VCALENDAR