BEGIN:VCALENDAR
VERSION:2.0
PRODID:-//Bayshore Seniors - ECPv6.15.18//NONSGML v1.0//EN
CALSCALE:GREGORIAN
METHOD:PUBLISH
X-WR-CALNAME:Bayshore Seniors
X-ORIGINAL-URL:https://www.bayshoreseniors.ca
X-WR-CALDESC:Events for Bayshore Seniors
REFRESH-INTERVAL;VALUE=DURATION:PT1H
X-Robots-Tag:noindex
X-PUBLISHED-TTL:PT1H
BEGIN:VTIMEZONE
TZID:America/Toronto
BEGIN:DAYLIGHT
TZOFFSETFROM:-0500
TZOFFSETTO:-0400
TZNAME:EDT
DTSTART:20240310T070000
END:DAYLIGHT
BEGIN:STANDARD
TZOFFSETFROM:-0400
TZOFFSETTO:-0500
TZNAME:EST
DTSTART:20241103T060000
END:STANDARD
BEGIN:DAYLIGHT
TZOFFSETFROM:-0500
TZOFFSETTO:-0400
TZNAME:EDT
DTSTART:20250309T070000
END:DAYLIGHT
BEGIN:STANDARD
TZOFFSETFROM:-0400
TZOFFSETTO:-0500
TZNAME:EST
DTSTART:20251102T060000
END:STANDARD
BEGIN:DAYLIGHT
TZOFFSETFROM:-0500
TZOFFSETTO:-0400
TZNAME:EDT
DTSTART:20260308T070000
END:DAYLIGHT
BEGIN:STANDARD
TZOFFSETFROM:-0400
TZOFFSETTO:-0500
TZNAME:EST
DTSTART:20261101T060000
END:STANDARD
END:VTIMEZONE
BEGIN:VEVENT
DTSTART;TZID=America/Toronto:20250408T183000
DTEND;TZID=America/Toronto:20250408T213000
DTSTAMP:20260424T053210
CREATED:20250318T211026Z
LAST-MODIFIED:20251104T201108Z
UID:10004998-1744137000-1744147800@www.bayshoreseniors.ca
SUMMARY:Bid Euchre
DESCRIPTION:This group meets on Tuesday nights throughout the year. New members are always welcome\, and experience is not necessary. You can look forward to playing and mingling with new friends amongst the dozen tables or so. Come and join us if you’re a card enthusiast!
URL:https://www.bayshoreseniors.ca/event/bid-euchre/2025-04-08/
LOCATION:Main Hall
CATEGORIES:Games
ATTACH;FMTTYPE=image/png:https://www.bayshoreseniors.ca/wp-content/uploads/2025/03/euchre.png
END:VEVENT
END:VCALENDAR