BEGIN:VCALENDAR
VERSION:2.0
PRODID:-//Bayshore Seniors - ECPv6.15.18//NONSGML v1.0//EN
CALSCALE:GREGORIAN
METHOD:PUBLISH
X-WR-CALNAME:Bayshore Seniors
X-ORIGINAL-URL:https://www.bayshoreseniors.ca
X-WR-CALDESC:Events for Bayshore Seniors
REFRESH-INTERVAL;VALUE=DURATION:PT1H
X-Robots-Tag:noindex
X-PUBLISHED-TTL:PT1H
BEGIN:VTIMEZONE
TZID:America/Toronto
BEGIN:DAYLIGHT
TZOFFSETFROM:-0500
TZOFFSETTO:-0400
TZNAME:EDT
DTSTART:20240310T070000
END:DAYLIGHT
BEGIN:STANDARD
TZOFFSETFROM:-0400
TZOFFSETTO:-0500
TZNAME:EST
DTSTART:20241103T060000
END:STANDARD
BEGIN:DAYLIGHT
TZOFFSETFROM:-0500
TZOFFSETTO:-0400
TZNAME:EDT
DTSTART:20250309T070000
END:DAYLIGHT
BEGIN:STANDARD
TZOFFSETFROM:-0400
TZOFFSETTO:-0500
TZNAME:EST
DTSTART:20251102T060000
END:STANDARD
BEGIN:DAYLIGHT
TZOFFSETFROM:-0500
TZOFFSETTO:-0400
TZNAME:EDT
DTSTART:20260308T070000
END:DAYLIGHT
BEGIN:STANDARD
TZOFFSETFROM:-0400
TZOFFSETTO:-0500
TZNAME:EST
DTSTART:20261101T060000
END:STANDARD
END:VTIMEZONE
BEGIN:VEVENT
DTSTART;TZID=America/Toronto:20250610T100000
DTEND;TZID=America/Toronto:20250610T120000
DTSTAMP:20260423T103018
CREATED:20250414T181407Z
LAST-MODIFIED:20251104T201035Z
UID:10003439-1749549600-1749556800@www.bayshoreseniors.ca
SUMMARY:Pool/Billiards
DESCRIPTION:Everyone is invited to participate in our pool games. Join us every Tuesday and Friday mornings at 10 AM in the library/pool room. The atmosphere is friendly\, and we always welcome new players.
URL:https://www.bayshoreseniors.ca/event/pool-billiards-3/2025-06-10/
LOCATION:Billiards Room
CATEGORIES:Pool
ATTACH;FMTTYPE=image/jpeg:https://www.bayshoreseniors.ca/wp-content/uploads/2025/03/pool.jpg
END:VEVENT
BEGIN:VEVENT
DTSTART;TZID=America/Toronto:20250610T140000
DTEND;TZID=America/Toronto:20250610T160000
DTSTAMP:20260423T103018
CREATED:20250414T212227Z
LAST-MODIFIED:20251104T200912Z
UID:10003224-1749564000-1749571200@www.bayshoreseniors.ca
SUMMARY:General Meeting
DESCRIPTION:
URL:https://www.bayshoreseniors.ca/event/general-meeting/2025-06-10/
LOCATION:Craft Room
END:VEVENT
END:VCALENDAR