BEGIN:VCALENDAR
VERSION:2.0
PRODID:-//Bayshore Seniors - ECPv6.15.18//NONSGML v1.0//EN
CALSCALE:GREGORIAN
METHOD:PUBLISH
X-WR-CALNAME:Bayshore Seniors
X-ORIGINAL-URL:https://www.bayshoreseniors.ca
X-WR-CALDESC:Events for Bayshore Seniors
REFRESH-INTERVAL;VALUE=DURATION:PT1H
X-Robots-Tag:noindex
X-PUBLISHED-TTL:PT1H
BEGIN:VTIMEZONE
TZID:America/Toronto
BEGIN:DAYLIGHT
TZOFFSETFROM:-0500
TZOFFSETTO:-0400
TZNAME:EDT
DTSTART:20250309T070000
END:DAYLIGHT
BEGIN:STANDARD
TZOFFSETFROM:-0400
TZOFFSETTO:-0500
TZNAME:EST
DTSTART:20251102T060000
END:STANDARD
BEGIN:DAYLIGHT
TZOFFSETFROM:-0500
TZOFFSETTO:-0400
TZNAME:EDT
DTSTART:20260308T070000
END:DAYLIGHT
BEGIN:STANDARD
TZOFFSETFROM:-0400
TZOFFSETTO:-0500
TZNAME:EST
DTSTART:20261101T060000
END:STANDARD
BEGIN:DAYLIGHT
TZOFFSETFROM:-0500
TZOFFSETTO:-0400
TZNAME:EDT
DTSTART:20270314T070000
END:DAYLIGHT
BEGIN:STANDARD
TZOFFSETFROM:-0400
TZOFFSETTO:-0500
TZNAME:EST
DTSTART:20271107T060000
END:STANDARD
END:VTIMEZONE
BEGIN:VEVENT
DTSTART;TZID=America/Toronto:20260305T100000
DTEND;TZID=America/Toronto:20260305T113000
DTSTAMP:20260421T073202
CREATED:20250829T221323Z
LAST-MODIFIED:20251104T200758Z
UID:10001059-1772704800-1772710200@www.bayshoreseniors.ca
SUMMARY:Choir
DESCRIPTION:We rehearse at Bay Shore and sing at nursing homes in the area. The music is a mixture of secular and religious. We do four-part harmony where possible. Drop in to find out about what we do and see if you would like to join our group.
URL:https://www.bayshoreseniors.ca/event/choir-2/2026-03-05/
LOCATION:Main Hall
CATEGORIES:Choir
ATTACH;FMTTYPE=image/jpeg:https://www.bayshoreseniors.ca/wp-content/uploads/2025/03/music.jpg
END:VEVENT
BEGIN:VEVENT
DTSTART;TZID=America/Toronto:20260305T123000
DTEND;TZID=America/Toronto:20260305T160000
DTSTAMP:20260421T073202
CREATED:20260301T213541Z
LAST-MODIFIED:20260302T183759Z
UID:10007344-1772713800-1772726400@www.bayshoreseniors.ca
SUMMARY:COME & JOIN OUR COMMUNITY EVENT AT BAY SHORE SENIORS CLUB - ST. PATRICK'S DAY CELEBRATION
DESCRIPTION:Be sure to see our details for the Bayshore Seniors St. Patrick’s Day Celebration March 14\, 2026. \n\nCome and join our Community Event at the Bay Shore Seniors Club for a fun filled afternoon.\n\nLunch served 12;30 p.m.- 1 p.m.\, Party 1 p.m. – 4 p.m. \nMusic by Marty Carlisle DJ. \nTickets: $15 (Party Only)\, $25 (with Lunch) – Hearty Irish Stew\, Soda Bread & Tasty Dessert. \nFun & Games: Share the Wealth – Treasure Prizes – Karaoke Irish Song Challenge. \nBar will be Open! \nWear green & bring your lucky charm!
URL:https://www.bayshoreseniors.ca/event/st-patricks-day-celebration/2026-03-05/
CATEGORIES:Special Events
END:VEVENT
BEGIN:VEVENT
DTSTART;TZID=America/Toronto:20260305T140000
DTEND;TZID=America/Toronto:20260305T160000
DTSTAMP:20260421T073202
CREATED:20250829T230423Z
LAST-MODIFIED:20251104T200754Z
UID:10000790-1772719200-1772726400@www.bayshoreseniors.ca
SUMMARY:Darts
DESCRIPTION:Held on Thursday afternoons from September to April. It’s a fun afternoon\, and skill level is not important.
URL:https://www.bayshoreseniors.ca/event/darts-2/2026-03-05/
LOCATION:Billiards Room
CATEGORIES:Games
ATTACH;FMTTYPE=image/jpeg:https://www.bayshoreseniors.ca/wp-content/uploads/2025/03/darts.jpg
END:VEVENT
BEGIN:VEVENT
DTSTART;TZID=America/Toronto:20260305T183000
DTEND;TZID=America/Toronto:20260305T210000
DTSTAMP:20260421T073202
CREATED:20250829T220241Z
LAST-MODIFIED:20260219T004616Z
UID:10006189-1772735400-1772744400@www.bayshoreseniors.ca
SUMMARY:Cribbage
DESCRIPTION:Join our lively group every Thursday night from September to June! We warmly welcome new members\, regardless of experience. Our goal is to help everyone enjoy the game. Expect a fun-filled evening of playing and socializing with new friends—it’s always a blast\, full of laughter and good times!
URL:https://www.bayshoreseniors.ca/event/cribbage/2026-03-05/
LOCATION:Library
CATEGORIES:Games
ATTACH;FMTTYPE=image/jpeg:https://www.bayshoreseniors.ca/wp-content/uploads/2024/11/Cribbage.jpg
END:VEVENT
END:VCALENDAR