BEGIN:VCALENDAR
VERSION:2.0
PRODID:-//Bayshore Seniors - ECPv6.15.18//NONSGML v1.0//EN
CALSCALE:GREGORIAN
METHOD:PUBLISH
X-WR-CALNAME:Bayshore Seniors
X-ORIGINAL-URL:https://www.bayshoreseniors.ca
X-WR-CALDESC:Events for Bayshore Seniors
REFRESH-INTERVAL;VALUE=DURATION:PT1H
X-Robots-Tag:noindex
X-PUBLISHED-TTL:PT1H
BEGIN:VTIMEZONE
TZID:America/Toronto
BEGIN:DAYLIGHT
TZOFFSETFROM:-0500
TZOFFSETTO:-0400
TZNAME:EDT
DTSTART:20250309T070000
END:DAYLIGHT
BEGIN:STANDARD
TZOFFSETFROM:-0400
TZOFFSETTO:-0500
TZNAME:EST
DTSTART:20251102T060000
END:STANDARD
BEGIN:DAYLIGHT
TZOFFSETFROM:-0500
TZOFFSETTO:-0400
TZNAME:EDT
DTSTART:20260308T070000
END:DAYLIGHT
BEGIN:STANDARD
TZOFFSETFROM:-0400
TZOFFSETTO:-0500
TZNAME:EST
DTSTART:20261101T060000
END:STANDARD
BEGIN:DAYLIGHT
TZOFFSETFROM:-0500
TZOFFSETTO:-0400
TZNAME:EDT
DTSTART:20270314T070000
END:DAYLIGHT
BEGIN:STANDARD
TZOFFSETFROM:-0400
TZOFFSETTO:-0500
TZNAME:EST
DTSTART:20271107T060000
END:STANDARD
END:VTIMEZONE
BEGIN:VEVENT
DTSTART;TZID=America/Toronto:20260309T123000
DTEND;TZID=America/Toronto:20260309T160000
DTSTAMP:20260421T113651
CREATED:20260301T213541Z
LAST-MODIFIED:20260302T183759Z
UID:10007348-1773059400-1773072000@www.bayshoreseniors.ca
SUMMARY:COME & JOIN OUR COMMUNITY EVENT AT BAY SHORE SENIORS CLUB - ST. PATRICK'S DAY CELEBRATION
DESCRIPTION:Be sure to see our details for the Bayshore Seniors St. Patrick’s Day Celebration March 14\, 2026. \n\nCome and join our Community Event at the Bay Shore Seniors Club for a fun filled afternoon.\n\nLunch served 12;30 p.m.- 1 p.m.\, Party 1 p.m. – 4 p.m. \nMusic by Marty Carlisle DJ. \nTickets: $15 (Party Only)\, $25 (with Lunch) – Hearty Irish Stew\, Soda Bread & Tasty Dessert. \nFun & Games: Share the Wealth – Treasure Prizes – Karaoke Irish Song Challenge. \nBar will be Open! \nWear green & bring your lucky charm!
URL:https://www.bayshoreseniors.ca/event/st-patricks-day-celebration/2026-03-09/
CATEGORIES:Special Events
END:VEVENT
END:VCALENDAR