BEGIN:VCALENDAR
VERSION:2.0
PRODID:-//Bayshore Seniors - ECPv6.15.18//NONSGML v1.0//EN
CALSCALE:GREGORIAN
METHOD:PUBLISH
X-WR-CALNAME:Bayshore Seniors
X-ORIGINAL-URL:https://www.bayshoreseniors.ca
X-WR-CALDESC:Events for Bayshore Seniors
REFRESH-INTERVAL;VALUE=DURATION:PT1H
X-Robots-Tag:noindex
X-PUBLISHED-TTL:PT1H
BEGIN:VTIMEZONE
TZID:America/Toronto
BEGIN:DAYLIGHT
TZOFFSETFROM:-0500
TZOFFSETTO:-0400
TZNAME:EDT
DTSTART:20250309T070000
END:DAYLIGHT
BEGIN:STANDARD
TZOFFSETFROM:-0400
TZOFFSETTO:-0500
TZNAME:EST
DTSTART:20251102T060000
END:STANDARD
BEGIN:DAYLIGHT
TZOFFSETFROM:-0500
TZOFFSETTO:-0400
TZNAME:EDT
DTSTART:20260308T070000
END:DAYLIGHT
BEGIN:STANDARD
TZOFFSETFROM:-0400
TZOFFSETTO:-0500
TZNAME:EST
DTSTART:20261101T060000
END:STANDARD
BEGIN:DAYLIGHT
TZOFFSETFROM:-0500
TZOFFSETTO:-0400
TZNAME:EDT
DTSTART:20270314T070000
END:DAYLIGHT
BEGIN:STANDARD
TZOFFSETFROM:-0400
TZOFFSETTO:-0500
TZNAME:EST
DTSTART:20271107T060000
END:STANDARD
END:VTIMEZONE
BEGIN:VEVENT
DTSTART;TZID=America/Toronto:20260310T100000
DTEND;TZID=America/Toronto:20260310T120000
DTSTAMP:20260421T073200
CREATED:20250829T214238Z
LAST-MODIFIED:20251104T200854Z
UID:10002948-1773136800-1773144000@www.bayshoreseniors.ca
SUMMARY:Pool/Billiards
DESCRIPTION:Everyone is invited to participate in our pool games. Join us every Tuesday and Friday mornings from 10 a.m. – 12 p.m. in the library/pool room. The atmosphere is friendly\, and we always welcome new players.
URL:https://www.bayshoreseniors.ca/event/pool-billiards-2-2-2/2026-03-10/
LOCATION:Billiards Room
CATEGORIES:Pool
ATTACH;FMTTYPE=image/jpeg:https://www.bayshoreseniors.ca/wp-content/uploads/2025/03/pool.jpg
END:VEVENT
BEGIN:VEVENT
DTSTART;TZID=America/Toronto:20260310T123000
DTEND;TZID=America/Toronto:20260310T160000
DTSTAMP:20260421T073200
CREATED:20260301T213541Z
LAST-MODIFIED:20260302T183759Z
UID:10007349-1773145800-1773158400@www.bayshoreseniors.ca
SUMMARY:COME & JOIN OUR COMMUNITY EVENT AT BAY SHORE SENIORS CLUB - ST. PATRICK'S DAY CELEBRATION
DESCRIPTION:Be sure to see our details for the Bayshore Seniors St. Patrick’s Day Celebration March 14\, 2026. \n\nCome and join our Community Event at the Bay Shore Seniors Club for a fun filled afternoon.\n\nLunch served 12;30 p.m.- 1 p.m.\, Party 1 p.m. – 4 p.m. \nMusic by Marty Carlisle DJ. \nTickets: $15 (Party Only)\, $25 (with Lunch) – Hearty Irish Stew\, Soda Bread & Tasty Dessert. \nFun & Games: Share the Wealth – Treasure Prizes – Karaoke Irish Song Challenge. \nBar will be Open! \nWear green & bring your lucky charm!
URL:https://www.bayshoreseniors.ca/event/st-patricks-day-celebration/2026-03-10/
CATEGORIES:Special Events
END:VEVENT
BEGIN:VEVENT
DTSTART;TZID=America/Toronto:20260310T140000
DTEND;TZID=America/Toronto:20260310T160000
DTSTAMP:20260421T073200
CREATED:20250414T212227Z
LAST-MODIFIED:20251104T200912Z
UID:10003233-1773151200-1773158400@www.bayshoreseniors.ca
SUMMARY:General Meeting
DESCRIPTION:
URL:https://www.bayshoreseniors.ca/event/general-meeting/2026-03-10/
LOCATION:Craft Room
END:VEVENT
BEGIN:VEVENT
DTSTART;TZID=America/Toronto:20260310T183000
DTEND;TZID=America/Toronto:20260310T213000
DTSTAMP:20260421T073200
CREATED:20250318T211026Z
LAST-MODIFIED:20251104T201108Z
UID:10005045-1773167400-1773178200@www.bayshoreseniors.ca
SUMMARY:Bid Euchre
DESCRIPTION:This group meets on Tuesday nights throughout the year. New members are always welcome\, and experience is not necessary. You can look forward to playing and mingling with new friends amongst the dozen tables or so. Come and join us if you’re a card enthusiast!
URL:https://www.bayshoreseniors.ca/event/bid-euchre/2026-03-10/
LOCATION:Main Hall
CATEGORIES:Games
ATTACH;FMTTYPE=image/png:https://www.bayshoreseniors.ca/wp-content/uploads/2025/03/euchre.png
END:VEVENT
END:VCALENDAR