BEGIN:VCALENDAR
VERSION:2.0
PRODID:-//Bayshore Seniors - ECPv6.15.18//NONSGML v1.0//EN
CALSCALE:GREGORIAN
METHOD:PUBLISH
X-WR-CALNAME:Bayshore Seniors
X-ORIGINAL-URL:https://www.bayshoreseniors.ca
X-WR-CALDESC:Events for Bayshore Seniors
REFRESH-INTERVAL;VALUE=DURATION:PT1H
X-Robots-Tag:noindex
X-PUBLISHED-TTL:PT1H
BEGIN:VTIMEZONE
TZID:America/Toronto
BEGIN:DAYLIGHT
TZOFFSETFROM:-0500
TZOFFSETTO:-0400
TZNAME:EDT
DTSTART:20250309T070000
END:DAYLIGHT
BEGIN:STANDARD
TZOFFSETFROM:-0400
TZOFFSETTO:-0500
TZNAME:EST
DTSTART:20251102T060000
END:STANDARD
BEGIN:DAYLIGHT
TZOFFSETFROM:-0500
TZOFFSETTO:-0400
TZNAME:EDT
DTSTART:20260308T070000
END:DAYLIGHT
BEGIN:STANDARD
TZOFFSETFROM:-0400
TZOFFSETTO:-0500
TZNAME:EST
DTSTART:20261101T060000
END:STANDARD
BEGIN:DAYLIGHT
TZOFFSETFROM:-0500
TZOFFSETTO:-0400
TZNAME:EDT
DTSTART:20270314T070000
END:DAYLIGHT
BEGIN:STANDARD
TZOFFSETFROM:-0400
TZOFFSETTO:-0500
TZNAME:EST
DTSTART:20271107T060000
END:STANDARD
END:VTIMEZONE
BEGIN:VEVENT
DTSTART;TZID=America/Toronto:20260505T130000
DTEND;TZID=America/Toronto:20260505T150000
DTSTAMP:20260421T103151
CREATED:20250829T222115Z
LAST-MODIFIED:20251104T200750Z
UID:10000584-1777986000-1777993200@www.bayshoreseniors.ca
SUMMARY:Crafts
DESCRIPTION:The craft group meets on Tuesday afternoons at 1 PM from September to June\, except for the second Tuesday of each month. Members create various crafts for the Craft Bazaar and charitable causes. There are always experienced members ready to teach newcomers knitting or crocheting.
URL:https://www.bayshoreseniors.ca/event/crafts-2-2/2026-05-05/
LOCATION:Craft Room
CATEGORIES:Crafts
ATTACH;FMTTYPE=image/png:https://www.bayshoreseniors.ca/wp-content/uploads/2025/03/craft.png
END:VEVENT
END:VCALENDAR