BEGIN:VCALENDAR
VERSION:2.0
PRODID:-//Bayshore Seniors - ECPv6.15.18//NONSGML v1.0//EN
CALSCALE:GREGORIAN
METHOD:PUBLISH
X-WR-CALNAME:Bayshore Seniors
X-ORIGINAL-URL:https://www.bayshoreseniors.ca
X-WR-CALDESC:Events for Bayshore Seniors
REFRESH-INTERVAL;VALUE=DURATION:PT1H
X-Robots-Tag:noindex
X-PUBLISHED-TTL:PT1H
BEGIN:VTIMEZONE
TZID:America/Toronto
BEGIN:DAYLIGHT
TZOFFSETFROM:-0500
TZOFFSETTO:-0400
TZNAME:EDT
DTSTART:20240310T070000
END:DAYLIGHT
BEGIN:STANDARD
TZOFFSETFROM:-0400
TZOFFSETTO:-0500
TZNAME:EST
DTSTART:20241103T060000
END:STANDARD
BEGIN:DAYLIGHT
TZOFFSETFROM:-0500
TZOFFSETTO:-0400
TZNAME:EDT
DTSTART:20250309T070000
END:DAYLIGHT
BEGIN:STANDARD
TZOFFSETFROM:-0400
TZOFFSETTO:-0500
TZNAME:EST
DTSTART:20251102T060000
END:STANDARD
BEGIN:DAYLIGHT
TZOFFSETFROM:-0500
TZOFFSETTO:-0400
TZNAME:EDT
DTSTART:20260308T070000
END:DAYLIGHT
BEGIN:STANDARD
TZOFFSETFROM:-0400
TZOFFSETTO:-0500
TZNAME:EST
DTSTART:20261101T060000
END:STANDARD
BEGIN:DAYLIGHT
TZOFFSETFROM:-0500
TZOFFSETTO:-0400
TZNAME:EDT
DTSTART:20270314T070000
END:DAYLIGHT
BEGIN:STANDARD
TZOFFSETFROM:-0400
TZOFFSETTO:-0500
TZNAME:EST
DTSTART:20271107T060000
END:STANDARD
END:VTIMEZONE
BEGIN:VEVENT
DTSTART;TZID=America/Toronto:20260407T130000
DTEND;TZID=America/Toronto:20260407T150000
DTSTAMP:20260421T074225
CREATED:20250829T222115Z
LAST-MODIFIED:20251104T200750Z
UID:10000581-1775566800-1775574000@www.bayshoreseniors.ca
SUMMARY:Crafts
DESCRIPTION:The craft group meets on Tuesday afternoons at 1 PM from September to June\, except for the second Tuesday of each month. Members create various crafts for the Craft Bazaar and charitable causes. There are always experienced members ready to teach newcomers knitting or crocheting.
URL:https://www.bayshoreseniors.ca/event/crafts-2-2/2026-04-07/
LOCATION:Craft Room
CATEGORIES:Crafts
ATTACH;FMTTYPE=image/png:https://www.bayshoreseniors.ca/wp-content/uploads/2025/03/craft.png
END:VEVENT
BEGIN:VEVENT
DTSTART;TZID=America/Toronto:20260331T130000
DTEND;TZID=America/Toronto:20260331T150000
DTSTAMP:20260421T074225
CREATED:20250829T222115Z
LAST-MODIFIED:20251104T200750Z
UID:10000580-1774962000-1774969200@www.bayshoreseniors.ca
SUMMARY:Crafts
DESCRIPTION:The craft group meets on Tuesday afternoons at 1 PM from September to June\, except for the second Tuesday of each month. Members create various crafts for the Craft Bazaar and charitable causes. There are always experienced members ready to teach newcomers knitting or crocheting.
URL:https://www.bayshoreseniors.ca/event/crafts-2-2/2026-03-31/
LOCATION:Craft Room
CATEGORIES:Crafts
ATTACH;FMTTYPE=image/png:https://www.bayshoreseniors.ca/wp-content/uploads/2025/03/craft.png
END:VEVENT
BEGIN:VEVENT
DTSTART;TZID=America/Toronto:20260324T130000
DTEND;TZID=America/Toronto:20260324T150000
DTSTAMP:20260421T074225
CREATED:20250829T222115Z
LAST-MODIFIED:20251104T200750Z
UID:10000579-1774357200-1774364400@www.bayshoreseniors.ca
SUMMARY:Crafts
DESCRIPTION:The craft group meets on Tuesday afternoons at 1 PM from September to June\, except for the second Tuesday of each month. Members create various crafts for the Craft Bazaar and charitable causes. There are always experienced members ready to teach newcomers knitting or crocheting.
URL:https://www.bayshoreseniors.ca/event/crafts-2-2/2026-03-24/
LOCATION:Craft Room
CATEGORIES:Crafts
ATTACH;FMTTYPE=image/png:https://www.bayshoreseniors.ca/wp-content/uploads/2025/03/craft.png
END:VEVENT
BEGIN:VEVENT
DTSTART;TZID=America/Toronto:20260317T130000
DTEND;TZID=America/Toronto:20260317T150000
DTSTAMP:20260421T074225
CREATED:20250829T222115Z
LAST-MODIFIED:20251104T200750Z
UID:10000578-1773752400-1773759600@www.bayshoreseniors.ca
SUMMARY:Crafts
DESCRIPTION:The craft group meets on Tuesday afternoons at 1 PM from September to June\, except for the second Tuesday of each month. Members create various crafts for the Craft Bazaar and charitable causes. There are always experienced members ready to teach newcomers knitting or crocheting.
URL:https://www.bayshoreseniors.ca/event/crafts-2-2/2026-03-17/
LOCATION:Craft Room
CATEGORIES:Crafts
ATTACH;FMTTYPE=image/png:https://www.bayshoreseniors.ca/wp-content/uploads/2025/03/craft.png
END:VEVENT
BEGIN:VEVENT
DTSTART;TZID=America/Toronto:20260303T130000
DTEND;TZID=America/Toronto:20260303T150000
DTSTAMP:20260421T074225
CREATED:20250829T222115Z
LAST-MODIFIED:20251104T200750Z
UID:10000577-1772542800-1772550000@www.bayshoreseniors.ca
SUMMARY:Crafts
DESCRIPTION:The craft group meets on Tuesday afternoons at 1 PM from September to June\, except for the second Tuesday of each month. Members create various crafts for the Craft Bazaar and charitable causes. There are always experienced members ready to teach newcomers knitting or crocheting.
URL:https://www.bayshoreseniors.ca/event/crafts-2-2/2026-03-03/
LOCATION:Craft Room
CATEGORIES:Crafts
ATTACH;FMTTYPE=image/png:https://www.bayshoreseniors.ca/wp-content/uploads/2025/03/craft.png
END:VEVENT
BEGIN:VEVENT
DTSTART;TZID=America/Toronto:20260224T130000
DTEND;TZID=America/Toronto:20260224T150000
DTSTAMP:20260421T074225
CREATED:20250829T222115Z
LAST-MODIFIED:20251104T200750Z
UID:10000576-1771938000-1771945200@www.bayshoreseniors.ca
SUMMARY:Crafts
DESCRIPTION:The craft group meets on Tuesday afternoons at 1 PM from September to June\, except for the second Tuesday of each month. Members create various crafts for the Craft Bazaar and charitable causes. There are always experienced members ready to teach newcomers knitting or crocheting.
URL:https://www.bayshoreseniors.ca/event/crafts-2-2/2026-02-24/
LOCATION:Craft Room
CATEGORIES:Crafts
ATTACH;FMTTYPE=image/png:https://www.bayshoreseniors.ca/wp-content/uploads/2025/03/craft.png
END:VEVENT
BEGIN:VEVENT
DTSTART;TZID=America/Toronto:20260217T130000
DTEND;TZID=America/Toronto:20260217T150000
DTSTAMP:20260421T074225
CREATED:20250829T222115Z
LAST-MODIFIED:20251104T200750Z
UID:10000575-1771333200-1771340400@www.bayshoreseniors.ca
SUMMARY:Crafts
DESCRIPTION:The craft group meets on Tuesday afternoons at 1 PM from September to June\, except for the second Tuesday of each month. Members create various crafts for the Craft Bazaar and charitable causes. There are always experienced members ready to teach newcomers knitting or crocheting.
URL:https://www.bayshoreseniors.ca/event/crafts-2-2/2026-02-17/
LOCATION:Craft Room
CATEGORIES:Crafts
ATTACH;FMTTYPE=image/png:https://www.bayshoreseniors.ca/wp-content/uploads/2025/03/craft.png
END:VEVENT
BEGIN:VEVENT
DTSTART;TZID=America/Toronto:20260203T130000
DTEND;TZID=America/Toronto:20260203T150000
DTSTAMP:20260421T074225
CREATED:20250829T222115Z
LAST-MODIFIED:20251104T200750Z
UID:10000574-1770123600-1770130800@www.bayshoreseniors.ca
SUMMARY:Crafts
DESCRIPTION:The craft group meets on Tuesday afternoons at 1 PM from September to June\, except for the second Tuesday of each month. Members create various crafts for the Craft Bazaar and charitable causes. There are always experienced members ready to teach newcomers knitting or crocheting.
URL:https://www.bayshoreseniors.ca/event/crafts-2-2/2026-02-03/
LOCATION:Craft Room
CATEGORIES:Crafts
ATTACH;FMTTYPE=image/png:https://www.bayshoreseniors.ca/wp-content/uploads/2025/03/craft.png
END:VEVENT
BEGIN:VEVENT
DTSTART;TZID=America/Toronto:20260127T130000
DTEND;TZID=America/Toronto:20260127T150000
DTSTAMP:20260421T074225
CREATED:20250829T222115Z
LAST-MODIFIED:20251104T200750Z
UID:10000573-1769518800-1769526000@www.bayshoreseniors.ca
SUMMARY:Crafts
DESCRIPTION:The craft group meets on Tuesday afternoons at 1 PM from September to June\, except for the second Tuesday of each month. Members create various crafts for the Craft Bazaar and charitable causes. There are always experienced members ready to teach newcomers knitting or crocheting.
URL:https://www.bayshoreseniors.ca/event/crafts-2-2/2026-01-27/
LOCATION:Craft Room
CATEGORIES:Crafts
ATTACH;FMTTYPE=image/png:https://www.bayshoreseniors.ca/wp-content/uploads/2025/03/craft.png
END:VEVENT
BEGIN:VEVENT
DTSTART;TZID=America/Toronto:20260120T130000
DTEND;TZID=America/Toronto:20260120T150000
DTSTAMP:20260421T074225
CREATED:20250829T222115Z
LAST-MODIFIED:20251104T200750Z
UID:10000572-1768914000-1768921200@www.bayshoreseniors.ca
SUMMARY:Crafts
DESCRIPTION:The craft group meets on Tuesday afternoons at 1 PM from September to June\, except for the second Tuesday of each month. Members create various crafts for the Craft Bazaar and charitable causes. There are always experienced members ready to teach newcomers knitting or crocheting.
URL:https://www.bayshoreseniors.ca/event/crafts-2-2/2026-01-20/
LOCATION:Craft Room
CATEGORIES:Crafts
ATTACH;FMTTYPE=image/png:https://www.bayshoreseniors.ca/wp-content/uploads/2025/03/craft.png
END:VEVENT
BEGIN:VEVENT
DTSTART;TZID=America/Toronto:20260106T130000
DTEND;TZID=America/Toronto:20260106T150000
DTSTAMP:20260421T074225
CREATED:20250829T222115Z
LAST-MODIFIED:20251104T200750Z
UID:10000571-1767704400-1767711600@www.bayshoreseniors.ca
SUMMARY:Crafts
DESCRIPTION:The craft group meets on Tuesday afternoons at 1 PM from September to June\, except for the second Tuesday of each month. Members create various crafts for the Craft Bazaar and charitable causes. There are always experienced members ready to teach newcomers knitting or crocheting.
URL:https://www.bayshoreseniors.ca/event/crafts-2-2/2026-01-06/
LOCATION:Craft Room
CATEGORIES:Crafts
ATTACH;FMTTYPE=image/png:https://www.bayshoreseniors.ca/wp-content/uploads/2025/03/craft.png
END:VEVENT
BEGIN:VEVENT
DTSTART;TZID=America/Toronto:20251230T130000
DTEND;TZID=America/Toronto:20251230T150000
DTSTAMP:20260421T074225
CREATED:20250829T222115Z
LAST-MODIFIED:20251104T200750Z
UID:10000570-1767099600-1767106800@www.bayshoreseniors.ca
SUMMARY:Crafts
DESCRIPTION:The craft group meets on Tuesday afternoons at 1 PM from September to June\, except for the second Tuesday of each month. Members create various crafts for the Craft Bazaar and charitable causes. There are always experienced members ready to teach newcomers knitting or crocheting.
URL:https://www.bayshoreseniors.ca/event/crafts-2-2/2025-12-30/
LOCATION:Craft Room
CATEGORIES:Crafts
ATTACH;FMTTYPE=image/png:https://www.bayshoreseniors.ca/wp-content/uploads/2025/03/craft.png
END:VEVENT
BEGIN:VEVENT
DTSTART;TZID=America/Toronto:20251223T130000
DTEND;TZID=America/Toronto:20251223T150000
DTSTAMP:20260421T074225
CREATED:20250829T222115Z
LAST-MODIFIED:20251104T200750Z
UID:10000569-1766494800-1766502000@www.bayshoreseniors.ca
SUMMARY:Crafts
DESCRIPTION:The craft group meets on Tuesday afternoons at 1 PM from September to June\, except for the second Tuesday of each month. Members create various crafts for the Craft Bazaar and charitable causes. There are always experienced members ready to teach newcomers knitting or crocheting.
URL:https://www.bayshoreseniors.ca/event/crafts-2-2/2025-12-23/
LOCATION:Craft Room
CATEGORIES:Crafts
ATTACH;FMTTYPE=image/png:https://www.bayshoreseniors.ca/wp-content/uploads/2025/03/craft.png
END:VEVENT
BEGIN:VEVENT
DTSTART;TZID=America/Toronto:20251216T130000
DTEND;TZID=America/Toronto:20251216T150000
DTSTAMP:20260421T074225
CREATED:20250829T222115Z
LAST-MODIFIED:20251104T200750Z
UID:10000568-1765890000-1765897200@www.bayshoreseniors.ca
SUMMARY:Crafts
DESCRIPTION:The craft group meets on Tuesday afternoons at 1 PM from September to June\, except for the second Tuesday of each month. Members create various crafts for the Craft Bazaar and charitable causes. There are always experienced members ready to teach newcomers knitting or crocheting.
URL:https://www.bayshoreseniors.ca/event/crafts-2-2/2025-12-16/
LOCATION:Craft Room
CATEGORIES:Crafts
ATTACH;FMTTYPE=image/png:https://www.bayshoreseniors.ca/wp-content/uploads/2025/03/craft.png
END:VEVENT
BEGIN:VEVENT
DTSTART;TZID=America/Toronto:20251202T130000
DTEND;TZID=America/Toronto:20251202T150000
DTSTAMP:20260421T074225
CREATED:20250829T222115Z
LAST-MODIFIED:20251104T200750Z
UID:10000567-1764680400-1764687600@www.bayshoreseniors.ca
SUMMARY:Crafts
DESCRIPTION:The craft group meets on Tuesday afternoons at 1 PM from September to June\, except for the second Tuesday of each month. Members create various crafts for the Craft Bazaar and charitable causes. There are always experienced members ready to teach newcomers knitting or crocheting.
URL:https://www.bayshoreseniors.ca/event/crafts-2-2/2025-12-02/
LOCATION:Craft Room
CATEGORIES:Crafts
ATTACH;FMTTYPE=image/png:https://www.bayshoreseniors.ca/wp-content/uploads/2025/03/craft.png
END:VEVENT
BEGIN:VEVENT
DTSTART;TZID=America/Toronto:20251125T130000
DTEND;TZID=America/Toronto:20251125T150000
DTSTAMP:20260421T074225
CREATED:20250829T222115Z
LAST-MODIFIED:20251104T200750Z
UID:10000566-1764075600-1764082800@www.bayshoreseniors.ca
SUMMARY:Crafts
DESCRIPTION:The craft group meets on Tuesday afternoons at 1 PM from September to June\, except for the second Tuesday of each month. Members create various crafts for the Craft Bazaar and charitable causes. There are always experienced members ready to teach newcomers knitting or crocheting.
URL:https://www.bayshoreseniors.ca/event/crafts-2-2/2025-11-25/
LOCATION:Craft Room
CATEGORIES:Crafts
ATTACH;FMTTYPE=image/png:https://www.bayshoreseniors.ca/wp-content/uploads/2025/03/craft.png
END:VEVENT
BEGIN:VEVENT
DTSTART;TZID=America/Toronto:20251118T130000
DTEND;TZID=America/Toronto:20251118T150000
DTSTAMP:20260421T074225
CREATED:20250829T222115Z
LAST-MODIFIED:20251104T200750Z
UID:10000565-1763470800-1763478000@www.bayshoreseniors.ca
SUMMARY:Crafts
DESCRIPTION:The craft group meets on Tuesday afternoons at 1 PM from September to June\, except for the second Tuesday of each month. Members create various crafts for the Craft Bazaar and charitable causes. There are always experienced members ready to teach newcomers knitting or crocheting.
URL:https://www.bayshoreseniors.ca/event/crafts-2-2/2025-11-18/
LOCATION:Craft Room
CATEGORIES:Crafts
ATTACH;FMTTYPE=image/png:https://www.bayshoreseniors.ca/wp-content/uploads/2025/03/craft.png
END:VEVENT
BEGIN:VEVENT
DTSTART;TZID=America/Toronto:20251104T130000
DTEND;TZID=America/Toronto:20251104T150000
DTSTAMP:20260421T074225
CREATED:20250829T222115Z
LAST-MODIFIED:20251104T200750Z
UID:10000564-1762261200-1762268400@www.bayshoreseniors.ca
SUMMARY:Crafts
DESCRIPTION:The craft group meets on Tuesday afternoons at 1 PM from September to June\, except for the second Tuesday of each month. Members create various crafts for the Craft Bazaar and charitable causes. There are always experienced members ready to teach newcomers knitting or crocheting.
URL:https://www.bayshoreseniors.ca/event/crafts-2-2/2025-11-04/
LOCATION:Craft Room
CATEGORIES:Crafts
ATTACH;FMTTYPE=image/png:https://www.bayshoreseniors.ca/wp-content/uploads/2025/03/craft.png
END:VEVENT
BEGIN:VEVENT
DTSTART;TZID=America/Toronto:20251028T130000
DTEND;TZID=America/Toronto:20251028T150000
DTSTAMP:20260421T074225
CREATED:20250829T222115Z
LAST-MODIFIED:20251104T200750Z
UID:10000563-1761656400-1761663600@www.bayshoreseniors.ca
SUMMARY:Crafts
DESCRIPTION:The craft group meets on Tuesday afternoons at 1 PM from September to June\, except for the second Tuesday of each month. Members create various crafts for the Craft Bazaar and charitable causes. There are always experienced members ready to teach newcomers knitting or crocheting.
URL:https://www.bayshoreseniors.ca/event/crafts-2-2/2025-10-28/
LOCATION:Craft Room
CATEGORIES:Crafts
ATTACH;FMTTYPE=image/png:https://www.bayshoreseniors.ca/wp-content/uploads/2025/03/craft.png
END:VEVENT
BEGIN:VEVENT
DTSTART;TZID=America/Toronto:20251021T130000
DTEND;TZID=America/Toronto:20251021T150000
DTSTAMP:20260421T074225
CREATED:20250829T222115Z
LAST-MODIFIED:20251104T200750Z
UID:10000562-1761051600-1761058800@www.bayshoreseniors.ca
SUMMARY:Crafts
DESCRIPTION:The craft group meets on Tuesday afternoons at 1 PM from September to June\, except for the second Tuesday of each month. Members create various crafts for the Craft Bazaar and charitable causes. There are always experienced members ready to teach newcomers knitting or crocheting.
URL:https://www.bayshoreseniors.ca/event/crafts-2-2/2025-10-21/
LOCATION:Craft Room
CATEGORIES:Crafts
ATTACH;FMTTYPE=image/png:https://www.bayshoreseniors.ca/wp-content/uploads/2025/03/craft.png
END:VEVENT
BEGIN:VEVENT
DTSTART;TZID=America/Toronto:20251007T130000
DTEND;TZID=America/Toronto:20251007T150000
DTSTAMP:20260421T074225
CREATED:20250829T222115Z
LAST-MODIFIED:20251104T200750Z
UID:10000561-1759842000-1759849200@www.bayshoreseniors.ca
SUMMARY:Crafts
DESCRIPTION:The craft group meets on Tuesday afternoons at 1 PM from September to June\, except for the second Tuesday of each month. Members create various crafts for the Craft Bazaar and charitable causes. There are always experienced members ready to teach newcomers knitting or crocheting.
URL:https://www.bayshoreseniors.ca/event/crafts-2-2/2025-10-07/
LOCATION:Craft Room
CATEGORIES:Crafts
ATTACH;FMTTYPE=image/png:https://www.bayshoreseniors.ca/wp-content/uploads/2025/03/craft.png
END:VEVENT
BEGIN:VEVENT
DTSTART;TZID=America/Toronto:20250930T130000
DTEND;TZID=America/Toronto:20250930T150000
DTSTAMP:20260421T074225
CREATED:20250829T222115Z
LAST-MODIFIED:20251104T200750Z
UID:10000560-1759237200-1759244400@www.bayshoreseniors.ca
SUMMARY:Crafts
DESCRIPTION:The craft group meets on Tuesday afternoons at 1 PM from September to June\, except for the second Tuesday of each month. Members create various crafts for the Craft Bazaar and charitable causes. There are always experienced members ready to teach newcomers knitting or crocheting.
URL:https://www.bayshoreseniors.ca/event/crafts-2-2/2025-09-30/
LOCATION:Craft Room
CATEGORIES:Crafts
ATTACH;FMTTYPE=image/png:https://www.bayshoreseniors.ca/wp-content/uploads/2025/03/craft.png
END:VEVENT
BEGIN:VEVENT
DTSTART;TZID=America/Toronto:20250923T130000
DTEND;TZID=America/Toronto:20250923T150000
DTSTAMP:20260421T074225
CREATED:20250829T222115Z
LAST-MODIFIED:20251104T200750Z
UID:10000559-1758632400-1758639600@www.bayshoreseniors.ca
SUMMARY:Crafts
DESCRIPTION:The craft group meets on Tuesday afternoons at 1 PM from September to June\, except for the second Tuesday of each month. Members create various crafts for the Craft Bazaar and charitable causes. There are always experienced members ready to teach newcomers knitting or crocheting.
URL:https://www.bayshoreseniors.ca/event/crafts-2-2/2025-09-23/
LOCATION:Craft Room
CATEGORIES:Crafts
ATTACH;FMTTYPE=image/png:https://www.bayshoreseniors.ca/wp-content/uploads/2025/03/craft.png
END:VEVENT
BEGIN:VEVENT
DTSTART;TZID=America/Toronto:20250916T130000
DTEND;TZID=America/Toronto:20250916T150000
DTSTAMP:20260421T074225
CREATED:20250829T222115Z
LAST-MODIFIED:20251104T200750Z
UID:10000558-1758027600-1758034800@www.bayshoreseniors.ca
SUMMARY:Crafts
DESCRIPTION:The craft group meets on Tuesday afternoons at 1 PM from September to June\, except for the second Tuesday of each month. Members create various crafts for the Craft Bazaar and charitable causes. There are always experienced members ready to teach newcomers knitting or crocheting.
URL:https://www.bayshoreseniors.ca/event/crafts-2-2/2025-09-16/
LOCATION:Craft Room
CATEGORIES:Crafts
ATTACH;FMTTYPE=image/png:https://www.bayshoreseniors.ca/wp-content/uploads/2025/03/craft.png
END:VEVENT
END:VCALENDAR