BEGIN:VCALENDAR
VERSION:2.0
PRODID:-//Bayshore Seniors - ECPv6.15.18//NONSGML v1.0//EN
CALSCALE:GREGORIAN
METHOD:PUBLISH
X-WR-CALNAME:Bayshore Seniors
X-ORIGINAL-URL:https://www.bayshoreseniors.ca
X-WR-CALDESC:Events for Bayshore Seniors
REFRESH-INTERVAL;VALUE=DURATION:PT1H
X-Robots-Tag:noindex
X-PUBLISHED-TTL:PT1H
BEGIN:VTIMEZONE
TZID:America/Toronto
BEGIN:DAYLIGHT
TZOFFSETFROM:-0500
TZOFFSETTO:-0400
TZNAME:EDT
DTSTART:20280312T070000
END:DAYLIGHT
BEGIN:STANDARD
TZOFFSETFROM:-0400
TZOFFSETTO:-0500
TZNAME:EST
DTSTART:20281105T060000
END:STANDARD
BEGIN:DAYLIGHT
TZOFFSETFROM:-0500
TZOFFSETTO:-0400
TZNAME:EDT
DTSTART:20290311T070000
END:DAYLIGHT
BEGIN:STANDARD
TZOFFSETFROM:-0400
TZOFFSETTO:-0500
TZNAME:EST
DTSTART:20291104T060000
END:STANDARD
BEGIN:DAYLIGHT
TZOFFSETFROM:-0500
TZOFFSETTO:-0400
TZNAME:EDT
DTSTART:20300310T070000
END:DAYLIGHT
BEGIN:STANDARD
TZOFFSETFROM:-0400
TZOFFSETTO:-0500
TZNAME:EST
DTSTART:20301103T060000
END:STANDARD
END:VTIMEZONE
BEGIN:VEVENT
DTSTART;TZID=America/Toronto:20290227T130000
DTEND;TZID=America/Toronto:20290227T150000
DTSTAMP:20260422T184112
CREATED:20250829T222115Z
LAST-MODIFIED:20251104T200750Z
UID:10000697-1866891600-1866898800@www.bayshoreseniors.ca
SUMMARY:Crafts
DESCRIPTION:The craft group meets on Tuesday afternoons at 1 PM from September to June\, except for the second Tuesday of each month. Members create various crafts for the Craft Bazaar and charitable causes. There are always experienced members ready to teach newcomers knitting or crocheting.
URL:https://www.bayshoreseniors.ca/event/crafts-2-2/2029-02-27/
LOCATION:Craft Room
CATEGORIES:Crafts
ATTACH;FMTTYPE=image/png:https://www.bayshoreseniors.ca/wp-content/uploads/2025/03/craft.png
END:VEVENT
BEGIN:VEVENT
DTSTART;TZID=America/Toronto:20290306T130000
DTEND;TZID=America/Toronto:20290306T150000
DTSTAMP:20260422T184112
CREATED:20250829T222115Z
LAST-MODIFIED:20251104T200750Z
UID:10000698-1867496400-1867503600@www.bayshoreseniors.ca
SUMMARY:Crafts
DESCRIPTION:The craft group meets on Tuesday afternoons at 1 PM from September to June\, except for the second Tuesday of each month. Members create various crafts for the Craft Bazaar and charitable causes. There are always experienced members ready to teach newcomers knitting or crocheting.
URL:https://www.bayshoreseniors.ca/event/crafts-2-2/2029-03-06/
LOCATION:Craft Room
CATEGORIES:Crafts
ATTACH;FMTTYPE=image/png:https://www.bayshoreseniors.ca/wp-content/uploads/2025/03/craft.png
END:VEVENT
BEGIN:VEVENT
DTSTART;TZID=America/Toronto:20290320T130000
DTEND;TZID=America/Toronto:20290320T150000
DTSTAMP:20260422T184112
CREATED:20250829T222115Z
LAST-MODIFIED:20251104T200750Z
UID:10000699-1868706000-1868713200@www.bayshoreseniors.ca
SUMMARY:Crafts
DESCRIPTION:The craft group meets on Tuesday afternoons at 1 PM from September to June\, except for the second Tuesday of each month. Members create various crafts for the Craft Bazaar and charitable causes. There are always experienced members ready to teach newcomers knitting or crocheting.
URL:https://www.bayshoreseniors.ca/event/crafts-2-2/2029-03-20/
LOCATION:Craft Room
CATEGORIES:Crafts
ATTACH;FMTTYPE=image/png:https://www.bayshoreseniors.ca/wp-content/uploads/2025/03/craft.png
END:VEVENT
BEGIN:VEVENT
DTSTART;TZID=America/Toronto:20290327T130000
DTEND;TZID=America/Toronto:20290327T150000
DTSTAMP:20260422T184112
CREATED:20250829T222115Z
LAST-MODIFIED:20251104T200750Z
UID:10000700-1869310800-1869318000@www.bayshoreseniors.ca
SUMMARY:Crafts
DESCRIPTION:The craft group meets on Tuesday afternoons at 1 PM from September to June\, except for the second Tuesday of each month. Members create various crafts for the Craft Bazaar and charitable causes. There are always experienced members ready to teach newcomers knitting or crocheting.
URL:https://www.bayshoreseniors.ca/event/crafts-2-2/2029-03-27/
LOCATION:Craft Room
CATEGORIES:Crafts
ATTACH;FMTTYPE=image/png:https://www.bayshoreseniors.ca/wp-content/uploads/2025/03/craft.png
END:VEVENT
BEGIN:VEVENT
DTSTART;TZID=America/Toronto:20290403T130000
DTEND;TZID=America/Toronto:20290403T150000
DTSTAMP:20260422T184112
CREATED:20250829T222115Z
LAST-MODIFIED:20251104T200750Z
UID:10000701-1869915600-1869922800@www.bayshoreseniors.ca
SUMMARY:Crafts
DESCRIPTION:The craft group meets on Tuesday afternoons at 1 PM from September to June\, except for the second Tuesday of each month. Members create various crafts for the Craft Bazaar and charitable causes. There are always experienced members ready to teach newcomers knitting or crocheting.
URL:https://www.bayshoreseniors.ca/event/crafts-2-2/2029-04-03/
LOCATION:Craft Room
CATEGORIES:Crafts
ATTACH;FMTTYPE=image/png:https://www.bayshoreseniors.ca/wp-content/uploads/2025/03/craft.png
END:VEVENT
BEGIN:VEVENT
DTSTART;TZID=America/Toronto:20290417T130000
DTEND;TZID=America/Toronto:20290417T150000
DTSTAMP:20260422T184112
CREATED:20250829T222115Z
LAST-MODIFIED:20251104T200750Z
UID:10000702-1871125200-1871132400@www.bayshoreseniors.ca
SUMMARY:Crafts
DESCRIPTION:The craft group meets on Tuesday afternoons at 1 PM from September to June\, except for the second Tuesday of each month. Members create various crafts for the Craft Bazaar and charitable causes. There are always experienced members ready to teach newcomers knitting or crocheting.
URL:https://www.bayshoreseniors.ca/event/crafts-2-2/2029-04-17/
LOCATION:Craft Room
CATEGORIES:Crafts
ATTACH;FMTTYPE=image/png:https://www.bayshoreseniors.ca/wp-content/uploads/2025/03/craft.png
END:VEVENT
BEGIN:VEVENT
DTSTART;TZID=America/Toronto:20290424T130000
DTEND;TZID=America/Toronto:20290424T150000
DTSTAMP:20260422T184112
CREATED:20250829T222115Z
LAST-MODIFIED:20251104T200750Z
UID:10000703-1871730000-1871737200@www.bayshoreseniors.ca
SUMMARY:Crafts
DESCRIPTION:The craft group meets on Tuesday afternoons at 1 PM from September to June\, except for the second Tuesday of each month. Members create various crafts for the Craft Bazaar and charitable causes. There are always experienced members ready to teach newcomers knitting or crocheting.
URL:https://www.bayshoreseniors.ca/event/crafts-2-2/2029-04-24/
LOCATION:Craft Room
CATEGORIES:Crafts
ATTACH;FMTTYPE=image/png:https://www.bayshoreseniors.ca/wp-content/uploads/2025/03/craft.png
END:VEVENT
BEGIN:VEVENT
DTSTART;TZID=America/Toronto:20290501T130000
DTEND;TZID=America/Toronto:20290501T150000
DTSTAMP:20260422T184112
CREATED:20250829T222115Z
LAST-MODIFIED:20251104T200750Z
UID:10000704-1872334800-1872342000@www.bayshoreseniors.ca
SUMMARY:Crafts
DESCRIPTION:The craft group meets on Tuesday afternoons at 1 PM from September to June\, except for the second Tuesday of each month. Members create various crafts for the Craft Bazaar and charitable causes. There are always experienced members ready to teach newcomers knitting or crocheting.
URL:https://www.bayshoreseniors.ca/event/crafts-2-2/2029-05-01/
LOCATION:Craft Room
CATEGORIES:Crafts
ATTACH;FMTTYPE=image/png:https://www.bayshoreseniors.ca/wp-content/uploads/2025/03/craft.png
END:VEVENT
BEGIN:VEVENT
DTSTART;TZID=America/Toronto:20290515T130000
DTEND;TZID=America/Toronto:20290515T150000
DTSTAMP:20260422T184112
CREATED:20250829T222115Z
LAST-MODIFIED:20251104T200750Z
UID:10000705-1873544400-1873551600@www.bayshoreseniors.ca
SUMMARY:Crafts
DESCRIPTION:The craft group meets on Tuesday afternoons at 1 PM from September to June\, except for the second Tuesday of each month. Members create various crafts for the Craft Bazaar and charitable causes. There are always experienced members ready to teach newcomers knitting or crocheting.
URL:https://www.bayshoreseniors.ca/event/crafts-2-2/2029-05-15/
LOCATION:Craft Room
CATEGORIES:Crafts
ATTACH;FMTTYPE=image/png:https://www.bayshoreseniors.ca/wp-content/uploads/2025/03/craft.png
END:VEVENT
BEGIN:VEVENT
DTSTART;TZID=America/Toronto:20290522T130000
DTEND;TZID=America/Toronto:20290522T150000
DTSTAMP:20260422T184112
CREATED:20250829T222115Z
LAST-MODIFIED:20251104T200750Z
UID:10000706-1874149200-1874156400@www.bayshoreseniors.ca
SUMMARY:Crafts
DESCRIPTION:The craft group meets on Tuesday afternoons at 1 PM from September to June\, except for the second Tuesday of each month. Members create various crafts for the Craft Bazaar and charitable causes. There are always experienced members ready to teach newcomers knitting or crocheting.
URL:https://www.bayshoreseniors.ca/event/crafts-2-2/2029-05-22/
LOCATION:Craft Room
CATEGORIES:Crafts
ATTACH;FMTTYPE=image/png:https://www.bayshoreseniors.ca/wp-content/uploads/2025/03/craft.png
END:VEVENT
BEGIN:VEVENT
DTSTART;TZID=America/Toronto:20290529T130000
DTEND;TZID=America/Toronto:20290529T150000
DTSTAMP:20260422T184112
CREATED:20250829T222115Z
LAST-MODIFIED:20251104T200750Z
UID:10000707-1874754000-1874761200@www.bayshoreseniors.ca
SUMMARY:Crafts
DESCRIPTION:The craft group meets on Tuesday afternoons at 1 PM from September to June\, except for the second Tuesday of each month. Members create various crafts for the Craft Bazaar and charitable causes. There are always experienced members ready to teach newcomers knitting or crocheting.
URL:https://www.bayshoreseniors.ca/event/crafts-2-2/2029-05-29/
LOCATION:Craft Room
CATEGORIES:Crafts
ATTACH;FMTTYPE=image/png:https://www.bayshoreseniors.ca/wp-content/uploads/2025/03/craft.png
END:VEVENT
BEGIN:VEVENT
DTSTART;TZID=America/Toronto:20290605T130000
DTEND;TZID=America/Toronto:20290605T150000
DTSTAMP:20260422T184112
CREATED:20250829T222115Z
LAST-MODIFIED:20251104T200750Z
UID:10000708-1875358800-1875366000@www.bayshoreseniors.ca
SUMMARY:Crafts
DESCRIPTION:The craft group meets on Tuesday afternoons at 1 PM from September to June\, except for the second Tuesday of each month. Members create various crafts for the Craft Bazaar and charitable causes. There are always experienced members ready to teach newcomers knitting or crocheting.
URL:https://www.bayshoreseniors.ca/event/crafts-2-2/2029-06-05/
LOCATION:Craft Room
CATEGORIES:Crafts
ATTACH;FMTTYPE=image/png:https://www.bayshoreseniors.ca/wp-content/uploads/2025/03/craft.png
END:VEVENT
BEGIN:VEVENT
DTSTART;TZID=America/Toronto:20290619T130000
DTEND;TZID=America/Toronto:20290619T150000
DTSTAMP:20260422T184112
CREATED:20250829T222115Z
LAST-MODIFIED:20251104T200750Z
UID:10000709-1876568400-1876575600@www.bayshoreseniors.ca
SUMMARY:Crafts
DESCRIPTION:The craft group meets on Tuesday afternoons at 1 PM from September to June\, except for the second Tuesday of each month. Members create various crafts for the Craft Bazaar and charitable causes. There are always experienced members ready to teach newcomers knitting or crocheting.
URL:https://www.bayshoreseniors.ca/event/crafts-2-2/2029-06-19/
LOCATION:Craft Room
CATEGORIES:Crafts
ATTACH;FMTTYPE=image/png:https://www.bayshoreseniors.ca/wp-content/uploads/2025/03/craft.png
END:VEVENT
BEGIN:VEVENT
DTSTART;TZID=America/Toronto:20290626T130000
DTEND;TZID=America/Toronto:20290626T150000
DTSTAMP:20260422T184112
CREATED:20250829T222115Z
LAST-MODIFIED:20251104T200750Z
UID:10000710-1877173200-1877180400@www.bayshoreseniors.ca
SUMMARY:Crafts
DESCRIPTION:The craft group meets on Tuesday afternoons at 1 PM from September to June\, except for the second Tuesday of each month. Members create various crafts for the Craft Bazaar and charitable causes. There are always experienced members ready to teach newcomers knitting or crocheting.
URL:https://www.bayshoreseniors.ca/event/crafts-2-2/2029-06-26/
LOCATION:Craft Room
CATEGORIES:Crafts
ATTACH;FMTTYPE=image/png:https://www.bayshoreseniors.ca/wp-content/uploads/2025/03/craft.png
END:VEVENT
BEGIN:VEVENT
DTSTART;TZID=America/Toronto:20290703T130000
DTEND;TZID=America/Toronto:20290703T150000
DTSTAMP:20260422T184112
CREATED:20250829T222115Z
LAST-MODIFIED:20251104T200750Z
UID:10000711-1877778000-1877785200@www.bayshoreseniors.ca
SUMMARY:Crafts
DESCRIPTION:The craft group meets on Tuesday afternoons at 1 PM from September to June\, except for the second Tuesday of each month. Members create various crafts for the Craft Bazaar and charitable causes. There are always experienced members ready to teach newcomers knitting or crocheting.
URL:https://www.bayshoreseniors.ca/event/crafts-2-2/2029-07-03/
LOCATION:Craft Room
CATEGORIES:Crafts
ATTACH;FMTTYPE=image/png:https://www.bayshoreseniors.ca/wp-content/uploads/2025/03/craft.png
END:VEVENT
BEGIN:VEVENT
DTSTART;TZID=America/Toronto:20290717T130000
DTEND;TZID=America/Toronto:20290717T150000
DTSTAMP:20260422T184112
CREATED:20250829T222115Z
LAST-MODIFIED:20251104T200750Z
UID:10000712-1878987600-1878994800@www.bayshoreseniors.ca
SUMMARY:Crafts
DESCRIPTION:The craft group meets on Tuesday afternoons at 1 PM from September to June\, except for the second Tuesday of each month. Members create various crafts for the Craft Bazaar and charitable causes. There are always experienced members ready to teach newcomers knitting or crocheting.
URL:https://www.bayshoreseniors.ca/event/crafts-2-2/2029-07-17/
LOCATION:Craft Room
CATEGORIES:Crafts
ATTACH;FMTTYPE=image/png:https://www.bayshoreseniors.ca/wp-content/uploads/2025/03/craft.png
END:VEVENT
BEGIN:VEVENT
DTSTART;TZID=America/Toronto:20290724T130000
DTEND;TZID=America/Toronto:20290724T150000
DTSTAMP:20260422T184112
CREATED:20250829T222115Z
LAST-MODIFIED:20251104T200750Z
UID:10000713-1879592400-1879599600@www.bayshoreseniors.ca
SUMMARY:Crafts
DESCRIPTION:The craft group meets on Tuesday afternoons at 1 PM from September to June\, except for the second Tuesday of each month. Members create various crafts for the Craft Bazaar and charitable causes. There are always experienced members ready to teach newcomers knitting or crocheting.
URL:https://www.bayshoreseniors.ca/event/crafts-2-2/2029-07-24/
LOCATION:Craft Room
CATEGORIES:Crafts
ATTACH;FMTTYPE=image/png:https://www.bayshoreseniors.ca/wp-content/uploads/2025/03/craft.png
END:VEVENT
BEGIN:VEVENT
DTSTART;TZID=America/Toronto:20290731T130000
DTEND;TZID=America/Toronto:20290731T150000
DTSTAMP:20260422T184112
CREATED:20250829T222115Z
LAST-MODIFIED:20251104T200750Z
UID:10000714-1880197200-1880204400@www.bayshoreseniors.ca
SUMMARY:Crafts
DESCRIPTION:The craft group meets on Tuesday afternoons at 1 PM from September to June\, except for the second Tuesday of each month. Members create various crafts for the Craft Bazaar and charitable causes. There are always experienced members ready to teach newcomers knitting or crocheting.
URL:https://www.bayshoreseniors.ca/event/crafts-2-2/2029-07-31/
LOCATION:Craft Room
CATEGORIES:Crafts
ATTACH;FMTTYPE=image/png:https://www.bayshoreseniors.ca/wp-content/uploads/2025/03/craft.png
END:VEVENT
BEGIN:VEVENT
DTSTART;TZID=America/Toronto:20290807T130000
DTEND;TZID=America/Toronto:20290807T150000
DTSTAMP:20260422T184112
CREATED:20250829T222115Z
LAST-MODIFIED:20251104T200750Z
UID:10000715-1880802000-1880809200@www.bayshoreseniors.ca
SUMMARY:Crafts
DESCRIPTION:The craft group meets on Tuesday afternoons at 1 PM from September to June\, except for the second Tuesday of each month. Members create various crafts for the Craft Bazaar and charitable causes. There are always experienced members ready to teach newcomers knitting or crocheting.
URL:https://www.bayshoreseniors.ca/event/crafts-2-2/2029-08-07/
LOCATION:Craft Room
CATEGORIES:Crafts
ATTACH;FMTTYPE=image/png:https://www.bayshoreseniors.ca/wp-content/uploads/2025/03/craft.png
END:VEVENT
BEGIN:VEVENT
DTSTART;TZID=America/Toronto:20290821T130000
DTEND;TZID=America/Toronto:20290821T150000
DTSTAMP:20260422T184112
CREATED:20250829T222115Z
LAST-MODIFIED:20251104T200750Z
UID:10000716-1882011600-1882018800@www.bayshoreseniors.ca
SUMMARY:Crafts
DESCRIPTION:The craft group meets on Tuesday afternoons at 1 PM from September to June\, except for the second Tuesday of each month. Members create various crafts for the Craft Bazaar and charitable causes. There are always experienced members ready to teach newcomers knitting or crocheting.
URL:https://www.bayshoreseniors.ca/event/crafts-2-2/2029-08-21/
LOCATION:Craft Room
CATEGORIES:Crafts
ATTACH;FMTTYPE=image/png:https://www.bayshoreseniors.ca/wp-content/uploads/2025/03/craft.png
END:VEVENT
BEGIN:VEVENT
DTSTART;TZID=America/Toronto:20290828T130000
DTEND;TZID=America/Toronto:20290828T150000
DTSTAMP:20260422T184112
CREATED:20250829T222115Z
LAST-MODIFIED:20251104T200750Z
UID:10000717-1882616400-1882623600@www.bayshoreseniors.ca
SUMMARY:Crafts
DESCRIPTION:The craft group meets on Tuesday afternoons at 1 PM from September to June\, except for the second Tuesday of each month. Members create various crafts for the Craft Bazaar and charitable causes. There are always experienced members ready to teach newcomers knitting or crocheting.
URL:https://www.bayshoreseniors.ca/event/crafts-2-2/2029-08-28/
LOCATION:Craft Room
CATEGORIES:Crafts
ATTACH;FMTTYPE=image/png:https://www.bayshoreseniors.ca/wp-content/uploads/2025/03/craft.png
END:VEVENT
BEGIN:VEVENT
DTSTART;TZID=America/Toronto:20290904T130000
DTEND;TZID=America/Toronto:20290904T150000
DTSTAMP:20260422T184112
CREATED:20250829T222115Z
LAST-MODIFIED:20251104T200750Z
UID:10000718-1883221200-1883228400@www.bayshoreseniors.ca
SUMMARY:Crafts
DESCRIPTION:The craft group meets on Tuesday afternoons at 1 PM from September to June\, except for the second Tuesday of each month. Members create various crafts for the Craft Bazaar and charitable causes. There are always experienced members ready to teach newcomers knitting or crocheting.
URL:https://www.bayshoreseniors.ca/event/crafts-2-2/2029-09-04/
LOCATION:Craft Room
CATEGORIES:Crafts
ATTACH;FMTTYPE=image/png:https://www.bayshoreseniors.ca/wp-content/uploads/2025/03/craft.png
END:VEVENT
BEGIN:VEVENT
DTSTART;TZID=America/Toronto:20290918T130000
DTEND;TZID=America/Toronto:20290918T150000
DTSTAMP:20260422T184112
CREATED:20250829T222115Z
LAST-MODIFIED:20251104T200750Z
UID:10000719-1884430800-1884438000@www.bayshoreseniors.ca
SUMMARY:Crafts
DESCRIPTION:The craft group meets on Tuesday afternoons at 1 PM from September to June\, except for the second Tuesday of each month. Members create various crafts for the Craft Bazaar and charitable causes. There are always experienced members ready to teach newcomers knitting or crocheting.
URL:https://www.bayshoreseniors.ca/event/crafts-2-2/2029-09-18/
LOCATION:Craft Room
CATEGORIES:Crafts
ATTACH;FMTTYPE=image/png:https://www.bayshoreseniors.ca/wp-content/uploads/2025/03/craft.png
END:VEVENT
BEGIN:VEVENT
DTSTART;TZID=America/Toronto:20290925T130000
DTEND;TZID=America/Toronto:20290925T150000
DTSTAMP:20260422T184112
CREATED:20250829T222115Z
LAST-MODIFIED:20251104T200750Z
UID:10000720-1885035600-1885042800@www.bayshoreseniors.ca
SUMMARY:Crafts
DESCRIPTION:The craft group meets on Tuesday afternoons at 1 PM from September to June\, except for the second Tuesday of each month. Members create various crafts for the Craft Bazaar and charitable causes. There are always experienced members ready to teach newcomers knitting or crocheting.
URL:https://www.bayshoreseniors.ca/event/crafts-2-2/2029-09-25/
LOCATION:Craft Room
CATEGORIES:Crafts
ATTACH;FMTTYPE=image/png:https://www.bayshoreseniors.ca/wp-content/uploads/2025/03/craft.png
END:VEVENT
BEGIN:VEVENT
DTSTART;TZID=America/Toronto:20291002T130000
DTEND;TZID=America/Toronto:20291002T150000
DTSTAMP:20260422T184112
CREATED:20250829T222115Z
LAST-MODIFIED:20251104T200750Z
UID:10000721-1885640400-1885647600@www.bayshoreseniors.ca
SUMMARY:Crafts
DESCRIPTION:The craft group meets on Tuesday afternoons at 1 PM from September to June\, except for the second Tuesday of each month. Members create various crafts for the Craft Bazaar and charitable causes. There are always experienced members ready to teach newcomers knitting or crocheting.
URL:https://www.bayshoreseniors.ca/event/crafts-2-2/2029-10-02/
LOCATION:Craft Room
CATEGORIES:Crafts
ATTACH;FMTTYPE=image/png:https://www.bayshoreseniors.ca/wp-content/uploads/2025/03/craft.png
END:VEVENT
BEGIN:VEVENT
DTSTART;TZID=America/Toronto:20291016T130000
DTEND;TZID=America/Toronto:20291016T150000
DTSTAMP:20260422T184112
CREATED:20250829T222115Z
LAST-MODIFIED:20251104T200750Z
UID:10000722-1886850000-1886857200@www.bayshoreseniors.ca
SUMMARY:Crafts
DESCRIPTION:The craft group meets on Tuesday afternoons at 1 PM from September to June\, except for the second Tuesday of each month. Members create various crafts for the Craft Bazaar and charitable causes. There are always experienced members ready to teach newcomers knitting or crocheting.
URL:https://www.bayshoreseniors.ca/event/crafts-2-2/2029-10-16/
LOCATION:Craft Room
CATEGORIES:Crafts
ATTACH;FMTTYPE=image/png:https://www.bayshoreseniors.ca/wp-content/uploads/2025/03/craft.png
END:VEVENT
BEGIN:VEVENT
DTSTART;TZID=America/Toronto:20291023T130000
DTEND;TZID=America/Toronto:20291023T150000
DTSTAMP:20260422T184112
CREATED:20250829T222115Z
LAST-MODIFIED:20251104T200750Z
UID:10000723-1887454800-1887462000@www.bayshoreseniors.ca
SUMMARY:Crafts
DESCRIPTION:The craft group meets on Tuesday afternoons at 1 PM from September to June\, except for the second Tuesday of each month. Members create various crafts for the Craft Bazaar and charitable causes. There are always experienced members ready to teach newcomers knitting or crocheting.
URL:https://www.bayshoreseniors.ca/event/crafts-2-2/2029-10-23/
LOCATION:Craft Room
CATEGORIES:Crafts
ATTACH;FMTTYPE=image/png:https://www.bayshoreseniors.ca/wp-content/uploads/2025/03/craft.png
END:VEVENT
BEGIN:VEVENT
DTSTART;TZID=America/Toronto:20291030T130000
DTEND;TZID=America/Toronto:20291030T150000
DTSTAMP:20260422T184112
CREATED:20250829T222115Z
LAST-MODIFIED:20251104T200750Z
UID:10000724-1888059600-1888066800@www.bayshoreseniors.ca
SUMMARY:Crafts
DESCRIPTION:The craft group meets on Tuesday afternoons at 1 PM from September to June\, except for the second Tuesday of each month. Members create various crafts for the Craft Bazaar and charitable causes. There are always experienced members ready to teach newcomers knitting or crocheting.
URL:https://www.bayshoreseniors.ca/event/crafts-2-2/2029-10-30/
LOCATION:Craft Room
CATEGORIES:Crafts
ATTACH;FMTTYPE=image/png:https://www.bayshoreseniors.ca/wp-content/uploads/2025/03/craft.png
END:VEVENT
BEGIN:VEVENT
DTSTART;TZID=America/Toronto:20291106T130000
DTEND;TZID=America/Toronto:20291106T150000
DTSTAMP:20260422T184112
CREATED:20250829T222115Z
LAST-MODIFIED:20251104T200750Z
UID:10000725-1888664400-1888671600@www.bayshoreseniors.ca
SUMMARY:Crafts
DESCRIPTION:The craft group meets on Tuesday afternoons at 1 PM from September to June\, except for the second Tuesday of each month. Members create various crafts for the Craft Bazaar and charitable causes. There are always experienced members ready to teach newcomers knitting or crocheting.
URL:https://www.bayshoreseniors.ca/event/crafts-2-2/2029-11-06/
LOCATION:Craft Room
CATEGORIES:Crafts
ATTACH;FMTTYPE=image/png:https://www.bayshoreseniors.ca/wp-content/uploads/2025/03/craft.png
END:VEVENT
BEGIN:VEVENT
DTSTART;TZID=America/Toronto:20291120T130000
DTEND;TZID=America/Toronto:20291120T150000
DTSTAMP:20260422T184112
CREATED:20250829T222115Z
LAST-MODIFIED:20251104T200750Z
UID:10000726-1889874000-1889881200@www.bayshoreseniors.ca
SUMMARY:Crafts
DESCRIPTION:The craft group meets on Tuesday afternoons at 1 PM from September to June\, except for the second Tuesday of each month. Members create various crafts for the Craft Bazaar and charitable causes. There are always experienced members ready to teach newcomers knitting or crocheting.
URL:https://www.bayshoreseniors.ca/event/crafts-2-2/2029-11-20/
LOCATION:Craft Room
CATEGORIES:Crafts
ATTACH;FMTTYPE=image/png:https://www.bayshoreseniors.ca/wp-content/uploads/2025/03/craft.png
END:VEVENT
END:VCALENDAR