BEGIN:VCALENDAR
VERSION:2.0
PRODID:-//Bayshore Seniors - ECPv6.15.18//NONSGML v1.0//EN
CALSCALE:GREGORIAN
METHOD:PUBLISH
X-WR-CALNAME:Bayshore Seniors
X-ORIGINAL-URL:https://www.bayshoreseniors.ca
X-WR-CALDESC:Events for Bayshore Seniors
REFRESH-INTERVAL;VALUE=DURATION:PT1H
X-Robots-Tag:noindex
X-PUBLISHED-TTL:PT1H
BEGIN:VTIMEZONE
TZID:America/Toronto
BEGIN:DAYLIGHT
TZOFFSETFROM:-0500
TZOFFSETTO:-0400
TZNAME:EDT
DTSTART:20280312T070000
END:DAYLIGHT
BEGIN:STANDARD
TZOFFSETFROM:-0400
TZOFFSETTO:-0500
TZNAME:EST
DTSTART:20281105T060000
END:STANDARD
BEGIN:DAYLIGHT
TZOFFSETFROM:-0500
TZOFFSETTO:-0400
TZNAME:EDT
DTSTART:20290311T070000
END:DAYLIGHT
BEGIN:STANDARD
TZOFFSETFROM:-0400
TZOFFSETTO:-0500
TZNAME:EST
DTSTART:20291104T060000
END:STANDARD
BEGIN:DAYLIGHT
TZOFFSETFROM:-0500
TZOFFSETTO:-0400
TZNAME:EDT
DTSTART:20300310T070000
END:DAYLIGHT
BEGIN:STANDARD
TZOFFSETFROM:-0400
TZOFFSETTO:-0500
TZNAME:EST
DTSTART:20301103T060000
END:STANDARD
BEGIN:DAYLIGHT
TZOFFSETFROM:-0500
TZOFFSETTO:-0400
TZNAME:EDT
DTSTART:20310309T070000
END:DAYLIGHT
BEGIN:STANDARD
TZOFFSETFROM:-0400
TZOFFSETTO:-0500
TZNAME:EST
DTSTART:20311102T060000
END:STANDARD
END:VTIMEZONE
BEGIN:VEVENT
DTSTART;TZID=America/Toronto:20291127T130000
DTEND;TZID=America/Toronto:20291127T150000
DTSTAMP:20260422T190559
CREATED:20250829T222115Z
LAST-MODIFIED:20251104T200750Z
UID:10000727-1890478800-1890486000@www.bayshoreseniors.ca
SUMMARY:Crafts
DESCRIPTION:The craft group meets on Tuesday afternoons at 1 PM from September to June\, except for the second Tuesday of each month. Members create various crafts for the Craft Bazaar and charitable causes. There are always experienced members ready to teach newcomers knitting or crocheting.
URL:https://www.bayshoreseniors.ca/event/crafts-2-2/2029-11-27/
LOCATION:Craft Room
CATEGORIES:Crafts
ATTACH;FMTTYPE=image/png:https://www.bayshoreseniors.ca/wp-content/uploads/2025/03/craft.png
END:VEVENT
BEGIN:VEVENT
DTSTART;TZID=America/Toronto:20291204T130000
DTEND;TZID=America/Toronto:20291204T150000
DTSTAMP:20260422T190559
CREATED:20250829T222115Z
LAST-MODIFIED:20251104T200750Z
UID:10000728-1891083600-1891090800@www.bayshoreseniors.ca
SUMMARY:Crafts
DESCRIPTION:The craft group meets on Tuesday afternoons at 1 PM from September to June\, except for the second Tuesday of each month. Members create various crafts for the Craft Bazaar and charitable causes. There are always experienced members ready to teach newcomers knitting or crocheting.
URL:https://www.bayshoreseniors.ca/event/crafts-2-2/2029-12-04/
LOCATION:Craft Room
CATEGORIES:Crafts
ATTACH;FMTTYPE=image/png:https://www.bayshoreseniors.ca/wp-content/uploads/2025/03/craft.png
END:VEVENT
BEGIN:VEVENT
DTSTART;TZID=America/Toronto:20291218T130000
DTEND;TZID=America/Toronto:20291218T150000
DTSTAMP:20260422T190559
CREATED:20250829T222115Z
LAST-MODIFIED:20251104T200750Z
UID:10000729-1892293200-1892300400@www.bayshoreseniors.ca
SUMMARY:Crafts
DESCRIPTION:The craft group meets on Tuesday afternoons at 1 PM from September to June\, except for the second Tuesday of each month. Members create various crafts for the Craft Bazaar and charitable causes. There are always experienced members ready to teach newcomers knitting or crocheting.
URL:https://www.bayshoreseniors.ca/event/crafts-2-2/2029-12-18/
LOCATION:Craft Room
CATEGORIES:Crafts
ATTACH;FMTTYPE=image/png:https://www.bayshoreseniors.ca/wp-content/uploads/2025/03/craft.png
END:VEVENT
BEGIN:VEVENT
DTSTART;TZID=America/Toronto:20291225T130000
DTEND;TZID=America/Toronto:20291225T150000
DTSTAMP:20260422T190559
CREATED:20250829T222115Z
LAST-MODIFIED:20251104T200750Z
UID:10000730-1892898000-1892905200@www.bayshoreseniors.ca
SUMMARY:Crafts
DESCRIPTION:The craft group meets on Tuesday afternoons at 1 PM from September to June\, except for the second Tuesday of each month. Members create various crafts for the Craft Bazaar and charitable causes. There are always experienced members ready to teach newcomers knitting or crocheting.
URL:https://www.bayshoreseniors.ca/event/crafts-2-2/2029-12-25/
LOCATION:Craft Room
CATEGORIES:Crafts
ATTACH;FMTTYPE=image/png:https://www.bayshoreseniors.ca/wp-content/uploads/2025/03/craft.png
END:VEVENT
BEGIN:VEVENT
DTSTART;TZID=America/Toronto:20300101T130000
DTEND;TZID=America/Toronto:20300101T150000
DTSTAMP:20260422T190559
CREATED:20250829T222115Z
LAST-MODIFIED:20251104T200750Z
UID:10000731-1893502800-1893510000@www.bayshoreseniors.ca
SUMMARY:Crafts
DESCRIPTION:The craft group meets on Tuesday afternoons at 1 PM from September to June\, except for the second Tuesday of each month. Members create various crafts for the Craft Bazaar and charitable causes. There are always experienced members ready to teach newcomers knitting or crocheting.
URL:https://www.bayshoreseniors.ca/event/crafts-2-2/2030-01-01/
LOCATION:Craft Room
CATEGORIES:Crafts
ATTACH;FMTTYPE=image/png:https://www.bayshoreseniors.ca/wp-content/uploads/2025/03/craft.png
END:VEVENT
BEGIN:VEVENT
DTSTART;TZID=America/Toronto:20300115T130000
DTEND;TZID=America/Toronto:20300115T150000
DTSTAMP:20260422T190559
CREATED:20250829T222115Z
LAST-MODIFIED:20251104T200750Z
UID:10000732-1894712400-1894719600@www.bayshoreseniors.ca
SUMMARY:Crafts
DESCRIPTION:The craft group meets on Tuesday afternoons at 1 PM from September to June\, except for the second Tuesday of each month. Members create various crafts for the Craft Bazaar and charitable causes. There are always experienced members ready to teach newcomers knitting or crocheting.
URL:https://www.bayshoreseniors.ca/event/crafts-2-2/2030-01-15/
LOCATION:Craft Room
CATEGORIES:Crafts
ATTACH;FMTTYPE=image/png:https://www.bayshoreseniors.ca/wp-content/uploads/2025/03/craft.png
END:VEVENT
BEGIN:VEVENT
DTSTART;TZID=America/Toronto:20300122T130000
DTEND;TZID=America/Toronto:20300122T150000
DTSTAMP:20260422T190559
CREATED:20250829T222115Z
LAST-MODIFIED:20251104T200750Z
UID:10000733-1895317200-1895324400@www.bayshoreseniors.ca
SUMMARY:Crafts
DESCRIPTION:The craft group meets on Tuesday afternoons at 1 PM from September to June\, except for the second Tuesday of each month. Members create various crafts for the Craft Bazaar and charitable causes. There are always experienced members ready to teach newcomers knitting or crocheting.
URL:https://www.bayshoreseniors.ca/event/crafts-2-2/2030-01-22/
LOCATION:Craft Room
CATEGORIES:Crafts
ATTACH;FMTTYPE=image/png:https://www.bayshoreseniors.ca/wp-content/uploads/2025/03/craft.png
END:VEVENT
BEGIN:VEVENT
DTSTART;TZID=America/Toronto:20300129T130000
DTEND;TZID=America/Toronto:20300129T150000
DTSTAMP:20260422T190559
CREATED:20250829T222115Z
LAST-MODIFIED:20251104T200750Z
UID:10000734-1895922000-1895929200@www.bayshoreseniors.ca
SUMMARY:Crafts
DESCRIPTION:The craft group meets on Tuesday afternoons at 1 PM from September to June\, except for the second Tuesday of each month. Members create various crafts for the Craft Bazaar and charitable causes. There are always experienced members ready to teach newcomers knitting or crocheting.
URL:https://www.bayshoreseniors.ca/event/crafts-2-2/2030-01-29/
LOCATION:Craft Room
CATEGORIES:Crafts
ATTACH;FMTTYPE=image/png:https://www.bayshoreseniors.ca/wp-content/uploads/2025/03/craft.png
END:VEVENT
BEGIN:VEVENT
DTSTART;TZID=America/Toronto:20300205T130000
DTEND;TZID=America/Toronto:20300205T150000
DTSTAMP:20260422T190559
CREATED:20250829T222115Z
LAST-MODIFIED:20251104T200750Z
UID:10000735-1896526800-1896534000@www.bayshoreseniors.ca
SUMMARY:Crafts
DESCRIPTION:The craft group meets on Tuesday afternoons at 1 PM from September to June\, except for the second Tuesday of each month. Members create various crafts for the Craft Bazaar and charitable causes. There are always experienced members ready to teach newcomers knitting or crocheting.
URL:https://www.bayshoreseniors.ca/event/crafts-2-2/2030-02-05/
LOCATION:Craft Room
CATEGORIES:Crafts
ATTACH;FMTTYPE=image/png:https://www.bayshoreseniors.ca/wp-content/uploads/2025/03/craft.png
END:VEVENT
BEGIN:VEVENT
DTSTART;TZID=America/Toronto:20300219T130000
DTEND;TZID=America/Toronto:20300219T150000
DTSTAMP:20260422T190559
CREATED:20250829T222115Z
LAST-MODIFIED:20251104T200750Z
UID:10000736-1897736400-1897743600@www.bayshoreseniors.ca
SUMMARY:Crafts
DESCRIPTION:The craft group meets on Tuesday afternoons at 1 PM from September to June\, except for the second Tuesday of each month. Members create various crafts for the Craft Bazaar and charitable causes. There are always experienced members ready to teach newcomers knitting or crocheting.
URL:https://www.bayshoreseniors.ca/event/crafts-2-2/2030-02-19/
LOCATION:Craft Room
CATEGORIES:Crafts
ATTACH;FMTTYPE=image/png:https://www.bayshoreseniors.ca/wp-content/uploads/2025/03/craft.png
END:VEVENT
BEGIN:VEVENT
DTSTART;TZID=America/Toronto:20300226T130000
DTEND;TZID=America/Toronto:20300226T150000
DTSTAMP:20260422T190559
CREATED:20250829T222115Z
LAST-MODIFIED:20251104T200750Z
UID:10000737-1898341200-1898348400@www.bayshoreseniors.ca
SUMMARY:Crafts
DESCRIPTION:The craft group meets on Tuesday afternoons at 1 PM from September to June\, except for the second Tuesday of each month. Members create various crafts for the Craft Bazaar and charitable causes. There are always experienced members ready to teach newcomers knitting or crocheting.
URL:https://www.bayshoreseniors.ca/event/crafts-2-2/2030-02-26/
LOCATION:Craft Room
CATEGORIES:Crafts
ATTACH;FMTTYPE=image/png:https://www.bayshoreseniors.ca/wp-content/uploads/2025/03/craft.png
END:VEVENT
BEGIN:VEVENT
DTSTART;TZID=America/Toronto:20300305T130000
DTEND;TZID=America/Toronto:20300305T150000
DTSTAMP:20260422T190559
CREATED:20250829T222115Z
LAST-MODIFIED:20251104T200750Z
UID:10000738-1898946000-1898953200@www.bayshoreseniors.ca
SUMMARY:Crafts
DESCRIPTION:The craft group meets on Tuesday afternoons at 1 PM from September to June\, except for the second Tuesday of each month. Members create various crafts for the Craft Bazaar and charitable causes. There are always experienced members ready to teach newcomers knitting or crocheting.
URL:https://www.bayshoreseniors.ca/event/crafts-2-2/2030-03-05/
LOCATION:Craft Room
CATEGORIES:Crafts
ATTACH;FMTTYPE=image/png:https://www.bayshoreseniors.ca/wp-content/uploads/2025/03/craft.png
END:VEVENT
BEGIN:VEVENT
DTSTART;TZID=America/Toronto:20300319T130000
DTEND;TZID=America/Toronto:20300319T150000
DTSTAMP:20260422T190559
CREATED:20250829T222115Z
LAST-MODIFIED:20251104T200750Z
UID:10000739-1900155600-1900162800@www.bayshoreseniors.ca
SUMMARY:Crafts
DESCRIPTION:The craft group meets on Tuesday afternoons at 1 PM from September to June\, except for the second Tuesday of each month. Members create various crafts for the Craft Bazaar and charitable causes. There are always experienced members ready to teach newcomers knitting or crocheting.
URL:https://www.bayshoreseniors.ca/event/crafts-2-2/2030-03-19/
LOCATION:Craft Room
CATEGORIES:Crafts
ATTACH;FMTTYPE=image/png:https://www.bayshoreseniors.ca/wp-content/uploads/2025/03/craft.png
END:VEVENT
BEGIN:VEVENT
DTSTART;TZID=America/Toronto:20300326T130000
DTEND;TZID=America/Toronto:20300326T150000
DTSTAMP:20260422T190559
CREATED:20250829T222115Z
LAST-MODIFIED:20251104T200750Z
UID:10000740-1900760400-1900767600@www.bayshoreseniors.ca
SUMMARY:Crafts
DESCRIPTION:The craft group meets on Tuesday afternoons at 1 PM from September to June\, except for the second Tuesday of each month. Members create various crafts for the Craft Bazaar and charitable causes. There are always experienced members ready to teach newcomers knitting or crocheting.
URL:https://www.bayshoreseniors.ca/event/crafts-2-2/2030-03-26/
LOCATION:Craft Room
CATEGORIES:Crafts
ATTACH;FMTTYPE=image/png:https://www.bayshoreseniors.ca/wp-content/uploads/2025/03/craft.png
END:VEVENT
BEGIN:VEVENT
DTSTART;TZID=America/Toronto:20300402T130000
DTEND;TZID=America/Toronto:20300402T150000
DTSTAMP:20260422T190559
CREATED:20250829T222115Z
LAST-MODIFIED:20251104T200750Z
UID:10000741-1901365200-1901372400@www.bayshoreseniors.ca
SUMMARY:Crafts
DESCRIPTION:The craft group meets on Tuesday afternoons at 1 PM from September to June\, except for the second Tuesday of each month. Members create various crafts for the Craft Bazaar and charitable causes. There are always experienced members ready to teach newcomers knitting or crocheting.
URL:https://www.bayshoreseniors.ca/event/crafts-2-2/2030-04-02/
LOCATION:Craft Room
CATEGORIES:Crafts
ATTACH;FMTTYPE=image/png:https://www.bayshoreseniors.ca/wp-content/uploads/2025/03/craft.png
END:VEVENT
BEGIN:VEVENT
DTSTART;TZID=America/Toronto:20300416T130000
DTEND;TZID=America/Toronto:20300416T150000
DTSTAMP:20260422T190559
CREATED:20250829T222115Z
LAST-MODIFIED:20251104T200750Z
UID:10000742-1902574800-1902582000@www.bayshoreseniors.ca
SUMMARY:Crafts
DESCRIPTION:The craft group meets on Tuesday afternoons at 1 PM from September to June\, except for the second Tuesday of each month. Members create various crafts for the Craft Bazaar and charitable causes. There are always experienced members ready to teach newcomers knitting or crocheting.
URL:https://www.bayshoreseniors.ca/event/crafts-2-2/2030-04-16/
LOCATION:Craft Room
CATEGORIES:Crafts
ATTACH;FMTTYPE=image/png:https://www.bayshoreseniors.ca/wp-content/uploads/2025/03/craft.png
END:VEVENT
BEGIN:VEVENT
DTSTART;TZID=America/Toronto:20300423T130000
DTEND;TZID=America/Toronto:20300423T150000
DTSTAMP:20260422T190559
CREATED:20250829T222115Z
LAST-MODIFIED:20251104T200750Z
UID:10000743-1903179600-1903186800@www.bayshoreseniors.ca
SUMMARY:Crafts
DESCRIPTION:The craft group meets on Tuesday afternoons at 1 PM from September to June\, except for the second Tuesday of each month. Members create various crafts for the Craft Bazaar and charitable causes. There are always experienced members ready to teach newcomers knitting or crocheting.
URL:https://www.bayshoreseniors.ca/event/crafts-2-2/2030-04-23/
LOCATION:Craft Room
CATEGORIES:Crafts
ATTACH;FMTTYPE=image/png:https://www.bayshoreseniors.ca/wp-content/uploads/2025/03/craft.png
END:VEVENT
BEGIN:VEVENT
DTSTART;TZID=America/Toronto:20300430T130000
DTEND;TZID=America/Toronto:20300430T150000
DTSTAMP:20260422T190559
CREATED:20250829T222115Z
LAST-MODIFIED:20251104T200750Z
UID:10000744-1903784400-1903791600@www.bayshoreseniors.ca
SUMMARY:Crafts
DESCRIPTION:The craft group meets on Tuesday afternoons at 1 PM from September to June\, except for the second Tuesday of each month. Members create various crafts for the Craft Bazaar and charitable causes. There are always experienced members ready to teach newcomers knitting or crocheting.
URL:https://www.bayshoreseniors.ca/event/crafts-2-2/2030-04-30/
LOCATION:Craft Room
CATEGORIES:Crafts
ATTACH;FMTTYPE=image/png:https://www.bayshoreseniors.ca/wp-content/uploads/2025/03/craft.png
END:VEVENT
BEGIN:VEVENT
DTSTART;TZID=America/Toronto:20300507T130000
DTEND;TZID=America/Toronto:20300507T150000
DTSTAMP:20260422T190559
CREATED:20250829T222115Z
LAST-MODIFIED:20251104T200750Z
UID:10000745-1904389200-1904396400@www.bayshoreseniors.ca
SUMMARY:Crafts
DESCRIPTION:The craft group meets on Tuesday afternoons at 1 PM from September to June\, except for the second Tuesday of each month. Members create various crafts for the Craft Bazaar and charitable causes. There are always experienced members ready to teach newcomers knitting or crocheting.
URL:https://www.bayshoreseniors.ca/event/crafts-2-2/2030-05-07/
LOCATION:Craft Room
CATEGORIES:Crafts
ATTACH;FMTTYPE=image/png:https://www.bayshoreseniors.ca/wp-content/uploads/2025/03/craft.png
END:VEVENT
BEGIN:VEVENT
DTSTART;TZID=America/Toronto:20300521T130000
DTEND;TZID=America/Toronto:20300521T150000
DTSTAMP:20260422T190559
CREATED:20250829T222115Z
LAST-MODIFIED:20251104T200750Z
UID:10000746-1905598800-1905606000@www.bayshoreseniors.ca
SUMMARY:Crafts
DESCRIPTION:The craft group meets on Tuesday afternoons at 1 PM from September to June\, except for the second Tuesday of each month. Members create various crafts for the Craft Bazaar and charitable causes. There are always experienced members ready to teach newcomers knitting or crocheting.
URL:https://www.bayshoreseniors.ca/event/crafts-2-2/2030-05-21/
LOCATION:Craft Room
CATEGORIES:Crafts
ATTACH;FMTTYPE=image/png:https://www.bayshoreseniors.ca/wp-content/uploads/2025/03/craft.png
END:VEVENT
BEGIN:VEVENT
DTSTART;TZID=America/Toronto:20300528T130000
DTEND;TZID=America/Toronto:20300528T150000
DTSTAMP:20260422T190559
CREATED:20250829T222115Z
LAST-MODIFIED:20251104T200750Z
UID:10000747-1906203600-1906210800@www.bayshoreseniors.ca
SUMMARY:Crafts
DESCRIPTION:The craft group meets on Tuesday afternoons at 1 PM from September to June\, except for the second Tuesday of each month. Members create various crafts for the Craft Bazaar and charitable causes. There are always experienced members ready to teach newcomers knitting or crocheting.
URL:https://www.bayshoreseniors.ca/event/crafts-2-2/2030-05-28/
LOCATION:Craft Room
CATEGORIES:Crafts
ATTACH;FMTTYPE=image/png:https://www.bayshoreseniors.ca/wp-content/uploads/2025/03/craft.png
END:VEVENT
BEGIN:VEVENT
DTSTART;TZID=America/Toronto:20300604T130000
DTEND;TZID=America/Toronto:20300604T150000
DTSTAMP:20260422T190559
CREATED:20250829T222115Z
LAST-MODIFIED:20251104T200750Z
UID:10000748-1906808400-1906815600@www.bayshoreseniors.ca
SUMMARY:Crafts
DESCRIPTION:The craft group meets on Tuesday afternoons at 1 PM from September to June\, except for the second Tuesday of each month. Members create various crafts for the Craft Bazaar and charitable causes. There are always experienced members ready to teach newcomers knitting or crocheting.
URL:https://www.bayshoreseniors.ca/event/crafts-2-2/2030-06-04/
LOCATION:Craft Room
CATEGORIES:Crafts
ATTACH;FMTTYPE=image/png:https://www.bayshoreseniors.ca/wp-content/uploads/2025/03/craft.png
END:VEVENT
BEGIN:VEVENT
DTSTART;TZID=America/Toronto:20300618T130000
DTEND;TZID=America/Toronto:20300618T150000
DTSTAMP:20260422T190559
CREATED:20250829T222115Z
LAST-MODIFIED:20251104T200750Z
UID:10000749-1908018000-1908025200@www.bayshoreseniors.ca
SUMMARY:Crafts
DESCRIPTION:The craft group meets on Tuesday afternoons at 1 PM from September to June\, except for the second Tuesday of each month. Members create various crafts for the Craft Bazaar and charitable causes. There are always experienced members ready to teach newcomers knitting or crocheting.
URL:https://www.bayshoreseniors.ca/event/crafts-2-2/2030-06-18/
LOCATION:Craft Room
CATEGORIES:Crafts
ATTACH;FMTTYPE=image/png:https://www.bayshoreseniors.ca/wp-content/uploads/2025/03/craft.png
END:VEVENT
BEGIN:VEVENT
DTSTART;TZID=America/Toronto:20300625T130000
DTEND;TZID=America/Toronto:20300625T150000
DTSTAMP:20260422T190559
CREATED:20250829T222115Z
LAST-MODIFIED:20251104T200750Z
UID:10000750-1908622800-1908630000@www.bayshoreseniors.ca
SUMMARY:Crafts
DESCRIPTION:The craft group meets on Tuesday afternoons at 1 PM from September to June\, except for the second Tuesday of each month. Members create various crafts for the Craft Bazaar and charitable causes. There are always experienced members ready to teach newcomers knitting or crocheting.
URL:https://www.bayshoreseniors.ca/event/crafts-2-2/2030-06-25/
LOCATION:Craft Room
CATEGORIES:Crafts
ATTACH;FMTTYPE=image/png:https://www.bayshoreseniors.ca/wp-content/uploads/2025/03/craft.png
END:VEVENT
BEGIN:VEVENT
DTSTART;TZID=America/Toronto:20300702T130000
DTEND;TZID=America/Toronto:20300702T150000
DTSTAMP:20260422T190559
CREATED:20250829T222115Z
LAST-MODIFIED:20251104T200750Z
UID:10000751-1909227600-1909234800@www.bayshoreseniors.ca
SUMMARY:Crafts
DESCRIPTION:The craft group meets on Tuesday afternoons at 1 PM from September to June\, except for the second Tuesday of each month. Members create various crafts for the Craft Bazaar and charitable causes. There are always experienced members ready to teach newcomers knitting or crocheting.
URL:https://www.bayshoreseniors.ca/event/crafts-2-2/2030-07-02/
LOCATION:Craft Room
CATEGORIES:Crafts
ATTACH;FMTTYPE=image/png:https://www.bayshoreseniors.ca/wp-content/uploads/2025/03/craft.png
END:VEVENT
BEGIN:VEVENT
DTSTART;TZID=America/Toronto:20300716T130000
DTEND;TZID=America/Toronto:20300716T150000
DTSTAMP:20260422T190559
CREATED:20250829T222115Z
LAST-MODIFIED:20251104T200750Z
UID:10000752-1910437200-1910444400@www.bayshoreseniors.ca
SUMMARY:Crafts
DESCRIPTION:The craft group meets on Tuesday afternoons at 1 PM from September to June\, except for the second Tuesday of each month. Members create various crafts for the Craft Bazaar and charitable causes. There are always experienced members ready to teach newcomers knitting or crocheting.
URL:https://www.bayshoreseniors.ca/event/crafts-2-2/2030-07-16/
LOCATION:Craft Room
CATEGORIES:Crafts
ATTACH;FMTTYPE=image/png:https://www.bayshoreseniors.ca/wp-content/uploads/2025/03/craft.png
END:VEVENT
BEGIN:VEVENT
DTSTART;TZID=America/Toronto:20300723T130000
DTEND;TZID=America/Toronto:20300723T150000
DTSTAMP:20260422T190559
CREATED:20250829T222115Z
LAST-MODIFIED:20251104T200750Z
UID:10000753-1911042000-1911049200@www.bayshoreseniors.ca
SUMMARY:Crafts
DESCRIPTION:The craft group meets on Tuesday afternoons at 1 PM from September to June\, except for the second Tuesday of each month. Members create various crafts for the Craft Bazaar and charitable causes. There are always experienced members ready to teach newcomers knitting or crocheting.
URL:https://www.bayshoreseniors.ca/event/crafts-2-2/2030-07-23/
LOCATION:Craft Room
CATEGORIES:Crafts
ATTACH;FMTTYPE=image/png:https://www.bayshoreseniors.ca/wp-content/uploads/2025/03/craft.png
END:VEVENT
BEGIN:VEVENT
DTSTART;TZID=America/Toronto:20300730T130000
DTEND;TZID=America/Toronto:20300730T150000
DTSTAMP:20260422T190559
CREATED:20250829T222115Z
LAST-MODIFIED:20251104T200750Z
UID:10000754-1911646800-1911654000@www.bayshoreseniors.ca
SUMMARY:Crafts
DESCRIPTION:The craft group meets on Tuesday afternoons at 1 PM from September to June\, except for the second Tuesday of each month. Members create various crafts for the Craft Bazaar and charitable causes. There are always experienced members ready to teach newcomers knitting or crocheting.
URL:https://www.bayshoreseniors.ca/event/crafts-2-2/2030-07-30/
LOCATION:Craft Room
CATEGORIES:Crafts
ATTACH;FMTTYPE=image/png:https://www.bayshoreseniors.ca/wp-content/uploads/2025/03/craft.png
END:VEVENT
BEGIN:VEVENT
DTSTART;TZID=America/Toronto:20300806T130000
DTEND;TZID=America/Toronto:20300806T150000
DTSTAMP:20260422T190559
CREATED:20250829T222115Z
LAST-MODIFIED:20251104T200750Z
UID:10000755-1912251600-1912258800@www.bayshoreseniors.ca
SUMMARY:Crafts
DESCRIPTION:The craft group meets on Tuesday afternoons at 1 PM from September to June\, except for the second Tuesday of each month. Members create various crafts for the Craft Bazaar and charitable causes. There are always experienced members ready to teach newcomers knitting or crocheting.
URL:https://www.bayshoreseniors.ca/event/crafts-2-2/2030-08-06/
LOCATION:Craft Room
CATEGORIES:Crafts
ATTACH;FMTTYPE=image/png:https://www.bayshoreseniors.ca/wp-content/uploads/2025/03/craft.png
END:VEVENT
BEGIN:VEVENT
DTSTART;TZID=America/Toronto:20300820T130000
DTEND;TZID=America/Toronto:20300820T150000
DTSTAMP:20260422T190559
CREATED:20250829T222115Z
LAST-MODIFIED:20251104T200750Z
UID:10000756-1913461200-1913468400@www.bayshoreseniors.ca
SUMMARY:Crafts
DESCRIPTION:The craft group meets on Tuesday afternoons at 1 PM from September to June\, except for the second Tuesday of each month. Members create various crafts for the Craft Bazaar and charitable causes. There are always experienced members ready to teach newcomers knitting or crocheting.
URL:https://www.bayshoreseniors.ca/event/crafts-2-2/2030-08-20/
LOCATION:Craft Room
CATEGORIES:Crafts
ATTACH;FMTTYPE=image/png:https://www.bayshoreseniors.ca/wp-content/uploads/2025/03/craft.png
END:VEVENT
END:VCALENDAR