BEGIN:VCALENDAR
VERSION:2.0
PRODID:-//Bayshore Seniors - ECPv6.15.18//NONSGML v1.0//EN
CALSCALE:GREGORIAN
METHOD:PUBLISH
X-WR-CALNAME:Bayshore Seniors
X-ORIGINAL-URL:https://www.bayshoreseniors.ca
X-WR-CALDESC:Events for Bayshore Seniors
REFRESH-INTERVAL;VALUE=DURATION:PT1H
X-Robots-Tag:noindex
X-PUBLISHED-TTL:PT1H
BEGIN:VTIMEZONE
TZID:America/Toronto
BEGIN:DAYLIGHT
TZOFFSETFROM:-0500
TZOFFSETTO:-0400
TZNAME:EDT
DTSTART:20250309T070000
END:DAYLIGHT
BEGIN:STANDARD
TZOFFSETFROM:-0400
TZOFFSETTO:-0500
TZNAME:EST
DTSTART:20251102T060000
END:STANDARD
BEGIN:DAYLIGHT
TZOFFSETFROM:-0500
TZOFFSETTO:-0400
TZNAME:EDT
DTSTART:20260308T070000
END:DAYLIGHT
BEGIN:STANDARD
TZOFFSETFROM:-0400
TZOFFSETTO:-0500
TZNAME:EST
DTSTART:20261101T060000
END:STANDARD
BEGIN:DAYLIGHT
TZOFFSETFROM:-0500
TZOFFSETTO:-0400
TZNAME:EDT
DTSTART:20270314T070000
END:DAYLIGHT
BEGIN:STANDARD
TZOFFSETFROM:-0400
TZOFFSETTO:-0500
TZNAME:EST
DTSTART:20271107T060000
END:STANDARD
BEGIN:DAYLIGHT
TZOFFSETFROM:-0500
TZOFFSETTO:-0400
TZNAME:EDT
DTSTART:20280312T070000
END:DAYLIGHT
BEGIN:STANDARD
TZOFFSETFROM:-0400
TZOFFSETTO:-0500
TZNAME:EST
DTSTART:20281105T060000
END:STANDARD
END:VTIMEZONE
BEGIN:VEVENT
DTSTART;TZID=America/Toronto:20260630T130000
DTEND;TZID=America/Toronto:20260630T150000
DTSTAMP:20260421T173007
CREATED:20250829T222115Z
LAST-MODIFIED:20251104T200750Z
UID:10000590-1782824400-1782831600@www.bayshoreseniors.ca
SUMMARY:Crafts
DESCRIPTION:The craft group meets on Tuesday afternoons at 1 PM from September to June\, except for the second Tuesday of each month. Members create various crafts for the Craft Bazaar and charitable causes. There are always experienced members ready to teach newcomers knitting or crocheting.
URL:https://www.bayshoreseniors.ca/event/crafts-2-2/2026-06-30/
LOCATION:Craft Room
CATEGORIES:Crafts
ATTACH;FMTTYPE=image/png:https://www.bayshoreseniors.ca/wp-content/uploads/2025/03/craft.png
END:VEVENT
BEGIN:VEVENT
DTSTART;TZID=America/Toronto:20260707T130000
DTEND;TZID=America/Toronto:20260707T150000
DTSTAMP:20260421T173007
CREATED:20250829T222115Z
LAST-MODIFIED:20251104T200750Z
UID:10000591-1783429200-1783436400@www.bayshoreseniors.ca
SUMMARY:Crafts
DESCRIPTION:The craft group meets on Tuesday afternoons at 1 PM from September to June\, except for the second Tuesday of each month. Members create various crafts for the Craft Bazaar and charitable causes. There are always experienced members ready to teach newcomers knitting or crocheting.
URL:https://www.bayshoreseniors.ca/event/crafts-2-2/2026-07-07/
LOCATION:Craft Room
CATEGORIES:Crafts
ATTACH;FMTTYPE=image/png:https://www.bayshoreseniors.ca/wp-content/uploads/2025/03/craft.png
END:VEVENT
BEGIN:VEVENT
DTSTART;TZID=America/Toronto:20260721T130000
DTEND;TZID=America/Toronto:20260721T150000
DTSTAMP:20260421T173007
CREATED:20250829T222115Z
LAST-MODIFIED:20251104T200750Z
UID:10000592-1784638800-1784646000@www.bayshoreseniors.ca
SUMMARY:Crafts
DESCRIPTION:The craft group meets on Tuesday afternoons at 1 PM from September to June\, except for the second Tuesday of each month. Members create various crafts for the Craft Bazaar and charitable causes. There are always experienced members ready to teach newcomers knitting or crocheting.
URL:https://www.bayshoreseniors.ca/event/crafts-2-2/2026-07-21/
LOCATION:Craft Room
CATEGORIES:Crafts
ATTACH;FMTTYPE=image/png:https://www.bayshoreseniors.ca/wp-content/uploads/2025/03/craft.png
END:VEVENT
BEGIN:VEVENT
DTSTART;TZID=America/Toronto:20260728T130000
DTEND;TZID=America/Toronto:20260728T150000
DTSTAMP:20260421T173007
CREATED:20250829T222115Z
LAST-MODIFIED:20251104T200750Z
UID:10000593-1785243600-1785250800@www.bayshoreseniors.ca
SUMMARY:Crafts
DESCRIPTION:The craft group meets on Tuesday afternoons at 1 PM from September to June\, except for the second Tuesday of each month. Members create various crafts for the Craft Bazaar and charitable causes. There are always experienced members ready to teach newcomers knitting or crocheting.
URL:https://www.bayshoreseniors.ca/event/crafts-2-2/2026-07-28/
LOCATION:Craft Room
CATEGORIES:Crafts
ATTACH;FMTTYPE=image/png:https://www.bayshoreseniors.ca/wp-content/uploads/2025/03/craft.png
END:VEVENT
BEGIN:VEVENT
DTSTART;TZID=America/Toronto:20260804T130000
DTEND;TZID=America/Toronto:20260804T150000
DTSTAMP:20260421T173007
CREATED:20250829T222115Z
LAST-MODIFIED:20251104T200750Z
UID:10000594-1785848400-1785855600@www.bayshoreseniors.ca
SUMMARY:Crafts
DESCRIPTION:The craft group meets on Tuesday afternoons at 1 PM from September to June\, except for the second Tuesday of each month. Members create various crafts for the Craft Bazaar and charitable causes. There are always experienced members ready to teach newcomers knitting or crocheting.
URL:https://www.bayshoreseniors.ca/event/crafts-2-2/2026-08-04/
LOCATION:Craft Room
CATEGORIES:Crafts
ATTACH;FMTTYPE=image/png:https://www.bayshoreseniors.ca/wp-content/uploads/2025/03/craft.png
END:VEVENT
BEGIN:VEVENT
DTSTART;TZID=America/Toronto:20260818T130000
DTEND;TZID=America/Toronto:20260818T150000
DTSTAMP:20260421T173007
CREATED:20250829T222115Z
LAST-MODIFIED:20251104T200750Z
UID:10000595-1787058000-1787065200@www.bayshoreseniors.ca
SUMMARY:Crafts
DESCRIPTION:The craft group meets on Tuesday afternoons at 1 PM from September to June\, except for the second Tuesday of each month. Members create various crafts for the Craft Bazaar and charitable causes. There are always experienced members ready to teach newcomers knitting or crocheting.
URL:https://www.bayshoreseniors.ca/event/crafts-2-2/2026-08-18/
LOCATION:Craft Room
CATEGORIES:Crafts
ATTACH;FMTTYPE=image/png:https://www.bayshoreseniors.ca/wp-content/uploads/2025/03/craft.png
END:VEVENT
BEGIN:VEVENT
DTSTART;TZID=America/Toronto:20260825T130000
DTEND;TZID=America/Toronto:20260825T150000
DTSTAMP:20260421T173007
CREATED:20250829T222115Z
LAST-MODIFIED:20251104T200750Z
UID:10000596-1787662800-1787670000@www.bayshoreseniors.ca
SUMMARY:Crafts
DESCRIPTION:The craft group meets on Tuesday afternoons at 1 PM from September to June\, except for the second Tuesday of each month. Members create various crafts for the Craft Bazaar and charitable causes. There are always experienced members ready to teach newcomers knitting or crocheting.
URL:https://www.bayshoreseniors.ca/event/crafts-2-2/2026-08-25/
LOCATION:Craft Room
CATEGORIES:Crafts
ATTACH;FMTTYPE=image/png:https://www.bayshoreseniors.ca/wp-content/uploads/2025/03/craft.png
END:VEVENT
BEGIN:VEVENT
DTSTART;TZID=America/Toronto:20260901T130000
DTEND;TZID=America/Toronto:20260901T150000
DTSTAMP:20260421T173007
CREATED:20250829T222115Z
LAST-MODIFIED:20251104T200750Z
UID:10000597-1788267600-1788274800@www.bayshoreseniors.ca
SUMMARY:Crafts
DESCRIPTION:The craft group meets on Tuesday afternoons at 1 PM from September to June\, except for the second Tuesday of each month. Members create various crafts for the Craft Bazaar and charitable causes. There are always experienced members ready to teach newcomers knitting or crocheting.
URL:https://www.bayshoreseniors.ca/event/crafts-2-2/2026-09-01/
LOCATION:Craft Room
CATEGORIES:Crafts
ATTACH;FMTTYPE=image/png:https://www.bayshoreseniors.ca/wp-content/uploads/2025/03/craft.png
END:VEVENT
BEGIN:VEVENT
DTSTART;TZID=America/Toronto:20260915T130000
DTEND;TZID=America/Toronto:20260915T150000
DTSTAMP:20260421T173007
CREATED:20250829T222115Z
LAST-MODIFIED:20251104T200750Z
UID:10000598-1789477200-1789484400@www.bayshoreseniors.ca
SUMMARY:Crafts
DESCRIPTION:The craft group meets on Tuesday afternoons at 1 PM from September to June\, except for the second Tuesday of each month. Members create various crafts for the Craft Bazaar and charitable causes. There are always experienced members ready to teach newcomers knitting or crocheting.
URL:https://www.bayshoreseniors.ca/event/crafts-2-2/2026-09-15/
LOCATION:Craft Room
CATEGORIES:Crafts
ATTACH;FMTTYPE=image/png:https://www.bayshoreseniors.ca/wp-content/uploads/2025/03/craft.png
END:VEVENT
BEGIN:VEVENT
DTSTART;TZID=America/Toronto:20260922T130000
DTEND;TZID=America/Toronto:20260922T150000
DTSTAMP:20260421T173007
CREATED:20250829T222115Z
LAST-MODIFIED:20251104T200750Z
UID:10000599-1790082000-1790089200@www.bayshoreseniors.ca
SUMMARY:Crafts
DESCRIPTION:The craft group meets on Tuesday afternoons at 1 PM from September to June\, except for the second Tuesday of each month. Members create various crafts for the Craft Bazaar and charitable causes. There are always experienced members ready to teach newcomers knitting or crocheting.
URL:https://www.bayshoreseniors.ca/event/crafts-2-2/2026-09-22/
LOCATION:Craft Room
CATEGORIES:Crafts
ATTACH;FMTTYPE=image/png:https://www.bayshoreseniors.ca/wp-content/uploads/2025/03/craft.png
END:VEVENT
BEGIN:VEVENT
DTSTART;TZID=America/Toronto:20260929T130000
DTEND;TZID=America/Toronto:20260929T150000
DTSTAMP:20260421T173007
CREATED:20250829T222115Z
LAST-MODIFIED:20251104T200750Z
UID:10000600-1790686800-1790694000@www.bayshoreseniors.ca
SUMMARY:Crafts
DESCRIPTION:The craft group meets on Tuesday afternoons at 1 PM from September to June\, except for the second Tuesday of each month. Members create various crafts for the Craft Bazaar and charitable causes. There are always experienced members ready to teach newcomers knitting or crocheting.
URL:https://www.bayshoreseniors.ca/event/crafts-2-2/2026-09-29/
LOCATION:Craft Room
CATEGORIES:Crafts
ATTACH;FMTTYPE=image/png:https://www.bayshoreseniors.ca/wp-content/uploads/2025/03/craft.png
END:VEVENT
BEGIN:VEVENT
DTSTART;TZID=America/Toronto:20261006T130000
DTEND;TZID=America/Toronto:20261006T150000
DTSTAMP:20260421T173007
CREATED:20250829T222115Z
LAST-MODIFIED:20251104T200750Z
UID:10000601-1791291600-1791298800@www.bayshoreseniors.ca
SUMMARY:Crafts
DESCRIPTION:The craft group meets on Tuesday afternoons at 1 PM from September to June\, except for the second Tuesday of each month. Members create various crafts for the Craft Bazaar and charitable causes. There are always experienced members ready to teach newcomers knitting or crocheting.
URL:https://www.bayshoreseniors.ca/event/crafts-2-2/2026-10-06/
LOCATION:Craft Room
CATEGORIES:Crafts
ATTACH;FMTTYPE=image/png:https://www.bayshoreseniors.ca/wp-content/uploads/2025/03/craft.png
END:VEVENT
BEGIN:VEVENT
DTSTART;TZID=America/Toronto:20261020T130000
DTEND;TZID=America/Toronto:20261020T150000
DTSTAMP:20260421T173007
CREATED:20250829T222115Z
LAST-MODIFIED:20251104T200750Z
UID:10000602-1792501200-1792508400@www.bayshoreseniors.ca
SUMMARY:Crafts
DESCRIPTION:The craft group meets on Tuesday afternoons at 1 PM from September to June\, except for the second Tuesday of each month. Members create various crafts for the Craft Bazaar and charitable causes. There are always experienced members ready to teach newcomers knitting or crocheting.
URL:https://www.bayshoreseniors.ca/event/crafts-2-2/2026-10-20/
LOCATION:Craft Room
CATEGORIES:Crafts
ATTACH;FMTTYPE=image/png:https://www.bayshoreseniors.ca/wp-content/uploads/2025/03/craft.png
END:VEVENT
BEGIN:VEVENT
DTSTART;TZID=America/Toronto:20261027T130000
DTEND;TZID=America/Toronto:20261027T150000
DTSTAMP:20260421T173007
CREATED:20250829T222115Z
LAST-MODIFIED:20251104T200750Z
UID:10000603-1793106000-1793113200@www.bayshoreseniors.ca
SUMMARY:Crafts
DESCRIPTION:The craft group meets on Tuesday afternoons at 1 PM from September to June\, except for the second Tuesday of each month. Members create various crafts for the Craft Bazaar and charitable causes. There are always experienced members ready to teach newcomers knitting or crocheting.
URL:https://www.bayshoreseniors.ca/event/crafts-2-2/2026-10-27/
LOCATION:Craft Room
CATEGORIES:Crafts
ATTACH;FMTTYPE=image/png:https://www.bayshoreseniors.ca/wp-content/uploads/2025/03/craft.png
END:VEVENT
BEGIN:VEVENT
DTSTART;TZID=America/Toronto:20261103T130000
DTEND;TZID=America/Toronto:20261103T150000
DTSTAMP:20260421T173007
CREATED:20250829T222115Z
LAST-MODIFIED:20251104T200750Z
UID:10000604-1793710800-1793718000@www.bayshoreseniors.ca
SUMMARY:Crafts
DESCRIPTION:The craft group meets on Tuesday afternoons at 1 PM from September to June\, except for the second Tuesday of each month. Members create various crafts for the Craft Bazaar and charitable causes. There are always experienced members ready to teach newcomers knitting or crocheting.
URL:https://www.bayshoreseniors.ca/event/crafts-2-2/2026-11-03/
LOCATION:Craft Room
CATEGORIES:Crafts
ATTACH;FMTTYPE=image/png:https://www.bayshoreseniors.ca/wp-content/uploads/2025/03/craft.png
END:VEVENT
BEGIN:VEVENT
DTSTART;TZID=America/Toronto:20261117T130000
DTEND;TZID=America/Toronto:20261117T150000
DTSTAMP:20260421T173007
CREATED:20250829T222115Z
LAST-MODIFIED:20251104T200750Z
UID:10000605-1794920400-1794927600@www.bayshoreseniors.ca
SUMMARY:Crafts
DESCRIPTION:The craft group meets on Tuesday afternoons at 1 PM from September to June\, except for the second Tuesday of each month. Members create various crafts for the Craft Bazaar and charitable causes. There are always experienced members ready to teach newcomers knitting or crocheting.
URL:https://www.bayshoreseniors.ca/event/crafts-2-2/2026-11-17/
LOCATION:Craft Room
CATEGORIES:Crafts
ATTACH;FMTTYPE=image/png:https://www.bayshoreseniors.ca/wp-content/uploads/2025/03/craft.png
END:VEVENT
BEGIN:VEVENT
DTSTART;TZID=America/Toronto:20261124T130000
DTEND;TZID=America/Toronto:20261124T150000
DTSTAMP:20260421T173007
CREATED:20250829T222115Z
LAST-MODIFIED:20251104T200750Z
UID:10000606-1795525200-1795532400@www.bayshoreseniors.ca
SUMMARY:Crafts
DESCRIPTION:The craft group meets on Tuesday afternoons at 1 PM from September to June\, except for the second Tuesday of each month. Members create various crafts for the Craft Bazaar and charitable causes. There are always experienced members ready to teach newcomers knitting or crocheting.
URL:https://www.bayshoreseniors.ca/event/crafts-2-2/2026-11-24/
LOCATION:Craft Room
CATEGORIES:Crafts
ATTACH;FMTTYPE=image/png:https://www.bayshoreseniors.ca/wp-content/uploads/2025/03/craft.png
END:VEVENT
BEGIN:VEVENT
DTSTART;TZID=America/Toronto:20261201T130000
DTEND;TZID=America/Toronto:20261201T150000
DTSTAMP:20260421T173007
CREATED:20250829T222115Z
LAST-MODIFIED:20251104T200750Z
UID:10000607-1796130000-1796137200@www.bayshoreseniors.ca
SUMMARY:Crafts
DESCRIPTION:The craft group meets on Tuesday afternoons at 1 PM from September to June\, except for the second Tuesday of each month. Members create various crafts for the Craft Bazaar and charitable causes. There are always experienced members ready to teach newcomers knitting or crocheting.
URL:https://www.bayshoreseniors.ca/event/crafts-2-2/2026-12-01/
LOCATION:Craft Room
CATEGORIES:Crafts
ATTACH;FMTTYPE=image/png:https://www.bayshoreseniors.ca/wp-content/uploads/2025/03/craft.png
END:VEVENT
BEGIN:VEVENT
DTSTART;TZID=America/Toronto:20261215T130000
DTEND;TZID=America/Toronto:20261215T150000
DTSTAMP:20260421T173007
CREATED:20250829T222115Z
LAST-MODIFIED:20251104T200750Z
UID:10000608-1797339600-1797346800@www.bayshoreseniors.ca
SUMMARY:Crafts
DESCRIPTION:The craft group meets on Tuesday afternoons at 1 PM from September to June\, except for the second Tuesday of each month. Members create various crafts for the Craft Bazaar and charitable causes. There are always experienced members ready to teach newcomers knitting or crocheting.
URL:https://www.bayshoreseniors.ca/event/crafts-2-2/2026-12-15/
LOCATION:Craft Room
CATEGORIES:Crafts
ATTACH;FMTTYPE=image/png:https://www.bayshoreseniors.ca/wp-content/uploads/2025/03/craft.png
END:VEVENT
BEGIN:VEVENT
DTSTART;TZID=America/Toronto:20261222T130000
DTEND;TZID=America/Toronto:20261222T150000
DTSTAMP:20260421T173007
CREATED:20250829T222115Z
LAST-MODIFIED:20251104T200750Z
UID:10000609-1797944400-1797951600@www.bayshoreseniors.ca
SUMMARY:Crafts
DESCRIPTION:The craft group meets on Tuesday afternoons at 1 PM from September to June\, except for the second Tuesday of each month. Members create various crafts for the Craft Bazaar and charitable causes. There are always experienced members ready to teach newcomers knitting or crocheting.
URL:https://www.bayshoreseniors.ca/event/crafts-2-2/2026-12-22/
LOCATION:Craft Room
CATEGORIES:Crafts
ATTACH;FMTTYPE=image/png:https://www.bayshoreseniors.ca/wp-content/uploads/2025/03/craft.png
END:VEVENT
BEGIN:VEVENT
DTSTART;TZID=America/Toronto:20261229T130000
DTEND;TZID=America/Toronto:20261229T150000
DTSTAMP:20260421T173007
CREATED:20250829T222115Z
LAST-MODIFIED:20251104T200750Z
UID:10000610-1798549200-1798556400@www.bayshoreseniors.ca
SUMMARY:Crafts
DESCRIPTION:The craft group meets on Tuesday afternoons at 1 PM from September to June\, except for the second Tuesday of each month. Members create various crafts for the Craft Bazaar and charitable causes. There are always experienced members ready to teach newcomers knitting or crocheting.
URL:https://www.bayshoreseniors.ca/event/crafts-2-2/2026-12-29/
LOCATION:Craft Room
CATEGORIES:Crafts
ATTACH;FMTTYPE=image/png:https://www.bayshoreseniors.ca/wp-content/uploads/2025/03/craft.png
END:VEVENT
BEGIN:VEVENT
DTSTART;TZID=America/Toronto:20270105T130000
DTEND;TZID=America/Toronto:20270105T150000
DTSTAMP:20260421T173007
CREATED:20250829T222115Z
LAST-MODIFIED:20251104T200750Z
UID:10000611-1799154000-1799161200@www.bayshoreseniors.ca
SUMMARY:Crafts
DESCRIPTION:The craft group meets on Tuesday afternoons at 1 PM from September to June\, except for the second Tuesday of each month. Members create various crafts for the Craft Bazaar and charitable causes. There are always experienced members ready to teach newcomers knitting or crocheting.
URL:https://www.bayshoreseniors.ca/event/crafts-2-2/2027-01-05/
LOCATION:Craft Room
CATEGORIES:Crafts
ATTACH;FMTTYPE=image/png:https://www.bayshoreseniors.ca/wp-content/uploads/2025/03/craft.png
END:VEVENT
BEGIN:VEVENT
DTSTART;TZID=America/Toronto:20270119T130000
DTEND;TZID=America/Toronto:20270119T150000
DTSTAMP:20260421T173007
CREATED:20250829T222115Z
LAST-MODIFIED:20251104T200750Z
UID:10000612-1800363600-1800370800@www.bayshoreseniors.ca
SUMMARY:Crafts
DESCRIPTION:The craft group meets on Tuesday afternoons at 1 PM from September to June\, except for the second Tuesday of each month. Members create various crafts for the Craft Bazaar and charitable causes. There are always experienced members ready to teach newcomers knitting or crocheting.
URL:https://www.bayshoreseniors.ca/event/crafts-2-2/2027-01-19/
LOCATION:Craft Room
CATEGORIES:Crafts
ATTACH;FMTTYPE=image/png:https://www.bayshoreseniors.ca/wp-content/uploads/2025/03/craft.png
END:VEVENT
BEGIN:VEVENT
DTSTART;TZID=America/Toronto:20270126T130000
DTEND;TZID=America/Toronto:20270126T150000
DTSTAMP:20260421T173007
CREATED:20250829T222115Z
LAST-MODIFIED:20251104T200750Z
UID:10000613-1800968400-1800975600@www.bayshoreseniors.ca
SUMMARY:Crafts
DESCRIPTION:The craft group meets on Tuesday afternoons at 1 PM from September to June\, except for the second Tuesday of each month. Members create various crafts for the Craft Bazaar and charitable causes. There are always experienced members ready to teach newcomers knitting or crocheting.
URL:https://www.bayshoreseniors.ca/event/crafts-2-2/2027-01-26/
LOCATION:Craft Room
CATEGORIES:Crafts
ATTACH;FMTTYPE=image/png:https://www.bayshoreseniors.ca/wp-content/uploads/2025/03/craft.png
END:VEVENT
BEGIN:VEVENT
DTSTART;TZID=America/Toronto:20270202T130000
DTEND;TZID=America/Toronto:20270202T150000
DTSTAMP:20260421T173007
CREATED:20250829T222115Z
LAST-MODIFIED:20251104T200750Z
UID:10000614-1801573200-1801580400@www.bayshoreseniors.ca
SUMMARY:Crafts
DESCRIPTION:The craft group meets on Tuesday afternoons at 1 PM from September to June\, except for the second Tuesday of each month. Members create various crafts for the Craft Bazaar and charitable causes. There are always experienced members ready to teach newcomers knitting or crocheting.
URL:https://www.bayshoreseniors.ca/event/crafts-2-2/2027-02-02/
LOCATION:Craft Room
CATEGORIES:Crafts
ATTACH;FMTTYPE=image/png:https://www.bayshoreseniors.ca/wp-content/uploads/2025/03/craft.png
END:VEVENT
BEGIN:VEVENT
DTSTART;TZID=America/Toronto:20270216T130000
DTEND;TZID=America/Toronto:20270216T150000
DTSTAMP:20260421T173007
CREATED:20250829T222115Z
LAST-MODIFIED:20251104T200750Z
UID:10000615-1802782800-1802790000@www.bayshoreseniors.ca
SUMMARY:Crafts
DESCRIPTION:The craft group meets on Tuesday afternoons at 1 PM from September to June\, except for the second Tuesday of each month. Members create various crafts for the Craft Bazaar and charitable causes. There are always experienced members ready to teach newcomers knitting or crocheting.
URL:https://www.bayshoreseniors.ca/event/crafts-2-2/2027-02-16/
LOCATION:Craft Room
CATEGORIES:Crafts
ATTACH;FMTTYPE=image/png:https://www.bayshoreseniors.ca/wp-content/uploads/2025/03/craft.png
END:VEVENT
BEGIN:VEVENT
DTSTART;TZID=America/Toronto:20270223T130000
DTEND;TZID=America/Toronto:20270223T150000
DTSTAMP:20260421T173007
CREATED:20250829T222115Z
LAST-MODIFIED:20251104T200750Z
UID:10000616-1803387600-1803394800@www.bayshoreseniors.ca
SUMMARY:Crafts
DESCRIPTION:The craft group meets on Tuesday afternoons at 1 PM from September to June\, except for the second Tuesday of each month. Members create various crafts for the Craft Bazaar and charitable causes. There are always experienced members ready to teach newcomers knitting or crocheting.
URL:https://www.bayshoreseniors.ca/event/crafts-2-2/2027-02-23/
LOCATION:Craft Room
CATEGORIES:Crafts
ATTACH;FMTTYPE=image/png:https://www.bayshoreseniors.ca/wp-content/uploads/2025/03/craft.png
END:VEVENT
BEGIN:VEVENT
DTSTART;TZID=America/Toronto:20270302T130000
DTEND;TZID=America/Toronto:20270302T150000
DTSTAMP:20260421T173007
CREATED:20250829T222115Z
LAST-MODIFIED:20251104T200750Z
UID:10000617-1803992400-1803999600@www.bayshoreseniors.ca
SUMMARY:Crafts
DESCRIPTION:The craft group meets on Tuesday afternoons at 1 PM from September to June\, except for the second Tuesday of each month. Members create various crafts for the Craft Bazaar and charitable causes. There are always experienced members ready to teach newcomers knitting or crocheting.
URL:https://www.bayshoreseniors.ca/event/crafts-2-2/2027-03-02/
LOCATION:Craft Room
CATEGORIES:Crafts
ATTACH;FMTTYPE=image/png:https://www.bayshoreseniors.ca/wp-content/uploads/2025/03/craft.png
END:VEVENT
BEGIN:VEVENT
DTSTART;TZID=America/Toronto:20270316T130000
DTEND;TZID=America/Toronto:20270316T150000
DTSTAMP:20260421T173007
CREATED:20250829T222115Z
LAST-MODIFIED:20251104T200750Z
UID:10000618-1805202000-1805209200@www.bayshoreseniors.ca
SUMMARY:Crafts
DESCRIPTION:The craft group meets on Tuesday afternoons at 1 PM from September to June\, except for the second Tuesday of each month. Members create various crafts for the Craft Bazaar and charitable causes. There are always experienced members ready to teach newcomers knitting or crocheting.
URL:https://www.bayshoreseniors.ca/event/crafts-2-2/2027-03-16/
LOCATION:Craft Room
CATEGORIES:Crafts
ATTACH;FMTTYPE=image/png:https://www.bayshoreseniors.ca/wp-content/uploads/2025/03/craft.png
END:VEVENT
BEGIN:VEVENT
DTSTART;TZID=America/Toronto:20270323T130000
DTEND;TZID=America/Toronto:20270323T150000
DTSTAMP:20260421T173007
CREATED:20250829T222115Z
LAST-MODIFIED:20251104T200750Z
UID:10000619-1805806800-1805814000@www.bayshoreseniors.ca
SUMMARY:Crafts
DESCRIPTION:The craft group meets on Tuesday afternoons at 1 PM from September to June\, except for the second Tuesday of each month. Members create various crafts for the Craft Bazaar and charitable causes. There are always experienced members ready to teach newcomers knitting or crocheting.
URL:https://www.bayshoreseniors.ca/event/crafts-2-2/2027-03-23/
LOCATION:Craft Room
CATEGORIES:Crafts
ATTACH;FMTTYPE=image/png:https://www.bayshoreseniors.ca/wp-content/uploads/2025/03/craft.png
END:VEVENT
END:VCALENDAR