BEGIN:VCALENDAR
VERSION:2.0
PRODID:-//Bayshore Seniors - ECPv6.15.18//NONSGML v1.0//EN
CALSCALE:GREGORIAN
METHOD:PUBLISH
X-WR-CALNAME:Bayshore Seniors
X-ORIGINAL-URL:https://www.bayshoreseniors.ca
X-WR-CALDESC:Events for Bayshore Seniors
REFRESH-INTERVAL;VALUE=DURATION:PT1H
X-Robots-Tag:noindex
X-PUBLISHED-TTL:PT1H
BEGIN:VTIMEZONE
TZID:America/Toronto
BEGIN:DAYLIGHT
TZOFFSETFROM:-0500
TZOFFSETTO:-0400
TZNAME:EDT
DTSTART:20260308T070000
END:DAYLIGHT
BEGIN:STANDARD
TZOFFSETFROM:-0400
TZOFFSETTO:-0500
TZNAME:EST
DTSTART:20261101T060000
END:STANDARD
BEGIN:DAYLIGHT
TZOFFSETFROM:-0500
TZOFFSETTO:-0400
TZNAME:EDT
DTSTART:20270314T070000
END:DAYLIGHT
BEGIN:STANDARD
TZOFFSETFROM:-0400
TZOFFSETTO:-0500
TZNAME:EST
DTSTART:20271107T060000
END:STANDARD
BEGIN:DAYLIGHT
TZOFFSETFROM:-0500
TZOFFSETTO:-0400
TZNAME:EDT
DTSTART:20280312T070000
END:DAYLIGHT
BEGIN:STANDARD
TZOFFSETFROM:-0400
TZOFFSETTO:-0500
TZNAME:EST
DTSTART:20281105T060000
END:STANDARD
BEGIN:DAYLIGHT
TZOFFSETFROM:-0500
TZOFFSETTO:-0400
TZNAME:EDT
DTSTART:20290311T070000
END:DAYLIGHT
BEGIN:STANDARD
TZOFFSETFROM:-0400
TZOFFSETTO:-0500
TZNAME:EST
DTSTART:20291104T060000
END:STANDARD
END:VTIMEZONE
BEGIN:VEVENT
DTSTART;TZID=America/Toronto:20270420T130000
DTEND;TZID=America/Toronto:20270420T150000
DTSTAMP:20260422T180006
CREATED:20250829T222115Z
LAST-MODIFIED:20251104T200750Z
UID:10000622-1808226000-1808233200@www.bayshoreseniors.ca
SUMMARY:Crafts
DESCRIPTION:The craft group meets on Tuesday afternoons at 1 PM from September to June\, except for the second Tuesday of each month. Members create various crafts for the Craft Bazaar and charitable causes. There are always experienced members ready to teach newcomers knitting or crocheting.
URL:https://www.bayshoreseniors.ca/event/crafts-2-2/2027-04-20/
LOCATION:Craft Room
CATEGORIES:Crafts
ATTACH;FMTTYPE=image/png:https://www.bayshoreseniors.ca/wp-content/uploads/2025/03/craft.png
END:VEVENT
BEGIN:VEVENT
DTSTART;TZID=America/Toronto:20270427T130000
DTEND;TZID=America/Toronto:20270427T150000
DTSTAMP:20260422T180006
CREATED:20250829T222115Z
LAST-MODIFIED:20251104T200750Z
UID:10000623-1808830800-1808838000@www.bayshoreseniors.ca
SUMMARY:Crafts
DESCRIPTION:The craft group meets on Tuesday afternoons at 1 PM from September to June\, except for the second Tuesday of each month. Members create various crafts for the Craft Bazaar and charitable causes. There are always experienced members ready to teach newcomers knitting or crocheting.
URL:https://www.bayshoreseniors.ca/event/crafts-2-2/2027-04-27/
LOCATION:Craft Room
CATEGORIES:Crafts
ATTACH;FMTTYPE=image/png:https://www.bayshoreseniors.ca/wp-content/uploads/2025/03/craft.png
END:VEVENT
BEGIN:VEVENT
DTSTART;TZID=America/Toronto:20270504T130000
DTEND;TZID=America/Toronto:20270504T150000
DTSTAMP:20260422T180006
CREATED:20250829T222115Z
LAST-MODIFIED:20251104T200750Z
UID:10000624-1809435600-1809442800@www.bayshoreseniors.ca
SUMMARY:Crafts
DESCRIPTION:The craft group meets on Tuesday afternoons at 1 PM from September to June\, except for the second Tuesday of each month. Members create various crafts for the Craft Bazaar and charitable causes. There are always experienced members ready to teach newcomers knitting or crocheting.
URL:https://www.bayshoreseniors.ca/event/crafts-2-2/2027-05-04/
LOCATION:Craft Room
CATEGORIES:Crafts
ATTACH;FMTTYPE=image/png:https://www.bayshoreseniors.ca/wp-content/uploads/2025/03/craft.png
END:VEVENT
BEGIN:VEVENT
DTSTART;TZID=America/Toronto:20270518T130000
DTEND;TZID=America/Toronto:20270518T150000
DTSTAMP:20260422T180006
CREATED:20250829T222115Z
LAST-MODIFIED:20251104T200750Z
UID:10000625-1810645200-1810652400@www.bayshoreseniors.ca
SUMMARY:Crafts
DESCRIPTION:The craft group meets on Tuesday afternoons at 1 PM from September to June\, except for the second Tuesday of each month. Members create various crafts for the Craft Bazaar and charitable causes. There are always experienced members ready to teach newcomers knitting or crocheting.
URL:https://www.bayshoreseniors.ca/event/crafts-2-2/2027-05-18/
LOCATION:Craft Room
CATEGORIES:Crafts
ATTACH;FMTTYPE=image/png:https://www.bayshoreseniors.ca/wp-content/uploads/2025/03/craft.png
END:VEVENT
BEGIN:VEVENT
DTSTART;TZID=America/Toronto:20270525T130000
DTEND;TZID=America/Toronto:20270525T150000
DTSTAMP:20260422T180006
CREATED:20250829T222115Z
LAST-MODIFIED:20251104T200750Z
UID:10000626-1811250000-1811257200@www.bayshoreseniors.ca
SUMMARY:Crafts
DESCRIPTION:The craft group meets on Tuesday afternoons at 1 PM from September to June\, except for the second Tuesday of each month. Members create various crafts for the Craft Bazaar and charitable causes. There are always experienced members ready to teach newcomers knitting or crocheting.
URL:https://www.bayshoreseniors.ca/event/crafts-2-2/2027-05-25/
LOCATION:Craft Room
CATEGORIES:Crafts
ATTACH;FMTTYPE=image/png:https://www.bayshoreseniors.ca/wp-content/uploads/2025/03/craft.png
END:VEVENT
BEGIN:VEVENT
DTSTART;TZID=America/Toronto:20270601T130000
DTEND;TZID=America/Toronto:20270601T150000
DTSTAMP:20260422T180006
CREATED:20250829T222115Z
LAST-MODIFIED:20251104T200750Z
UID:10000627-1811854800-1811862000@www.bayshoreseniors.ca
SUMMARY:Crafts
DESCRIPTION:The craft group meets on Tuesday afternoons at 1 PM from September to June\, except for the second Tuesday of each month. Members create various crafts for the Craft Bazaar and charitable causes. There are always experienced members ready to teach newcomers knitting or crocheting.
URL:https://www.bayshoreseniors.ca/event/crafts-2-2/2027-06-01/
LOCATION:Craft Room
CATEGORIES:Crafts
ATTACH;FMTTYPE=image/png:https://www.bayshoreseniors.ca/wp-content/uploads/2025/03/craft.png
END:VEVENT
BEGIN:VEVENT
DTSTART;TZID=America/Toronto:20270615T130000
DTEND;TZID=America/Toronto:20270615T150000
DTSTAMP:20260422T180006
CREATED:20250829T222115Z
LAST-MODIFIED:20251104T200750Z
UID:10000628-1813064400-1813071600@www.bayshoreseniors.ca
SUMMARY:Crafts
DESCRIPTION:The craft group meets on Tuesday afternoons at 1 PM from September to June\, except for the second Tuesday of each month. Members create various crafts for the Craft Bazaar and charitable causes. There are always experienced members ready to teach newcomers knitting or crocheting.
URL:https://www.bayshoreseniors.ca/event/crafts-2-2/2027-06-15/
LOCATION:Craft Room
CATEGORIES:Crafts
ATTACH;FMTTYPE=image/png:https://www.bayshoreseniors.ca/wp-content/uploads/2025/03/craft.png
END:VEVENT
BEGIN:VEVENT
DTSTART;TZID=America/Toronto:20270622T130000
DTEND;TZID=America/Toronto:20270622T150000
DTSTAMP:20260422T180006
CREATED:20250829T222115Z
LAST-MODIFIED:20251104T200750Z
UID:10000629-1813669200-1813676400@www.bayshoreseniors.ca
SUMMARY:Crafts
DESCRIPTION:The craft group meets on Tuesday afternoons at 1 PM from September to June\, except for the second Tuesday of each month. Members create various crafts for the Craft Bazaar and charitable causes. There are always experienced members ready to teach newcomers knitting or crocheting.
URL:https://www.bayshoreseniors.ca/event/crafts-2-2/2027-06-22/
LOCATION:Craft Room
CATEGORIES:Crafts
ATTACH;FMTTYPE=image/png:https://www.bayshoreseniors.ca/wp-content/uploads/2025/03/craft.png
END:VEVENT
BEGIN:VEVENT
DTSTART;TZID=America/Toronto:20270629T130000
DTEND;TZID=America/Toronto:20270629T150000
DTSTAMP:20260422T180006
CREATED:20250829T222115Z
LAST-MODIFIED:20251104T200750Z
UID:10000630-1814274000-1814281200@www.bayshoreseniors.ca
SUMMARY:Crafts
DESCRIPTION:The craft group meets on Tuesday afternoons at 1 PM from September to June\, except for the second Tuesday of each month. Members create various crafts for the Craft Bazaar and charitable causes. There are always experienced members ready to teach newcomers knitting or crocheting.
URL:https://www.bayshoreseniors.ca/event/crafts-2-2/2027-06-29/
LOCATION:Craft Room
CATEGORIES:Crafts
ATTACH;FMTTYPE=image/png:https://www.bayshoreseniors.ca/wp-content/uploads/2025/03/craft.png
END:VEVENT
BEGIN:VEVENT
DTSTART;TZID=America/Toronto:20270706T130000
DTEND;TZID=America/Toronto:20270706T150000
DTSTAMP:20260422T180006
CREATED:20250829T222115Z
LAST-MODIFIED:20251104T200750Z
UID:10000631-1814878800-1814886000@www.bayshoreseniors.ca
SUMMARY:Crafts
DESCRIPTION:The craft group meets on Tuesday afternoons at 1 PM from September to June\, except for the second Tuesday of each month. Members create various crafts for the Craft Bazaar and charitable causes. There are always experienced members ready to teach newcomers knitting or crocheting.
URL:https://www.bayshoreseniors.ca/event/crafts-2-2/2027-07-06/
LOCATION:Craft Room
CATEGORIES:Crafts
ATTACH;FMTTYPE=image/png:https://www.bayshoreseniors.ca/wp-content/uploads/2025/03/craft.png
END:VEVENT
BEGIN:VEVENT
DTSTART;TZID=America/Toronto:20270720T130000
DTEND;TZID=America/Toronto:20270720T150000
DTSTAMP:20260422T180006
CREATED:20250829T222115Z
LAST-MODIFIED:20251104T200750Z
UID:10000632-1816088400-1816095600@www.bayshoreseniors.ca
SUMMARY:Crafts
DESCRIPTION:The craft group meets on Tuesday afternoons at 1 PM from September to June\, except for the second Tuesday of each month. Members create various crafts for the Craft Bazaar and charitable causes. There are always experienced members ready to teach newcomers knitting or crocheting.
URL:https://www.bayshoreseniors.ca/event/crafts-2-2/2027-07-20/
LOCATION:Craft Room
CATEGORIES:Crafts
ATTACH;FMTTYPE=image/png:https://www.bayshoreseniors.ca/wp-content/uploads/2025/03/craft.png
END:VEVENT
BEGIN:VEVENT
DTSTART;TZID=America/Toronto:20270727T130000
DTEND;TZID=America/Toronto:20270727T150000
DTSTAMP:20260422T180006
CREATED:20250829T222115Z
LAST-MODIFIED:20251104T200750Z
UID:10000633-1816693200-1816700400@www.bayshoreseniors.ca
SUMMARY:Crafts
DESCRIPTION:The craft group meets on Tuesday afternoons at 1 PM from September to June\, except for the second Tuesday of each month. Members create various crafts for the Craft Bazaar and charitable causes. There are always experienced members ready to teach newcomers knitting or crocheting.
URL:https://www.bayshoreseniors.ca/event/crafts-2-2/2027-07-27/
LOCATION:Craft Room
CATEGORIES:Crafts
ATTACH;FMTTYPE=image/png:https://www.bayshoreseniors.ca/wp-content/uploads/2025/03/craft.png
END:VEVENT
BEGIN:VEVENT
DTSTART;TZID=America/Toronto:20270803T130000
DTEND;TZID=America/Toronto:20270803T150000
DTSTAMP:20260422T180006
CREATED:20250829T222115Z
LAST-MODIFIED:20251104T200750Z
UID:10000634-1817298000-1817305200@www.bayshoreseniors.ca
SUMMARY:Crafts
DESCRIPTION:The craft group meets on Tuesday afternoons at 1 PM from September to June\, except for the second Tuesday of each month. Members create various crafts for the Craft Bazaar and charitable causes. There are always experienced members ready to teach newcomers knitting or crocheting.
URL:https://www.bayshoreseniors.ca/event/crafts-2-2/2027-08-03/
LOCATION:Craft Room
CATEGORIES:Crafts
ATTACH;FMTTYPE=image/png:https://www.bayshoreseniors.ca/wp-content/uploads/2025/03/craft.png
END:VEVENT
BEGIN:VEVENT
DTSTART;TZID=America/Toronto:20270817T130000
DTEND;TZID=America/Toronto:20270817T150000
DTSTAMP:20260422T180006
CREATED:20250829T222115Z
LAST-MODIFIED:20251104T200750Z
UID:10000635-1818507600-1818514800@www.bayshoreseniors.ca
SUMMARY:Crafts
DESCRIPTION:The craft group meets on Tuesday afternoons at 1 PM from September to June\, except for the second Tuesday of each month. Members create various crafts for the Craft Bazaar and charitable causes. There are always experienced members ready to teach newcomers knitting or crocheting.
URL:https://www.bayshoreseniors.ca/event/crafts-2-2/2027-08-17/
LOCATION:Craft Room
CATEGORIES:Crafts
ATTACH;FMTTYPE=image/png:https://www.bayshoreseniors.ca/wp-content/uploads/2025/03/craft.png
END:VEVENT
BEGIN:VEVENT
DTSTART;TZID=America/Toronto:20270824T130000
DTEND;TZID=America/Toronto:20270824T150000
DTSTAMP:20260422T180006
CREATED:20250829T222115Z
LAST-MODIFIED:20251104T200750Z
UID:10000636-1819112400-1819119600@www.bayshoreseniors.ca
SUMMARY:Crafts
DESCRIPTION:The craft group meets on Tuesday afternoons at 1 PM from September to June\, except for the second Tuesday of each month. Members create various crafts for the Craft Bazaar and charitable causes. There are always experienced members ready to teach newcomers knitting or crocheting.
URL:https://www.bayshoreseniors.ca/event/crafts-2-2/2027-08-24/
LOCATION:Craft Room
CATEGORIES:Crafts
ATTACH;FMTTYPE=image/png:https://www.bayshoreseniors.ca/wp-content/uploads/2025/03/craft.png
END:VEVENT
BEGIN:VEVENT
DTSTART;TZID=America/Toronto:20270831T130000
DTEND;TZID=America/Toronto:20270831T150000
DTSTAMP:20260422T180006
CREATED:20250829T222115Z
LAST-MODIFIED:20251104T200750Z
UID:10000637-1819717200-1819724400@www.bayshoreseniors.ca
SUMMARY:Crafts
DESCRIPTION:The craft group meets on Tuesday afternoons at 1 PM from September to June\, except for the second Tuesday of each month. Members create various crafts for the Craft Bazaar and charitable causes. There are always experienced members ready to teach newcomers knitting or crocheting.
URL:https://www.bayshoreseniors.ca/event/crafts-2-2/2027-08-31/
LOCATION:Craft Room
CATEGORIES:Crafts
ATTACH;FMTTYPE=image/png:https://www.bayshoreseniors.ca/wp-content/uploads/2025/03/craft.png
END:VEVENT
BEGIN:VEVENT
DTSTART;TZID=America/Toronto:20270907T130000
DTEND;TZID=America/Toronto:20270907T150000
DTSTAMP:20260422T180007
CREATED:20250829T222115Z
LAST-MODIFIED:20251104T200750Z
UID:10000638-1820322000-1820329200@www.bayshoreseniors.ca
SUMMARY:Crafts
DESCRIPTION:The craft group meets on Tuesday afternoons at 1 PM from September to June\, except for the second Tuesday of each month. Members create various crafts for the Craft Bazaar and charitable causes. There are always experienced members ready to teach newcomers knitting or crocheting.
URL:https://www.bayshoreseniors.ca/event/crafts-2-2/2027-09-07/
LOCATION:Craft Room
CATEGORIES:Crafts
ATTACH;FMTTYPE=image/png:https://www.bayshoreseniors.ca/wp-content/uploads/2025/03/craft.png
END:VEVENT
BEGIN:VEVENT
DTSTART;TZID=America/Toronto:20270921T130000
DTEND;TZID=America/Toronto:20270921T150000
DTSTAMP:20260422T180007
CREATED:20250829T222115Z
LAST-MODIFIED:20251104T200750Z
UID:10000639-1821531600-1821538800@www.bayshoreseniors.ca
SUMMARY:Crafts
DESCRIPTION:The craft group meets on Tuesday afternoons at 1 PM from September to June\, except for the second Tuesday of each month. Members create various crafts for the Craft Bazaar and charitable causes. There are always experienced members ready to teach newcomers knitting or crocheting.
URL:https://www.bayshoreseniors.ca/event/crafts-2-2/2027-09-21/
LOCATION:Craft Room
CATEGORIES:Crafts
ATTACH;FMTTYPE=image/png:https://www.bayshoreseniors.ca/wp-content/uploads/2025/03/craft.png
END:VEVENT
BEGIN:VEVENT
DTSTART;TZID=America/Toronto:20270928T130000
DTEND;TZID=America/Toronto:20270928T150000
DTSTAMP:20260422T180007
CREATED:20250829T222115Z
LAST-MODIFIED:20251104T200750Z
UID:10000640-1822136400-1822143600@www.bayshoreseniors.ca
SUMMARY:Crafts
DESCRIPTION:The craft group meets on Tuesday afternoons at 1 PM from September to June\, except for the second Tuesday of each month. Members create various crafts for the Craft Bazaar and charitable causes. There are always experienced members ready to teach newcomers knitting or crocheting.
URL:https://www.bayshoreseniors.ca/event/crafts-2-2/2027-09-28/
LOCATION:Craft Room
CATEGORIES:Crafts
ATTACH;FMTTYPE=image/png:https://www.bayshoreseniors.ca/wp-content/uploads/2025/03/craft.png
END:VEVENT
BEGIN:VEVENT
DTSTART;TZID=America/Toronto:20271005T130000
DTEND;TZID=America/Toronto:20271005T150000
DTSTAMP:20260422T180007
CREATED:20250829T222115Z
LAST-MODIFIED:20251104T200750Z
UID:10000641-1822741200-1822748400@www.bayshoreseniors.ca
SUMMARY:Crafts
DESCRIPTION:The craft group meets on Tuesday afternoons at 1 PM from September to June\, except for the second Tuesday of each month. Members create various crafts for the Craft Bazaar and charitable causes. There are always experienced members ready to teach newcomers knitting or crocheting.
URL:https://www.bayshoreseniors.ca/event/crafts-2-2/2027-10-05/
LOCATION:Craft Room
CATEGORIES:Crafts
ATTACH;FMTTYPE=image/png:https://www.bayshoreseniors.ca/wp-content/uploads/2025/03/craft.png
END:VEVENT
BEGIN:VEVENT
DTSTART;TZID=America/Toronto:20271019T130000
DTEND;TZID=America/Toronto:20271019T150000
DTSTAMP:20260422T180007
CREATED:20250829T222115Z
LAST-MODIFIED:20251104T200750Z
UID:10000642-1823950800-1823958000@www.bayshoreseniors.ca
SUMMARY:Crafts
DESCRIPTION:The craft group meets on Tuesday afternoons at 1 PM from September to June\, except for the second Tuesday of each month. Members create various crafts for the Craft Bazaar and charitable causes. There are always experienced members ready to teach newcomers knitting or crocheting.
URL:https://www.bayshoreseniors.ca/event/crafts-2-2/2027-10-19/
LOCATION:Craft Room
CATEGORIES:Crafts
ATTACH;FMTTYPE=image/png:https://www.bayshoreseniors.ca/wp-content/uploads/2025/03/craft.png
END:VEVENT
BEGIN:VEVENT
DTSTART;TZID=America/Toronto:20271026T130000
DTEND;TZID=America/Toronto:20271026T150000
DTSTAMP:20260422T180007
CREATED:20250829T222115Z
LAST-MODIFIED:20251104T200750Z
UID:10000643-1824555600-1824562800@www.bayshoreseniors.ca
SUMMARY:Crafts
DESCRIPTION:The craft group meets on Tuesday afternoons at 1 PM from September to June\, except for the second Tuesday of each month. Members create various crafts for the Craft Bazaar and charitable causes. There are always experienced members ready to teach newcomers knitting or crocheting.
URL:https://www.bayshoreseniors.ca/event/crafts-2-2/2027-10-26/
LOCATION:Craft Room
CATEGORIES:Crafts
ATTACH;FMTTYPE=image/png:https://www.bayshoreseniors.ca/wp-content/uploads/2025/03/craft.png
END:VEVENT
BEGIN:VEVENT
DTSTART;TZID=America/Toronto:20271102T130000
DTEND;TZID=America/Toronto:20271102T150000
DTSTAMP:20260422T180007
CREATED:20250829T222115Z
LAST-MODIFIED:20251104T200750Z
UID:10000644-1825160400-1825167600@www.bayshoreseniors.ca
SUMMARY:Crafts
DESCRIPTION:The craft group meets on Tuesday afternoons at 1 PM from September to June\, except for the second Tuesday of each month. Members create various crafts for the Craft Bazaar and charitable causes. There are always experienced members ready to teach newcomers knitting or crocheting.
URL:https://www.bayshoreseniors.ca/event/crafts-2-2/2027-11-02/
LOCATION:Craft Room
CATEGORIES:Crafts
ATTACH;FMTTYPE=image/png:https://www.bayshoreseniors.ca/wp-content/uploads/2025/03/craft.png
END:VEVENT
BEGIN:VEVENT
DTSTART;TZID=America/Toronto:20271116T130000
DTEND;TZID=America/Toronto:20271116T150000
DTSTAMP:20260422T180007
CREATED:20250829T222115Z
LAST-MODIFIED:20251104T200750Z
UID:10000645-1826370000-1826377200@www.bayshoreseniors.ca
SUMMARY:Crafts
DESCRIPTION:The craft group meets on Tuesday afternoons at 1 PM from September to June\, except for the second Tuesday of each month. Members create various crafts for the Craft Bazaar and charitable causes. There are always experienced members ready to teach newcomers knitting or crocheting.
URL:https://www.bayshoreseniors.ca/event/crafts-2-2/2027-11-16/
LOCATION:Craft Room
CATEGORIES:Crafts
ATTACH;FMTTYPE=image/png:https://www.bayshoreseniors.ca/wp-content/uploads/2025/03/craft.png
END:VEVENT
BEGIN:VEVENT
DTSTART;TZID=America/Toronto:20271123T130000
DTEND;TZID=America/Toronto:20271123T150000
DTSTAMP:20260422T180007
CREATED:20250829T222115Z
LAST-MODIFIED:20251104T200750Z
UID:10000646-1826974800-1826982000@www.bayshoreseniors.ca
SUMMARY:Crafts
DESCRIPTION:The craft group meets on Tuesday afternoons at 1 PM from September to June\, except for the second Tuesday of each month. Members create various crafts for the Craft Bazaar and charitable causes. There are always experienced members ready to teach newcomers knitting or crocheting.
URL:https://www.bayshoreseniors.ca/event/crafts-2-2/2027-11-23/
LOCATION:Craft Room
CATEGORIES:Crafts
ATTACH;FMTTYPE=image/png:https://www.bayshoreseniors.ca/wp-content/uploads/2025/03/craft.png
END:VEVENT
BEGIN:VEVENT
DTSTART;TZID=America/Toronto:20271130T130000
DTEND;TZID=America/Toronto:20271130T150000
DTSTAMP:20260422T180007
CREATED:20250829T222115Z
LAST-MODIFIED:20251104T200750Z
UID:10000647-1827579600-1827586800@www.bayshoreseniors.ca
SUMMARY:Crafts
DESCRIPTION:The craft group meets on Tuesday afternoons at 1 PM from September to June\, except for the second Tuesday of each month. Members create various crafts for the Craft Bazaar and charitable causes. There are always experienced members ready to teach newcomers knitting or crocheting.
URL:https://www.bayshoreseniors.ca/event/crafts-2-2/2027-11-30/
LOCATION:Craft Room
CATEGORIES:Crafts
ATTACH;FMTTYPE=image/png:https://www.bayshoreseniors.ca/wp-content/uploads/2025/03/craft.png
END:VEVENT
BEGIN:VEVENT
DTSTART;TZID=America/Toronto:20271207T130000
DTEND;TZID=America/Toronto:20271207T150000
DTSTAMP:20260422T180007
CREATED:20250829T222115Z
LAST-MODIFIED:20251104T200750Z
UID:10000648-1828184400-1828191600@www.bayshoreseniors.ca
SUMMARY:Crafts
DESCRIPTION:The craft group meets on Tuesday afternoons at 1 PM from September to June\, except for the second Tuesday of each month. Members create various crafts for the Craft Bazaar and charitable causes. There are always experienced members ready to teach newcomers knitting or crocheting.
URL:https://www.bayshoreseniors.ca/event/crafts-2-2/2027-12-07/
LOCATION:Craft Room
CATEGORIES:Crafts
ATTACH;FMTTYPE=image/png:https://www.bayshoreseniors.ca/wp-content/uploads/2025/03/craft.png
END:VEVENT
BEGIN:VEVENT
DTSTART;TZID=America/Toronto:20271221T130000
DTEND;TZID=America/Toronto:20271221T150000
DTSTAMP:20260422T180007
CREATED:20250829T222115Z
LAST-MODIFIED:20251104T200750Z
UID:10000649-1829394000-1829401200@www.bayshoreseniors.ca
SUMMARY:Crafts
DESCRIPTION:The craft group meets on Tuesday afternoons at 1 PM from September to June\, except for the second Tuesday of each month. Members create various crafts for the Craft Bazaar and charitable causes. There are always experienced members ready to teach newcomers knitting or crocheting.
URL:https://www.bayshoreseniors.ca/event/crafts-2-2/2027-12-21/
LOCATION:Craft Room
CATEGORIES:Crafts
ATTACH;FMTTYPE=image/png:https://www.bayshoreseniors.ca/wp-content/uploads/2025/03/craft.png
END:VEVENT
BEGIN:VEVENT
DTSTART;TZID=America/Toronto:20271228T130000
DTEND;TZID=America/Toronto:20271228T150000
DTSTAMP:20260422T180007
CREATED:20250829T222115Z
LAST-MODIFIED:20251104T200750Z
UID:10000650-1829998800-1830006000@www.bayshoreseniors.ca
SUMMARY:Crafts
DESCRIPTION:The craft group meets on Tuesday afternoons at 1 PM from September to June\, except for the second Tuesday of each month. Members create various crafts for the Craft Bazaar and charitable causes. There are always experienced members ready to teach newcomers knitting or crocheting.
URL:https://www.bayshoreseniors.ca/event/crafts-2-2/2027-12-28/
LOCATION:Craft Room
CATEGORIES:Crafts
ATTACH;FMTTYPE=image/png:https://www.bayshoreseniors.ca/wp-content/uploads/2025/03/craft.png
END:VEVENT
BEGIN:VEVENT
DTSTART;TZID=America/Toronto:20280104T130000
DTEND;TZID=America/Toronto:20280104T150000
DTSTAMP:20260422T180007
CREATED:20250829T222115Z
LAST-MODIFIED:20251104T200750Z
UID:10000651-1830603600-1830610800@www.bayshoreseniors.ca
SUMMARY:Crafts
DESCRIPTION:The craft group meets on Tuesday afternoons at 1 PM from September to June\, except for the second Tuesday of each month. Members create various crafts for the Craft Bazaar and charitable causes. There are always experienced members ready to teach newcomers knitting or crocheting.
URL:https://www.bayshoreseniors.ca/event/crafts-2-2/2028-01-04/
LOCATION:Craft Room
CATEGORIES:Crafts
ATTACH;FMTTYPE=image/png:https://www.bayshoreseniors.ca/wp-content/uploads/2025/03/craft.png
END:VEVENT
END:VCALENDAR