BEGIN:VCALENDAR
VERSION:2.0
PRODID:-//Bayshore Seniors - ECPv6.15.18//NONSGML v1.0//EN
CALSCALE:GREGORIAN
METHOD:PUBLISH
X-WR-CALNAME:Bayshore Seniors
X-ORIGINAL-URL:https://www.bayshoreseniors.ca
X-WR-CALDESC:Events for Bayshore Seniors
REFRESH-INTERVAL;VALUE=DURATION:PT1H
X-Robots-Tag:noindex
X-PUBLISHED-TTL:PT1H
BEGIN:VTIMEZONE
TZID:America/Toronto
BEGIN:DAYLIGHT
TZOFFSETFROM:-0500
TZOFFSETTO:-0400
TZNAME:EDT
DTSTART:20250309T070000
END:DAYLIGHT
BEGIN:STANDARD
TZOFFSETFROM:-0400
TZOFFSETTO:-0500
TZNAME:EST
DTSTART:20251102T060000
END:STANDARD
BEGIN:DAYLIGHT
TZOFFSETFROM:-0500
TZOFFSETTO:-0400
TZNAME:EDT
DTSTART:20260308T070000
END:DAYLIGHT
BEGIN:STANDARD
TZOFFSETFROM:-0400
TZOFFSETTO:-0500
TZNAME:EST
DTSTART:20261101T060000
END:STANDARD
BEGIN:DAYLIGHT
TZOFFSETFROM:-0500
TZOFFSETTO:-0400
TZNAME:EDT
DTSTART:20270314T070000
END:DAYLIGHT
BEGIN:STANDARD
TZOFFSETFROM:-0400
TZOFFSETTO:-0500
TZNAME:EST
DTSTART:20271107T060000
END:STANDARD
END:VTIMEZONE
BEGIN:VEVENT
DTSTART;TZID=America/Toronto:20260102T093000
DTEND;TZID=America/Toronto:20260102T103000
DTSTAMP:20260419T183641
CREATED:20250829T215218Z
LAST-MODIFIED:20251104T200847Z
UID:10002398-1767346200-1767349800@www.bayshoreseniors.ca
SUMMARY:VON Smart Fitness Program
DESCRIPTION:(Seniors maintaining active roles together): An exercise program for seniors that accommodates all levels of ability. It improves strength\, balance\, flexibility\, and cardiovascular health and is designed to reduce the risk of falls.\nPre-registration is encouraged. Contact VON Smart Fitness to register: 705-355-2200
URL:https://www.bayshoreseniors.ca/event/von-smart-fitness-program-2/2026-01-02/
LOCATION:Main Hall
CATEGORIES:Fitness
ATTACH;FMTTYPE=image/jpeg:https://www.bayshoreseniors.ca/wp-content/uploads/2025/03/exercise.jpg
END:VEVENT
BEGIN:VEVENT
DTSTART;TZID=America/Toronto:20260109T093000
DTEND;TZID=America/Toronto:20260109T103000
DTSTAMP:20260419T183641
CREATED:20250829T215218Z
LAST-MODIFIED:20251104T200847Z
UID:10002399-1767951000-1767954600@www.bayshoreseniors.ca
SUMMARY:VON Smart Fitness Program
DESCRIPTION:(Seniors maintaining active roles together): An exercise program for seniors that accommodates all levels of ability. It improves strength\, balance\, flexibility\, and cardiovascular health and is designed to reduce the risk of falls.\nPre-registration is encouraged. Contact VON Smart Fitness to register: 705-355-2200
URL:https://www.bayshoreseniors.ca/event/von-smart-fitness-program-2/2026-01-09/
LOCATION:Main Hall
CATEGORIES:Fitness
ATTACH;FMTTYPE=image/jpeg:https://www.bayshoreseniors.ca/wp-content/uploads/2025/03/exercise.jpg
END:VEVENT
BEGIN:VEVENT
DTSTART;TZID=America/Toronto:20260116T093000
DTEND;TZID=America/Toronto:20260116T103000
DTSTAMP:20260419T183641
CREATED:20250829T215218Z
LAST-MODIFIED:20251104T200847Z
UID:10002400-1768555800-1768559400@www.bayshoreseniors.ca
SUMMARY:VON Smart Fitness Program
DESCRIPTION:(Seniors maintaining active roles together): An exercise program for seniors that accommodates all levels of ability. It improves strength\, balance\, flexibility\, and cardiovascular health and is designed to reduce the risk of falls.\nPre-registration is encouraged. Contact VON Smart Fitness to register: 705-355-2200
URL:https://www.bayshoreseniors.ca/event/von-smart-fitness-program-2/2026-01-16/
LOCATION:Main Hall
CATEGORIES:Fitness
ATTACH;FMTTYPE=image/jpeg:https://www.bayshoreseniors.ca/wp-content/uploads/2025/03/exercise.jpg
END:VEVENT
BEGIN:VEVENT
DTSTART;TZID=America/Toronto:20260123T093000
DTEND;TZID=America/Toronto:20260123T103000
DTSTAMP:20260419T183641
CREATED:20250829T215218Z
LAST-MODIFIED:20251104T200847Z
UID:10002401-1769160600-1769164200@www.bayshoreseniors.ca
SUMMARY:VON Smart Fitness Program
DESCRIPTION:(Seniors maintaining active roles together): An exercise program for seniors that accommodates all levels of ability. It improves strength\, balance\, flexibility\, and cardiovascular health and is designed to reduce the risk of falls.\nPre-registration is encouraged. Contact VON Smart Fitness to register: 705-355-2200
URL:https://www.bayshoreseniors.ca/event/von-smart-fitness-program-2/2026-01-23/
LOCATION:Main Hall
CATEGORIES:Fitness
ATTACH;FMTTYPE=image/jpeg:https://www.bayshoreseniors.ca/wp-content/uploads/2025/03/exercise.jpg
END:VEVENT
BEGIN:VEVENT
DTSTART;TZID=America/Toronto:20260130T093000
DTEND;TZID=America/Toronto:20260130T103000
DTSTAMP:20260419T183641
CREATED:20250829T215218Z
LAST-MODIFIED:20251104T200847Z
UID:10002402-1769765400-1769769000@www.bayshoreseniors.ca
SUMMARY:VON Smart Fitness Program
DESCRIPTION:(Seniors maintaining active roles together): An exercise program for seniors that accommodates all levels of ability. It improves strength\, balance\, flexibility\, and cardiovascular health and is designed to reduce the risk of falls.\nPre-registration is encouraged. Contact VON Smart Fitness to register: 705-355-2200
URL:https://www.bayshoreseniors.ca/event/von-smart-fitness-program-2/2026-01-30/
LOCATION:Main Hall
CATEGORIES:Fitness
ATTACH;FMTTYPE=image/jpeg:https://www.bayshoreseniors.ca/wp-content/uploads/2025/03/exercise.jpg
END:VEVENT
END:VCALENDAR