BEGIN:VCALENDAR
VERSION:2.0
PRODID:-//Bayshore Seniors - ECPv6.15.18//NONSGML v1.0//EN
CALSCALE:GREGORIAN
METHOD:PUBLISH
X-WR-CALNAME:Bayshore Seniors
X-ORIGINAL-URL:https://www.bayshoreseniors.ca
X-WR-CALDESC:Events for Bayshore Seniors
REFRESH-INTERVAL;VALUE=DURATION:PT1H
X-Robots-Tag:noindex
X-PUBLISHED-TTL:PT1H
BEGIN:VTIMEZONE
TZID:America/Toronto
BEGIN:DAYLIGHT
TZOFFSETFROM:-0500
TZOFFSETTO:-0400
TZNAME:EDT
DTSTART:20260308T070000
END:DAYLIGHT
BEGIN:STANDARD
TZOFFSETFROM:-0400
TZOFFSETTO:-0500
TZNAME:EST
DTSTART:20261101T060000
END:STANDARD
BEGIN:DAYLIGHT
TZOFFSETFROM:-0500
TZOFFSETTO:-0400
TZNAME:EDT
DTSTART:20270314T070000
END:DAYLIGHT
BEGIN:STANDARD
TZOFFSETFROM:-0400
TZOFFSETTO:-0500
TZNAME:EST
DTSTART:20271107T060000
END:STANDARD
BEGIN:DAYLIGHT
TZOFFSETFROM:-0500
TZOFFSETTO:-0400
TZNAME:EDT
DTSTART:20280312T070000
END:DAYLIGHT
BEGIN:STANDARD
TZOFFSETFROM:-0400
TZOFFSETTO:-0500
TZNAME:EST
DTSTART:20281105T060000
END:STANDARD
END:VTIMEZONE
BEGIN:VEVENT
DTSTART;TZID=America/Toronto:20270101T093000
DTEND;TZID=America/Toronto:20270101T103000
DTSTAMP:20260421T011650
CREATED:20250829T215218Z
LAST-MODIFIED:20251104T200847Z
UID:10002450-1798795800-1798799400@www.bayshoreseniors.ca
SUMMARY:VON Smart Fitness Program
DESCRIPTION:(Seniors maintaining active roles together): An exercise program for seniors that accommodates all levels of ability. It improves strength\, balance\, flexibility\, and cardiovascular health and is designed to reduce the risk of falls.\nPre-registration is encouraged. Contact VON Smart Fitness to register: 705-355-2200
URL:https://www.bayshoreseniors.ca/event/von-smart-fitness-program-2/2027-01-01/
LOCATION:Main Hall
CATEGORIES:Fitness
ATTACH;FMTTYPE=image/jpeg:https://www.bayshoreseniors.ca/wp-content/uploads/2025/03/exercise.jpg
END:VEVENT
BEGIN:VEVENT
DTSTART;TZID=America/Toronto:20270108T093000
DTEND;TZID=America/Toronto:20270108T103000
DTSTAMP:20260421T011650
CREATED:20250829T215218Z
LAST-MODIFIED:20251104T200847Z
UID:10002451-1799400600-1799404200@www.bayshoreseniors.ca
SUMMARY:VON Smart Fitness Program
DESCRIPTION:(Seniors maintaining active roles together): An exercise program for seniors that accommodates all levels of ability. It improves strength\, balance\, flexibility\, and cardiovascular health and is designed to reduce the risk of falls.\nPre-registration is encouraged. Contact VON Smart Fitness to register: 705-355-2200
URL:https://www.bayshoreseniors.ca/event/von-smart-fitness-program-2/2027-01-08/
LOCATION:Main Hall
CATEGORIES:Fitness
ATTACH;FMTTYPE=image/jpeg:https://www.bayshoreseniors.ca/wp-content/uploads/2025/03/exercise.jpg
END:VEVENT
BEGIN:VEVENT
DTSTART;TZID=America/Toronto:20270115T093000
DTEND;TZID=America/Toronto:20270115T103000
DTSTAMP:20260421T011650
CREATED:20250829T215218Z
LAST-MODIFIED:20251104T200847Z
UID:10002452-1800005400-1800009000@www.bayshoreseniors.ca
SUMMARY:VON Smart Fitness Program
DESCRIPTION:(Seniors maintaining active roles together): An exercise program for seniors that accommodates all levels of ability. It improves strength\, balance\, flexibility\, and cardiovascular health and is designed to reduce the risk of falls.\nPre-registration is encouraged. Contact VON Smart Fitness to register: 705-355-2200
URL:https://www.bayshoreseniors.ca/event/von-smart-fitness-program-2/2027-01-15/
LOCATION:Main Hall
CATEGORIES:Fitness
ATTACH;FMTTYPE=image/jpeg:https://www.bayshoreseniors.ca/wp-content/uploads/2025/03/exercise.jpg
END:VEVENT
BEGIN:VEVENT
DTSTART;TZID=America/Toronto:20270122T093000
DTEND;TZID=America/Toronto:20270122T103000
DTSTAMP:20260421T011650
CREATED:20250829T215218Z
LAST-MODIFIED:20251104T200847Z
UID:10002453-1800610200-1800613800@www.bayshoreseniors.ca
SUMMARY:VON Smart Fitness Program
DESCRIPTION:(Seniors maintaining active roles together): An exercise program for seniors that accommodates all levels of ability. It improves strength\, balance\, flexibility\, and cardiovascular health and is designed to reduce the risk of falls.\nPre-registration is encouraged. Contact VON Smart Fitness to register: 705-355-2200
URL:https://www.bayshoreseniors.ca/event/von-smart-fitness-program-2/2027-01-22/
LOCATION:Main Hall
CATEGORIES:Fitness
ATTACH;FMTTYPE=image/jpeg:https://www.bayshoreseniors.ca/wp-content/uploads/2025/03/exercise.jpg
END:VEVENT
BEGIN:VEVENT
DTSTART;TZID=America/Toronto:20270129T093000
DTEND;TZID=America/Toronto:20270129T103000
DTSTAMP:20260421T011650
CREATED:20250829T215218Z
LAST-MODIFIED:20251104T200847Z
UID:10002454-1801215000-1801218600@www.bayshoreseniors.ca
SUMMARY:VON Smart Fitness Program
DESCRIPTION:(Seniors maintaining active roles together): An exercise program for seniors that accommodates all levels of ability. It improves strength\, balance\, flexibility\, and cardiovascular health and is designed to reduce the risk of falls.\nPre-registration is encouraged. Contact VON Smart Fitness to register: 705-355-2200
URL:https://www.bayshoreseniors.ca/event/von-smart-fitness-program-2/2027-01-29/
LOCATION:Main Hall
CATEGORIES:Fitness
ATTACH;FMTTYPE=image/jpeg:https://www.bayshoreseniors.ca/wp-content/uploads/2025/03/exercise.jpg
END:VEVENT
END:VCALENDAR