BEGIN:VCALENDAR
VERSION:2.0
PRODID:-//Bayshore Seniors - ECPv6.15.18//NONSGML v1.0//EN
CALSCALE:GREGORIAN
METHOD:PUBLISH
X-WR-CALNAME:Bayshore Seniors
X-ORIGINAL-URL:https://www.bayshoreseniors.ca
X-WR-CALDESC:Events for Bayshore Seniors
REFRESH-INTERVAL;VALUE=DURATION:PT1H
X-Robots-Tag:noindex
X-PUBLISHED-TTL:PT1H
BEGIN:VTIMEZONE
TZID:America/Toronto
BEGIN:DAYLIGHT
TZOFFSETFROM:-0500
TZOFFSETTO:-0400
TZNAME:EDT
DTSTART:20270314T070000
END:DAYLIGHT
BEGIN:STANDARD
TZOFFSETFROM:-0400
TZOFFSETTO:-0500
TZNAME:EST
DTSTART:20271107T060000
END:STANDARD
BEGIN:DAYLIGHT
TZOFFSETFROM:-0500
TZOFFSETTO:-0400
TZNAME:EDT
DTSTART:20280312T070000
END:DAYLIGHT
BEGIN:STANDARD
TZOFFSETFROM:-0400
TZOFFSETTO:-0500
TZNAME:EST
DTSTART:20281105T060000
END:STANDARD
BEGIN:DAYLIGHT
TZOFFSETFROM:-0500
TZOFFSETTO:-0400
TZNAME:EDT
DTSTART:20290311T070000
END:DAYLIGHT
BEGIN:STANDARD
TZOFFSETFROM:-0400
TZOFFSETTO:-0500
TZNAME:EST
DTSTART:20291104T060000
END:STANDARD
BEGIN:DAYLIGHT
TZOFFSETFROM:-0500
TZOFFSETTO:-0400
TZNAME:EDT
DTSTART:20300310T070000
END:DAYLIGHT
BEGIN:STANDARD
TZOFFSETFROM:-0400
TZOFFSETTO:-0500
TZNAME:EST
DTSTART:20301103T060000
END:STANDARD
END:VTIMEZONE
BEGIN:VEVENT
DTSTART;TZID=America/Toronto:20280901T093000
DTEND;TZID=America/Toronto:20280901T103000
DTSTAMP:20260421T001131
CREATED:20250829T215218Z
LAST-MODIFIED:20251104T200847Z
UID:10002537-1851413400-1851417000@www.bayshoreseniors.ca
SUMMARY:VON Smart Fitness Program
DESCRIPTION:(Seniors maintaining active roles together): An exercise program for seniors that accommodates all levels of ability. It improves strength\, balance\, flexibility\, and cardiovascular health and is designed to reduce the risk of falls.\nPre-registration is encouraged. Contact VON Smart Fitness to register: 705-355-2200
URL:https://www.bayshoreseniors.ca/event/von-smart-fitness-program-2/2028-09-01/
LOCATION:Main Hall
CATEGORIES:Fitness
ATTACH;FMTTYPE=image/jpeg:https://www.bayshoreseniors.ca/wp-content/uploads/2025/03/exercise.jpg
END:VEVENT
BEGIN:VEVENT
DTSTART;TZID=America/Toronto:20280908T093000
DTEND;TZID=America/Toronto:20280908T103000
DTSTAMP:20260421T001131
CREATED:20250829T215218Z
LAST-MODIFIED:20251104T200847Z
UID:10002538-1852018200-1852021800@www.bayshoreseniors.ca
SUMMARY:VON Smart Fitness Program
DESCRIPTION:(Seniors maintaining active roles together): An exercise program for seniors that accommodates all levels of ability. It improves strength\, balance\, flexibility\, and cardiovascular health and is designed to reduce the risk of falls.\nPre-registration is encouraged. Contact VON Smart Fitness to register: 705-355-2200
URL:https://www.bayshoreseniors.ca/event/von-smart-fitness-program-2/2028-09-08/
LOCATION:Main Hall
CATEGORIES:Fitness
ATTACH;FMTTYPE=image/jpeg:https://www.bayshoreseniors.ca/wp-content/uploads/2025/03/exercise.jpg
END:VEVENT
BEGIN:VEVENT
DTSTART;TZID=America/Toronto:20280915T093000
DTEND;TZID=America/Toronto:20280915T103000
DTSTAMP:20260421T001131
CREATED:20250829T215218Z
LAST-MODIFIED:20251104T200847Z
UID:10002539-1852623000-1852626600@www.bayshoreseniors.ca
SUMMARY:VON Smart Fitness Program
DESCRIPTION:(Seniors maintaining active roles together): An exercise program for seniors that accommodates all levels of ability. It improves strength\, balance\, flexibility\, and cardiovascular health and is designed to reduce the risk of falls.\nPre-registration is encouraged. Contact VON Smart Fitness to register: 705-355-2200
URL:https://www.bayshoreseniors.ca/event/von-smart-fitness-program-2/2028-09-15/
LOCATION:Main Hall
CATEGORIES:Fitness
ATTACH;FMTTYPE=image/jpeg:https://www.bayshoreseniors.ca/wp-content/uploads/2025/03/exercise.jpg
END:VEVENT
BEGIN:VEVENT
DTSTART;TZID=America/Toronto:20280922T093000
DTEND;TZID=America/Toronto:20280922T103000
DTSTAMP:20260421T001131
CREATED:20250829T215218Z
LAST-MODIFIED:20251104T200847Z
UID:10002540-1853227800-1853231400@www.bayshoreseniors.ca
SUMMARY:VON Smart Fitness Program
DESCRIPTION:(Seniors maintaining active roles together): An exercise program for seniors that accommodates all levels of ability. It improves strength\, balance\, flexibility\, and cardiovascular health and is designed to reduce the risk of falls.\nPre-registration is encouraged. Contact VON Smart Fitness to register: 705-355-2200
URL:https://www.bayshoreseniors.ca/event/von-smart-fitness-program-2/2028-09-22/
LOCATION:Main Hall
CATEGORIES:Fitness
ATTACH;FMTTYPE=image/jpeg:https://www.bayshoreseniors.ca/wp-content/uploads/2025/03/exercise.jpg
END:VEVENT
BEGIN:VEVENT
DTSTART;TZID=America/Toronto:20280929T093000
DTEND;TZID=America/Toronto:20280929T103000
DTSTAMP:20260421T001131
CREATED:20250829T215218Z
LAST-MODIFIED:20251104T200847Z
UID:10002541-1853832600-1853836200@www.bayshoreseniors.ca
SUMMARY:VON Smart Fitness Program
DESCRIPTION:(Seniors maintaining active roles together): An exercise program for seniors that accommodates all levels of ability. It improves strength\, balance\, flexibility\, and cardiovascular health and is designed to reduce the risk of falls.\nPre-registration is encouraged. Contact VON Smart Fitness to register: 705-355-2200
URL:https://www.bayshoreseniors.ca/event/von-smart-fitness-program-2/2028-09-29/
LOCATION:Main Hall
CATEGORIES:Fitness
ATTACH;FMTTYPE=image/jpeg:https://www.bayshoreseniors.ca/wp-content/uploads/2025/03/exercise.jpg
END:VEVENT
BEGIN:VEVENT
DTSTART;TZID=America/Toronto:20281006T093000
DTEND;TZID=America/Toronto:20281006T103000
DTSTAMP:20260421T001131
CREATED:20250829T215218Z
LAST-MODIFIED:20251104T200847Z
UID:10002542-1854437400-1854441000@www.bayshoreseniors.ca
SUMMARY:VON Smart Fitness Program
DESCRIPTION:(Seniors maintaining active roles together): An exercise program for seniors that accommodates all levels of ability. It improves strength\, balance\, flexibility\, and cardiovascular health and is designed to reduce the risk of falls.\nPre-registration is encouraged. Contact VON Smart Fitness to register: 705-355-2200
URL:https://www.bayshoreseniors.ca/event/von-smart-fitness-program-2/2028-10-06/
LOCATION:Main Hall
CATEGORIES:Fitness
ATTACH;FMTTYPE=image/jpeg:https://www.bayshoreseniors.ca/wp-content/uploads/2025/03/exercise.jpg
END:VEVENT
BEGIN:VEVENT
DTSTART;TZID=America/Toronto:20281013T093000
DTEND;TZID=America/Toronto:20281013T103000
DTSTAMP:20260421T001131
CREATED:20250829T215218Z
LAST-MODIFIED:20251104T200847Z
UID:10002543-1855042200-1855045800@www.bayshoreseniors.ca
SUMMARY:VON Smart Fitness Program
DESCRIPTION:(Seniors maintaining active roles together): An exercise program for seniors that accommodates all levels of ability. It improves strength\, balance\, flexibility\, and cardiovascular health and is designed to reduce the risk of falls.\nPre-registration is encouraged. Contact VON Smart Fitness to register: 705-355-2200
URL:https://www.bayshoreseniors.ca/event/von-smart-fitness-program-2/2028-10-13/
LOCATION:Main Hall
CATEGORIES:Fitness
ATTACH;FMTTYPE=image/jpeg:https://www.bayshoreseniors.ca/wp-content/uploads/2025/03/exercise.jpg
END:VEVENT
BEGIN:VEVENT
DTSTART;TZID=America/Toronto:20281020T093000
DTEND;TZID=America/Toronto:20281020T103000
DTSTAMP:20260421T001131
CREATED:20250829T215218Z
LAST-MODIFIED:20251104T200847Z
UID:10002544-1855647000-1855650600@www.bayshoreseniors.ca
SUMMARY:VON Smart Fitness Program
DESCRIPTION:(Seniors maintaining active roles together): An exercise program for seniors that accommodates all levels of ability. It improves strength\, balance\, flexibility\, and cardiovascular health and is designed to reduce the risk of falls.\nPre-registration is encouraged. Contact VON Smart Fitness to register: 705-355-2200
URL:https://www.bayshoreseniors.ca/event/von-smart-fitness-program-2/2028-10-20/
LOCATION:Main Hall
CATEGORIES:Fitness
ATTACH;FMTTYPE=image/jpeg:https://www.bayshoreseniors.ca/wp-content/uploads/2025/03/exercise.jpg
END:VEVENT
BEGIN:VEVENT
DTSTART;TZID=America/Toronto:20281027T093000
DTEND;TZID=America/Toronto:20281027T103000
DTSTAMP:20260421T001131
CREATED:20250829T215218Z
LAST-MODIFIED:20251104T200847Z
UID:10002545-1856251800-1856255400@www.bayshoreseniors.ca
SUMMARY:VON Smart Fitness Program
DESCRIPTION:(Seniors maintaining active roles together): An exercise program for seniors that accommodates all levels of ability. It improves strength\, balance\, flexibility\, and cardiovascular health and is designed to reduce the risk of falls.\nPre-registration is encouraged. Contact VON Smart Fitness to register: 705-355-2200
URL:https://www.bayshoreseniors.ca/event/von-smart-fitness-program-2/2028-10-27/
LOCATION:Main Hall
CATEGORIES:Fitness
ATTACH;FMTTYPE=image/jpeg:https://www.bayshoreseniors.ca/wp-content/uploads/2025/03/exercise.jpg
END:VEVENT
BEGIN:VEVENT
DTSTART;TZID=America/Toronto:20281103T093000
DTEND;TZID=America/Toronto:20281103T103000
DTSTAMP:20260421T001131
CREATED:20250829T215218Z
LAST-MODIFIED:20251104T200847Z
UID:10002546-1856856600-1856860200@www.bayshoreseniors.ca
SUMMARY:VON Smart Fitness Program
DESCRIPTION:(Seniors maintaining active roles together): An exercise program for seniors that accommodates all levels of ability. It improves strength\, balance\, flexibility\, and cardiovascular health and is designed to reduce the risk of falls.\nPre-registration is encouraged. Contact VON Smart Fitness to register: 705-355-2200
URL:https://www.bayshoreseniors.ca/event/von-smart-fitness-program-2/2028-11-03/
LOCATION:Main Hall
CATEGORIES:Fitness
ATTACH;FMTTYPE=image/jpeg:https://www.bayshoreseniors.ca/wp-content/uploads/2025/03/exercise.jpg
END:VEVENT
BEGIN:VEVENT
DTSTART;TZID=America/Toronto:20281110T093000
DTEND;TZID=America/Toronto:20281110T103000
DTSTAMP:20260421T001131
CREATED:20250829T215218Z
LAST-MODIFIED:20251104T200847Z
UID:10002547-1857461400-1857465000@www.bayshoreseniors.ca
SUMMARY:VON Smart Fitness Program
DESCRIPTION:(Seniors maintaining active roles together): An exercise program for seniors that accommodates all levels of ability. It improves strength\, balance\, flexibility\, and cardiovascular health and is designed to reduce the risk of falls.\nPre-registration is encouraged. Contact VON Smart Fitness to register: 705-355-2200
URL:https://www.bayshoreseniors.ca/event/von-smart-fitness-program-2/2028-11-10/
LOCATION:Main Hall
CATEGORIES:Fitness
ATTACH;FMTTYPE=image/jpeg:https://www.bayshoreseniors.ca/wp-content/uploads/2025/03/exercise.jpg
END:VEVENT
BEGIN:VEVENT
DTSTART;TZID=America/Toronto:20281117T093000
DTEND;TZID=America/Toronto:20281117T103000
DTSTAMP:20260421T001131
CREATED:20250829T215218Z
LAST-MODIFIED:20251104T200847Z
UID:10002548-1858066200-1858069800@www.bayshoreseniors.ca
SUMMARY:VON Smart Fitness Program
DESCRIPTION:(Seniors maintaining active roles together): An exercise program for seniors that accommodates all levels of ability. It improves strength\, balance\, flexibility\, and cardiovascular health and is designed to reduce the risk of falls.\nPre-registration is encouraged. Contact VON Smart Fitness to register: 705-355-2200
URL:https://www.bayshoreseniors.ca/event/von-smart-fitness-program-2/2028-11-17/
LOCATION:Main Hall
CATEGORIES:Fitness
ATTACH;FMTTYPE=image/jpeg:https://www.bayshoreseniors.ca/wp-content/uploads/2025/03/exercise.jpg
END:VEVENT
BEGIN:VEVENT
DTSTART;TZID=America/Toronto:20281124T093000
DTEND;TZID=America/Toronto:20281124T103000
DTSTAMP:20260421T001131
CREATED:20250829T215218Z
LAST-MODIFIED:20251104T200847Z
UID:10002549-1858671000-1858674600@www.bayshoreseniors.ca
SUMMARY:VON Smart Fitness Program
DESCRIPTION:(Seniors maintaining active roles together): An exercise program for seniors that accommodates all levels of ability. It improves strength\, balance\, flexibility\, and cardiovascular health and is designed to reduce the risk of falls.\nPre-registration is encouraged. Contact VON Smart Fitness to register: 705-355-2200
URL:https://www.bayshoreseniors.ca/event/von-smart-fitness-program-2/2028-11-24/
LOCATION:Main Hall
CATEGORIES:Fitness
ATTACH;FMTTYPE=image/jpeg:https://www.bayshoreseniors.ca/wp-content/uploads/2025/03/exercise.jpg
END:VEVENT
BEGIN:VEVENT
DTSTART;TZID=America/Toronto:20281201T093000
DTEND;TZID=America/Toronto:20281201T103000
DTSTAMP:20260421T001131
CREATED:20250829T215218Z
LAST-MODIFIED:20251104T200847Z
UID:10002550-1859275800-1859279400@www.bayshoreseniors.ca
SUMMARY:VON Smart Fitness Program
DESCRIPTION:(Seniors maintaining active roles together): An exercise program for seniors that accommodates all levels of ability. It improves strength\, balance\, flexibility\, and cardiovascular health and is designed to reduce the risk of falls.\nPre-registration is encouraged. Contact VON Smart Fitness to register: 705-355-2200
URL:https://www.bayshoreseniors.ca/event/von-smart-fitness-program-2/2028-12-01/
LOCATION:Main Hall
CATEGORIES:Fitness
ATTACH;FMTTYPE=image/jpeg:https://www.bayshoreseniors.ca/wp-content/uploads/2025/03/exercise.jpg
END:VEVENT
BEGIN:VEVENT
DTSTART;TZID=America/Toronto:20281208T093000
DTEND;TZID=America/Toronto:20281208T103000
DTSTAMP:20260421T001131
CREATED:20250829T215218Z
LAST-MODIFIED:20251104T200847Z
UID:10002551-1859880600-1859884200@www.bayshoreseniors.ca
SUMMARY:VON Smart Fitness Program
DESCRIPTION:(Seniors maintaining active roles together): An exercise program for seniors that accommodates all levels of ability. It improves strength\, balance\, flexibility\, and cardiovascular health and is designed to reduce the risk of falls.\nPre-registration is encouraged. Contact VON Smart Fitness to register: 705-355-2200
URL:https://www.bayshoreseniors.ca/event/von-smart-fitness-program-2/2028-12-08/
LOCATION:Main Hall
CATEGORIES:Fitness
ATTACH;FMTTYPE=image/jpeg:https://www.bayshoreseniors.ca/wp-content/uploads/2025/03/exercise.jpg
END:VEVENT
BEGIN:VEVENT
DTSTART;TZID=America/Toronto:20281215T093000
DTEND;TZID=America/Toronto:20281215T103000
DTSTAMP:20260421T001131
CREATED:20250829T215218Z
LAST-MODIFIED:20251104T200847Z
UID:10002552-1860485400-1860489000@www.bayshoreseniors.ca
SUMMARY:VON Smart Fitness Program
DESCRIPTION:(Seniors maintaining active roles together): An exercise program for seniors that accommodates all levels of ability. It improves strength\, balance\, flexibility\, and cardiovascular health and is designed to reduce the risk of falls.\nPre-registration is encouraged. Contact VON Smart Fitness to register: 705-355-2200
URL:https://www.bayshoreseniors.ca/event/von-smart-fitness-program-2/2028-12-15/
LOCATION:Main Hall
CATEGORIES:Fitness
ATTACH;FMTTYPE=image/jpeg:https://www.bayshoreseniors.ca/wp-content/uploads/2025/03/exercise.jpg
END:VEVENT
BEGIN:VEVENT
DTSTART;TZID=America/Toronto:20281222T093000
DTEND;TZID=America/Toronto:20281222T103000
DTSTAMP:20260421T001131
CREATED:20250829T215218Z
LAST-MODIFIED:20251104T200847Z
UID:10002553-1861090200-1861093800@www.bayshoreseniors.ca
SUMMARY:VON Smart Fitness Program
DESCRIPTION:(Seniors maintaining active roles together): An exercise program for seniors that accommodates all levels of ability. It improves strength\, balance\, flexibility\, and cardiovascular health and is designed to reduce the risk of falls.\nPre-registration is encouraged. Contact VON Smart Fitness to register: 705-355-2200
URL:https://www.bayshoreseniors.ca/event/von-smart-fitness-program-2/2028-12-22/
LOCATION:Main Hall
CATEGORIES:Fitness
ATTACH;FMTTYPE=image/jpeg:https://www.bayshoreseniors.ca/wp-content/uploads/2025/03/exercise.jpg
END:VEVENT
BEGIN:VEVENT
DTSTART;TZID=America/Toronto:20281229T093000
DTEND;TZID=America/Toronto:20281229T103000
DTSTAMP:20260421T001131
CREATED:20250829T215218Z
LAST-MODIFIED:20251104T200847Z
UID:10002554-1861695000-1861698600@www.bayshoreseniors.ca
SUMMARY:VON Smart Fitness Program
DESCRIPTION:(Seniors maintaining active roles together): An exercise program for seniors that accommodates all levels of ability. It improves strength\, balance\, flexibility\, and cardiovascular health and is designed to reduce the risk of falls.\nPre-registration is encouraged. Contact VON Smart Fitness to register: 705-355-2200
URL:https://www.bayshoreseniors.ca/event/von-smart-fitness-program-2/2028-12-29/
LOCATION:Main Hall
CATEGORIES:Fitness
ATTACH;FMTTYPE=image/jpeg:https://www.bayshoreseniors.ca/wp-content/uploads/2025/03/exercise.jpg
END:VEVENT
BEGIN:VEVENT
DTSTART;TZID=America/Toronto:20290105T093000
DTEND;TZID=America/Toronto:20290105T103000
DTSTAMP:20260421T001131
CREATED:20250829T215218Z
LAST-MODIFIED:20251104T200847Z
UID:10002555-1862299800-1862303400@www.bayshoreseniors.ca
SUMMARY:VON Smart Fitness Program
DESCRIPTION:(Seniors maintaining active roles together): An exercise program for seniors that accommodates all levels of ability. It improves strength\, balance\, flexibility\, and cardiovascular health and is designed to reduce the risk of falls.\nPre-registration is encouraged. Contact VON Smart Fitness to register: 705-355-2200
URL:https://www.bayshoreseniors.ca/event/von-smart-fitness-program-2/2029-01-05/
LOCATION:Main Hall
CATEGORIES:Fitness
ATTACH;FMTTYPE=image/jpeg:https://www.bayshoreseniors.ca/wp-content/uploads/2025/03/exercise.jpg
END:VEVENT
BEGIN:VEVENT
DTSTART;TZID=America/Toronto:20290112T093000
DTEND;TZID=America/Toronto:20290112T103000
DTSTAMP:20260421T001131
CREATED:20250829T215218Z
LAST-MODIFIED:20251104T200847Z
UID:10002556-1862904600-1862908200@www.bayshoreseniors.ca
SUMMARY:VON Smart Fitness Program
DESCRIPTION:(Seniors maintaining active roles together): An exercise program for seniors that accommodates all levels of ability. It improves strength\, balance\, flexibility\, and cardiovascular health and is designed to reduce the risk of falls.\nPre-registration is encouraged. Contact VON Smart Fitness to register: 705-355-2200
URL:https://www.bayshoreseniors.ca/event/von-smart-fitness-program-2/2029-01-12/
LOCATION:Main Hall
CATEGORIES:Fitness
ATTACH;FMTTYPE=image/jpeg:https://www.bayshoreseniors.ca/wp-content/uploads/2025/03/exercise.jpg
END:VEVENT
BEGIN:VEVENT
DTSTART;TZID=America/Toronto:20290119T093000
DTEND;TZID=America/Toronto:20290119T103000
DTSTAMP:20260421T001131
CREATED:20250829T215218Z
LAST-MODIFIED:20251104T200847Z
UID:10002557-1863509400-1863513000@www.bayshoreseniors.ca
SUMMARY:VON Smart Fitness Program
DESCRIPTION:(Seniors maintaining active roles together): An exercise program for seniors that accommodates all levels of ability. It improves strength\, balance\, flexibility\, and cardiovascular health and is designed to reduce the risk of falls.\nPre-registration is encouraged. Contact VON Smart Fitness to register: 705-355-2200
URL:https://www.bayshoreseniors.ca/event/von-smart-fitness-program-2/2029-01-19/
LOCATION:Main Hall
CATEGORIES:Fitness
ATTACH;FMTTYPE=image/jpeg:https://www.bayshoreseniors.ca/wp-content/uploads/2025/03/exercise.jpg
END:VEVENT
BEGIN:VEVENT
DTSTART;TZID=America/Toronto:20290126T093000
DTEND;TZID=America/Toronto:20290126T103000
DTSTAMP:20260421T001131
CREATED:20250829T215218Z
LAST-MODIFIED:20251104T200847Z
UID:10002558-1864114200-1864117800@www.bayshoreseniors.ca
SUMMARY:VON Smart Fitness Program
DESCRIPTION:(Seniors maintaining active roles together): An exercise program for seniors that accommodates all levels of ability. It improves strength\, balance\, flexibility\, and cardiovascular health and is designed to reduce the risk of falls.\nPre-registration is encouraged. Contact VON Smart Fitness to register: 705-355-2200
URL:https://www.bayshoreseniors.ca/event/von-smart-fitness-program-2/2029-01-26/
LOCATION:Main Hall
CATEGORIES:Fitness
ATTACH;FMTTYPE=image/jpeg:https://www.bayshoreseniors.ca/wp-content/uploads/2025/03/exercise.jpg
END:VEVENT
BEGIN:VEVENT
DTSTART;TZID=America/Toronto:20290202T093000
DTEND;TZID=America/Toronto:20290202T103000
DTSTAMP:20260421T001131
CREATED:20250829T215218Z
LAST-MODIFIED:20251104T200847Z
UID:10002559-1864719000-1864722600@www.bayshoreseniors.ca
SUMMARY:VON Smart Fitness Program
DESCRIPTION:(Seniors maintaining active roles together): An exercise program for seniors that accommodates all levels of ability. It improves strength\, balance\, flexibility\, and cardiovascular health and is designed to reduce the risk of falls.\nPre-registration is encouraged. Contact VON Smart Fitness to register: 705-355-2200
URL:https://www.bayshoreseniors.ca/event/von-smart-fitness-program-2/2029-02-02/
LOCATION:Main Hall
CATEGORIES:Fitness
ATTACH;FMTTYPE=image/jpeg:https://www.bayshoreseniors.ca/wp-content/uploads/2025/03/exercise.jpg
END:VEVENT
BEGIN:VEVENT
DTSTART;TZID=America/Toronto:20290209T093000
DTEND;TZID=America/Toronto:20290209T103000
DTSTAMP:20260421T001131
CREATED:20250829T215218Z
LAST-MODIFIED:20251104T200847Z
UID:10002560-1865323800-1865327400@www.bayshoreseniors.ca
SUMMARY:VON Smart Fitness Program
DESCRIPTION:(Seniors maintaining active roles together): An exercise program for seniors that accommodates all levels of ability. It improves strength\, balance\, flexibility\, and cardiovascular health and is designed to reduce the risk of falls.\nPre-registration is encouraged. Contact VON Smart Fitness to register: 705-355-2200
URL:https://www.bayshoreseniors.ca/event/von-smart-fitness-program-2/2029-02-09/
LOCATION:Main Hall
CATEGORIES:Fitness
ATTACH;FMTTYPE=image/jpeg:https://www.bayshoreseniors.ca/wp-content/uploads/2025/03/exercise.jpg
END:VEVENT
BEGIN:VEVENT
DTSTART;TZID=America/Toronto:20290216T093000
DTEND;TZID=America/Toronto:20290216T103000
DTSTAMP:20260421T001131
CREATED:20250829T215218Z
LAST-MODIFIED:20251104T200847Z
UID:10002561-1865928600-1865932200@www.bayshoreseniors.ca
SUMMARY:VON Smart Fitness Program
DESCRIPTION:(Seniors maintaining active roles together): An exercise program for seniors that accommodates all levels of ability. It improves strength\, balance\, flexibility\, and cardiovascular health and is designed to reduce the risk of falls.\nPre-registration is encouraged. Contact VON Smart Fitness to register: 705-355-2200
URL:https://www.bayshoreseniors.ca/event/von-smart-fitness-program-2/2029-02-16/
LOCATION:Main Hall
CATEGORIES:Fitness
ATTACH;FMTTYPE=image/jpeg:https://www.bayshoreseniors.ca/wp-content/uploads/2025/03/exercise.jpg
END:VEVENT
BEGIN:VEVENT
DTSTART;TZID=America/Toronto:20290223T093000
DTEND;TZID=America/Toronto:20290223T103000
DTSTAMP:20260421T001131
CREATED:20250829T215218Z
LAST-MODIFIED:20251104T200847Z
UID:10002562-1866533400-1866537000@www.bayshoreseniors.ca
SUMMARY:VON Smart Fitness Program
DESCRIPTION:(Seniors maintaining active roles together): An exercise program for seniors that accommodates all levels of ability. It improves strength\, balance\, flexibility\, and cardiovascular health and is designed to reduce the risk of falls.\nPre-registration is encouraged. Contact VON Smart Fitness to register: 705-355-2200
URL:https://www.bayshoreseniors.ca/event/von-smart-fitness-program-2/2029-02-23/
LOCATION:Main Hall
CATEGORIES:Fitness
ATTACH;FMTTYPE=image/jpeg:https://www.bayshoreseniors.ca/wp-content/uploads/2025/03/exercise.jpg
END:VEVENT
BEGIN:VEVENT
DTSTART;TZID=America/Toronto:20290302T093000
DTEND;TZID=America/Toronto:20290302T103000
DTSTAMP:20260421T001131
CREATED:20250829T215218Z
LAST-MODIFIED:20251104T200847Z
UID:10002563-1867138200-1867141800@www.bayshoreseniors.ca
SUMMARY:VON Smart Fitness Program
DESCRIPTION:(Seniors maintaining active roles together): An exercise program for seniors that accommodates all levels of ability. It improves strength\, balance\, flexibility\, and cardiovascular health and is designed to reduce the risk of falls.\nPre-registration is encouraged. Contact VON Smart Fitness to register: 705-355-2200
URL:https://www.bayshoreseniors.ca/event/von-smart-fitness-program-2/2029-03-02/
LOCATION:Main Hall
CATEGORIES:Fitness
ATTACH;FMTTYPE=image/jpeg:https://www.bayshoreseniors.ca/wp-content/uploads/2025/03/exercise.jpg
END:VEVENT
BEGIN:VEVENT
DTSTART;TZID=America/Toronto:20290309T093000
DTEND;TZID=America/Toronto:20290309T103000
DTSTAMP:20260421T001131
CREATED:20250829T215218Z
LAST-MODIFIED:20251104T200847Z
UID:10002564-1867743000-1867746600@www.bayshoreseniors.ca
SUMMARY:VON Smart Fitness Program
DESCRIPTION:(Seniors maintaining active roles together): An exercise program for seniors that accommodates all levels of ability. It improves strength\, balance\, flexibility\, and cardiovascular health and is designed to reduce the risk of falls.\nPre-registration is encouraged. Contact VON Smart Fitness to register: 705-355-2200
URL:https://www.bayshoreseniors.ca/event/von-smart-fitness-program-2/2029-03-09/
LOCATION:Main Hall
CATEGORIES:Fitness
ATTACH;FMTTYPE=image/jpeg:https://www.bayshoreseniors.ca/wp-content/uploads/2025/03/exercise.jpg
END:VEVENT
BEGIN:VEVENT
DTSTART;TZID=America/Toronto:20290316T093000
DTEND;TZID=America/Toronto:20290316T103000
DTSTAMP:20260421T001131
CREATED:20250829T215218Z
LAST-MODIFIED:20251104T200847Z
UID:10002565-1868347800-1868351400@www.bayshoreseniors.ca
SUMMARY:VON Smart Fitness Program
DESCRIPTION:(Seniors maintaining active roles together): An exercise program for seniors that accommodates all levels of ability. It improves strength\, balance\, flexibility\, and cardiovascular health and is designed to reduce the risk of falls.\nPre-registration is encouraged. Contact VON Smart Fitness to register: 705-355-2200
URL:https://www.bayshoreseniors.ca/event/von-smart-fitness-program-2/2029-03-16/
LOCATION:Main Hall
CATEGORIES:Fitness
ATTACH;FMTTYPE=image/jpeg:https://www.bayshoreseniors.ca/wp-content/uploads/2025/03/exercise.jpg
END:VEVENT
BEGIN:VEVENT
DTSTART;TZID=America/Toronto:20290323T093000
DTEND;TZID=America/Toronto:20290323T103000
DTSTAMP:20260421T001131
CREATED:20250829T215218Z
LAST-MODIFIED:20251104T200847Z
UID:10002566-1868952600-1868956200@www.bayshoreseniors.ca
SUMMARY:VON Smart Fitness Program
DESCRIPTION:(Seniors maintaining active roles together): An exercise program for seniors that accommodates all levels of ability. It improves strength\, balance\, flexibility\, and cardiovascular health and is designed to reduce the risk of falls.\nPre-registration is encouraged. Contact VON Smart Fitness to register: 705-355-2200
URL:https://www.bayshoreseniors.ca/event/von-smart-fitness-program-2/2029-03-23/
LOCATION:Main Hall
CATEGORIES:Fitness
ATTACH;FMTTYPE=image/jpeg:https://www.bayshoreseniors.ca/wp-content/uploads/2025/03/exercise.jpg
END:VEVENT
END:VCALENDAR