BEGIN:VCALENDAR
VERSION:2.0
PRODID:-//Bayshore Seniors - ECPv6.15.18//NONSGML v1.0//EN
CALSCALE:GREGORIAN
METHOD:PUBLISH
X-WR-CALNAME:Bayshore Seniors
X-ORIGINAL-URL:https://www.bayshoreseniors.ca
X-WR-CALDESC:Events for Bayshore Seniors
REFRESH-INTERVAL;VALUE=DURATION:PT1H
X-Robots-Tag:noindex
X-PUBLISHED-TTL:PT1H
BEGIN:VTIMEZONE
TZID:America/Toronto
BEGIN:DAYLIGHT
TZOFFSETFROM:-0500
TZOFFSETTO:-0400
TZNAME:EDT
DTSTART:20280312T070000
END:DAYLIGHT
BEGIN:STANDARD
TZOFFSETFROM:-0400
TZOFFSETTO:-0500
TZNAME:EST
DTSTART:20281105T060000
END:STANDARD
BEGIN:DAYLIGHT
TZOFFSETFROM:-0500
TZOFFSETTO:-0400
TZNAME:EDT
DTSTART:20290311T070000
END:DAYLIGHT
BEGIN:STANDARD
TZOFFSETFROM:-0400
TZOFFSETTO:-0500
TZNAME:EST
DTSTART:20291104T060000
END:STANDARD
BEGIN:DAYLIGHT
TZOFFSETFROM:-0500
TZOFFSETTO:-0400
TZNAME:EDT
DTSTART:20300310T070000
END:DAYLIGHT
BEGIN:STANDARD
TZOFFSETFROM:-0400
TZOFFSETTO:-0500
TZNAME:EST
DTSTART:20301103T060000
END:STANDARD
BEGIN:DAYLIGHT
TZOFFSETFROM:-0500
TZOFFSETTO:-0400
TZNAME:EDT
DTSTART:20310309T070000
END:DAYLIGHT
BEGIN:STANDARD
TZOFFSETFROM:-0400
TZOFFSETTO:-0500
TZNAME:EST
DTSTART:20311102T060000
END:STANDARD
END:VTIMEZONE
BEGIN:VEVENT
DTSTART;TZID=America/Toronto:20291116T093000
DTEND;TZID=America/Toronto:20291116T103000
DTSTAMP:20260421T011723
CREATED:20250829T215218Z
LAST-MODIFIED:20251104T200847Z
UID:10002600-1889515800-1889519400@www.bayshoreseniors.ca
SUMMARY:VON Smart Fitness Program
DESCRIPTION:(Seniors maintaining active roles together): An exercise program for seniors that accommodates all levels of ability. It improves strength\, balance\, flexibility\, and cardiovascular health and is designed to reduce the risk of falls.\nPre-registration is encouraged. Contact VON Smart Fitness to register: 705-355-2200
URL:https://www.bayshoreseniors.ca/event/von-smart-fitness-program-2/2029-11-16/
LOCATION:Main Hall
CATEGORIES:Fitness
ATTACH;FMTTYPE=image/jpeg:https://www.bayshoreseniors.ca/wp-content/uploads/2025/03/exercise.jpg
END:VEVENT
BEGIN:VEVENT
DTSTART;TZID=America/Toronto:20291123T093000
DTEND;TZID=America/Toronto:20291123T103000
DTSTAMP:20260421T011723
CREATED:20250829T215218Z
LAST-MODIFIED:20251104T200847Z
UID:10002601-1890120600-1890124200@www.bayshoreseniors.ca
SUMMARY:VON Smart Fitness Program
DESCRIPTION:(Seniors maintaining active roles together): An exercise program for seniors that accommodates all levels of ability. It improves strength\, balance\, flexibility\, and cardiovascular health and is designed to reduce the risk of falls.\nPre-registration is encouraged. Contact VON Smart Fitness to register: 705-355-2200
URL:https://www.bayshoreseniors.ca/event/von-smart-fitness-program-2/2029-11-23/
LOCATION:Main Hall
CATEGORIES:Fitness
ATTACH;FMTTYPE=image/jpeg:https://www.bayshoreseniors.ca/wp-content/uploads/2025/03/exercise.jpg
END:VEVENT
BEGIN:VEVENT
DTSTART;TZID=America/Toronto:20291130T093000
DTEND;TZID=America/Toronto:20291130T103000
DTSTAMP:20260421T011723
CREATED:20250829T215218Z
LAST-MODIFIED:20251104T200847Z
UID:10002602-1890725400-1890729000@www.bayshoreseniors.ca
SUMMARY:VON Smart Fitness Program
DESCRIPTION:(Seniors maintaining active roles together): An exercise program for seniors that accommodates all levels of ability. It improves strength\, balance\, flexibility\, and cardiovascular health and is designed to reduce the risk of falls.\nPre-registration is encouraged. Contact VON Smart Fitness to register: 705-355-2200
URL:https://www.bayshoreseniors.ca/event/von-smart-fitness-program-2/2029-11-30/
LOCATION:Main Hall
CATEGORIES:Fitness
ATTACH;FMTTYPE=image/jpeg:https://www.bayshoreseniors.ca/wp-content/uploads/2025/03/exercise.jpg
END:VEVENT
BEGIN:VEVENT
DTSTART;TZID=America/Toronto:20291207T093000
DTEND;TZID=America/Toronto:20291207T103000
DTSTAMP:20260421T011723
CREATED:20250829T215218Z
LAST-MODIFIED:20251104T200847Z
UID:10002603-1891330200-1891333800@www.bayshoreseniors.ca
SUMMARY:VON Smart Fitness Program
DESCRIPTION:(Seniors maintaining active roles together): An exercise program for seniors that accommodates all levels of ability. It improves strength\, balance\, flexibility\, and cardiovascular health and is designed to reduce the risk of falls.\nPre-registration is encouraged. Contact VON Smart Fitness to register: 705-355-2200
URL:https://www.bayshoreseniors.ca/event/von-smart-fitness-program-2/2029-12-07/
LOCATION:Main Hall
CATEGORIES:Fitness
ATTACH;FMTTYPE=image/jpeg:https://www.bayshoreseniors.ca/wp-content/uploads/2025/03/exercise.jpg
END:VEVENT
BEGIN:VEVENT
DTSTART;TZID=America/Toronto:20291214T093000
DTEND;TZID=America/Toronto:20291214T103000
DTSTAMP:20260421T011723
CREATED:20250829T215218Z
LAST-MODIFIED:20251104T200847Z
UID:10002604-1891935000-1891938600@www.bayshoreseniors.ca
SUMMARY:VON Smart Fitness Program
DESCRIPTION:(Seniors maintaining active roles together): An exercise program for seniors that accommodates all levels of ability. It improves strength\, balance\, flexibility\, and cardiovascular health and is designed to reduce the risk of falls.\nPre-registration is encouraged. Contact VON Smart Fitness to register: 705-355-2200
URL:https://www.bayshoreseniors.ca/event/von-smart-fitness-program-2/2029-12-14/
LOCATION:Main Hall
CATEGORIES:Fitness
ATTACH;FMTTYPE=image/jpeg:https://www.bayshoreseniors.ca/wp-content/uploads/2025/03/exercise.jpg
END:VEVENT
BEGIN:VEVENT
DTSTART;TZID=America/Toronto:20291221T093000
DTEND;TZID=America/Toronto:20291221T103000
DTSTAMP:20260421T011723
CREATED:20250829T215218Z
LAST-MODIFIED:20251104T200847Z
UID:10002605-1892539800-1892543400@www.bayshoreseniors.ca
SUMMARY:VON Smart Fitness Program
DESCRIPTION:(Seniors maintaining active roles together): An exercise program for seniors that accommodates all levels of ability. It improves strength\, balance\, flexibility\, and cardiovascular health and is designed to reduce the risk of falls.\nPre-registration is encouraged. Contact VON Smart Fitness to register: 705-355-2200
URL:https://www.bayshoreseniors.ca/event/von-smart-fitness-program-2/2029-12-21/
LOCATION:Main Hall
CATEGORIES:Fitness
ATTACH;FMTTYPE=image/jpeg:https://www.bayshoreseniors.ca/wp-content/uploads/2025/03/exercise.jpg
END:VEVENT
BEGIN:VEVENT
DTSTART;TZID=America/Toronto:20291228T093000
DTEND;TZID=America/Toronto:20291228T103000
DTSTAMP:20260421T011723
CREATED:20250829T215218Z
LAST-MODIFIED:20251104T200847Z
UID:10002606-1893144600-1893148200@www.bayshoreseniors.ca
SUMMARY:VON Smart Fitness Program
DESCRIPTION:(Seniors maintaining active roles together): An exercise program for seniors that accommodates all levels of ability. It improves strength\, balance\, flexibility\, and cardiovascular health and is designed to reduce the risk of falls.\nPre-registration is encouraged. Contact VON Smart Fitness to register: 705-355-2200
URL:https://www.bayshoreseniors.ca/event/von-smart-fitness-program-2/2029-12-28/
LOCATION:Main Hall
CATEGORIES:Fitness
ATTACH;FMTTYPE=image/jpeg:https://www.bayshoreseniors.ca/wp-content/uploads/2025/03/exercise.jpg
END:VEVENT
BEGIN:VEVENT
DTSTART;TZID=America/Toronto:20300104T093000
DTEND;TZID=America/Toronto:20300104T103000
DTSTAMP:20260421T011723
CREATED:20250829T215218Z
LAST-MODIFIED:20251104T200847Z
UID:10002607-1893749400-1893753000@www.bayshoreseniors.ca
SUMMARY:VON Smart Fitness Program
DESCRIPTION:(Seniors maintaining active roles together): An exercise program for seniors that accommodates all levels of ability. It improves strength\, balance\, flexibility\, and cardiovascular health and is designed to reduce the risk of falls.\nPre-registration is encouraged. Contact VON Smart Fitness to register: 705-355-2200
URL:https://www.bayshoreseniors.ca/event/von-smart-fitness-program-2/2030-01-04/
LOCATION:Main Hall
CATEGORIES:Fitness
ATTACH;FMTTYPE=image/jpeg:https://www.bayshoreseniors.ca/wp-content/uploads/2025/03/exercise.jpg
END:VEVENT
BEGIN:VEVENT
DTSTART;TZID=America/Toronto:20300111T093000
DTEND;TZID=America/Toronto:20300111T103000
DTSTAMP:20260421T011723
CREATED:20250829T215218Z
LAST-MODIFIED:20251104T200847Z
UID:10002608-1894354200-1894357800@www.bayshoreseniors.ca
SUMMARY:VON Smart Fitness Program
DESCRIPTION:(Seniors maintaining active roles together): An exercise program for seniors that accommodates all levels of ability. It improves strength\, balance\, flexibility\, and cardiovascular health and is designed to reduce the risk of falls.\nPre-registration is encouraged. Contact VON Smart Fitness to register: 705-355-2200
URL:https://www.bayshoreseniors.ca/event/von-smart-fitness-program-2/2030-01-11/
LOCATION:Main Hall
CATEGORIES:Fitness
ATTACH;FMTTYPE=image/jpeg:https://www.bayshoreseniors.ca/wp-content/uploads/2025/03/exercise.jpg
END:VEVENT
BEGIN:VEVENT
DTSTART;TZID=America/Toronto:20300118T093000
DTEND;TZID=America/Toronto:20300118T103000
DTSTAMP:20260421T011723
CREATED:20250829T215218Z
LAST-MODIFIED:20251104T200847Z
UID:10002609-1894959000-1894962600@www.bayshoreseniors.ca
SUMMARY:VON Smart Fitness Program
DESCRIPTION:(Seniors maintaining active roles together): An exercise program for seniors that accommodates all levels of ability. It improves strength\, balance\, flexibility\, and cardiovascular health and is designed to reduce the risk of falls.\nPre-registration is encouraged. Contact VON Smart Fitness to register: 705-355-2200
URL:https://www.bayshoreseniors.ca/event/von-smart-fitness-program-2/2030-01-18/
LOCATION:Main Hall
CATEGORIES:Fitness
ATTACH;FMTTYPE=image/jpeg:https://www.bayshoreseniors.ca/wp-content/uploads/2025/03/exercise.jpg
END:VEVENT
BEGIN:VEVENT
DTSTART;TZID=America/Toronto:20300125T093000
DTEND;TZID=America/Toronto:20300125T103000
DTSTAMP:20260421T011723
CREATED:20250829T215218Z
LAST-MODIFIED:20251104T200847Z
UID:10002610-1895563800-1895567400@www.bayshoreseniors.ca
SUMMARY:VON Smart Fitness Program
DESCRIPTION:(Seniors maintaining active roles together): An exercise program for seniors that accommodates all levels of ability. It improves strength\, balance\, flexibility\, and cardiovascular health and is designed to reduce the risk of falls.\nPre-registration is encouraged. Contact VON Smart Fitness to register: 705-355-2200
URL:https://www.bayshoreseniors.ca/event/von-smart-fitness-program-2/2030-01-25/
LOCATION:Main Hall
CATEGORIES:Fitness
ATTACH;FMTTYPE=image/jpeg:https://www.bayshoreseniors.ca/wp-content/uploads/2025/03/exercise.jpg
END:VEVENT
BEGIN:VEVENT
DTSTART;TZID=America/Toronto:20300201T093000
DTEND;TZID=America/Toronto:20300201T103000
DTSTAMP:20260421T011723
CREATED:20250829T215218Z
LAST-MODIFIED:20251104T200847Z
UID:10002611-1896168600-1896172200@www.bayshoreseniors.ca
SUMMARY:VON Smart Fitness Program
DESCRIPTION:(Seniors maintaining active roles together): An exercise program for seniors that accommodates all levels of ability. It improves strength\, balance\, flexibility\, and cardiovascular health and is designed to reduce the risk of falls.\nPre-registration is encouraged. Contact VON Smart Fitness to register: 705-355-2200
URL:https://www.bayshoreseniors.ca/event/von-smart-fitness-program-2/2030-02-01/
LOCATION:Main Hall
CATEGORIES:Fitness
ATTACH;FMTTYPE=image/jpeg:https://www.bayshoreseniors.ca/wp-content/uploads/2025/03/exercise.jpg
END:VEVENT
BEGIN:VEVENT
DTSTART;TZID=America/Toronto:20300208T093000
DTEND;TZID=America/Toronto:20300208T103000
DTSTAMP:20260421T011723
CREATED:20250829T215218Z
LAST-MODIFIED:20251104T200847Z
UID:10002612-1896773400-1896777000@www.bayshoreseniors.ca
SUMMARY:VON Smart Fitness Program
DESCRIPTION:(Seniors maintaining active roles together): An exercise program for seniors that accommodates all levels of ability. It improves strength\, balance\, flexibility\, and cardiovascular health and is designed to reduce the risk of falls.\nPre-registration is encouraged. Contact VON Smart Fitness to register: 705-355-2200
URL:https://www.bayshoreseniors.ca/event/von-smart-fitness-program-2/2030-02-08/
LOCATION:Main Hall
CATEGORIES:Fitness
ATTACH;FMTTYPE=image/jpeg:https://www.bayshoreseniors.ca/wp-content/uploads/2025/03/exercise.jpg
END:VEVENT
BEGIN:VEVENT
DTSTART;TZID=America/Toronto:20300215T093000
DTEND;TZID=America/Toronto:20300215T103000
DTSTAMP:20260421T011723
CREATED:20250829T215218Z
LAST-MODIFIED:20251104T200847Z
UID:10002613-1897378200-1897381800@www.bayshoreseniors.ca
SUMMARY:VON Smart Fitness Program
DESCRIPTION:(Seniors maintaining active roles together): An exercise program for seniors that accommodates all levels of ability. It improves strength\, balance\, flexibility\, and cardiovascular health and is designed to reduce the risk of falls.\nPre-registration is encouraged. Contact VON Smart Fitness to register: 705-355-2200
URL:https://www.bayshoreseniors.ca/event/von-smart-fitness-program-2/2030-02-15/
LOCATION:Main Hall
CATEGORIES:Fitness
ATTACH;FMTTYPE=image/jpeg:https://www.bayshoreseniors.ca/wp-content/uploads/2025/03/exercise.jpg
END:VEVENT
BEGIN:VEVENT
DTSTART;TZID=America/Toronto:20300222T093000
DTEND;TZID=America/Toronto:20300222T103000
DTSTAMP:20260421T011723
CREATED:20250829T215218Z
LAST-MODIFIED:20251104T200847Z
UID:10002614-1897983000-1897986600@www.bayshoreseniors.ca
SUMMARY:VON Smart Fitness Program
DESCRIPTION:(Seniors maintaining active roles together): An exercise program for seniors that accommodates all levels of ability. It improves strength\, balance\, flexibility\, and cardiovascular health and is designed to reduce the risk of falls.\nPre-registration is encouraged. Contact VON Smart Fitness to register: 705-355-2200
URL:https://www.bayshoreseniors.ca/event/von-smart-fitness-program-2/2030-02-22/
LOCATION:Main Hall
CATEGORIES:Fitness
ATTACH;FMTTYPE=image/jpeg:https://www.bayshoreseniors.ca/wp-content/uploads/2025/03/exercise.jpg
END:VEVENT
BEGIN:VEVENT
DTSTART;TZID=America/Toronto:20300301T093000
DTEND;TZID=America/Toronto:20300301T103000
DTSTAMP:20260421T011723
CREATED:20250829T215218Z
LAST-MODIFIED:20251104T200847Z
UID:10002615-1898587800-1898591400@www.bayshoreseniors.ca
SUMMARY:VON Smart Fitness Program
DESCRIPTION:(Seniors maintaining active roles together): An exercise program for seniors that accommodates all levels of ability. It improves strength\, balance\, flexibility\, and cardiovascular health and is designed to reduce the risk of falls.\nPre-registration is encouraged. Contact VON Smart Fitness to register: 705-355-2200
URL:https://www.bayshoreseniors.ca/event/von-smart-fitness-program-2/2030-03-01/
LOCATION:Main Hall
CATEGORIES:Fitness
ATTACH;FMTTYPE=image/jpeg:https://www.bayshoreseniors.ca/wp-content/uploads/2025/03/exercise.jpg
END:VEVENT
BEGIN:VEVENT
DTSTART;TZID=America/Toronto:20300308T093000
DTEND;TZID=America/Toronto:20300308T103000
DTSTAMP:20260421T011723
CREATED:20250829T215218Z
LAST-MODIFIED:20251104T200847Z
UID:10002616-1899192600-1899196200@www.bayshoreseniors.ca
SUMMARY:VON Smart Fitness Program
DESCRIPTION:(Seniors maintaining active roles together): An exercise program for seniors that accommodates all levels of ability. It improves strength\, balance\, flexibility\, and cardiovascular health and is designed to reduce the risk of falls.\nPre-registration is encouraged. Contact VON Smart Fitness to register: 705-355-2200
URL:https://www.bayshoreseniors.ca/event/von-smart-fitness-program-2/2030-03-08/
LOCATION:Main Hall
CATEGORIES:Fitness
ATTACH;FMTTYPE=image/jpeg:https://www.bayshoreseniors.ca/wp-content/uploads/2025/03/exercise.jpg
END:VEVENT
BEGIN:VEVENT
DTSTART;TZID=America/Toronto:20300315T093000
DTEND;TZID=America/Toronto:20300315T103000
DTSTAMP:20260421T011723
CREATED:20250829T215218Z
LAST-MODIFIED:20251104T200847Z
UID:10002617-1899797400-1899801000@www.bayshoreseniors.ca
SUMMARY:VON Smart Fitness Program
DESCRIPTION:(Seniors maintaining active roles together): An exercise program for seniors that accommodates all levels of ability. It improves strength\, balance\, flexibility\, and cardiovascular health and is designed to reduce the risk of falls.\nPre-registration is encouraged. Contact VON Smart Fitness to register: 705-355-2200
URL:https://www.bayshoreseniors.ca/event/von-smart-fitness-program-2/2030-03-15/
LOCATION:Main Hall
CATEGORIES:Fitness
ATTACH;FMTTYPE=image/jpeg:https://www.bayshoreseniors.ca/wp-content/uploads/2025/03/exercise.jpg
END:VEVENT
BEGIN:VEVENT
DTSTART;TZID=America/Toronto:20300322T093000
DTEND;TZID=America/Toronto:20300322T103000
DTSTAMP:20260421T011723
CREATED:20250829T215218Z
LAST-MODIFIED:20251104T200847Z
UID:10002618-1900402200-1900405800@www.bayshoreseniors.ca
SUMMARY:VON Smart Fitness Program
DESCRIPTION:(Seniors maintaining active roles together): An exercise program for seniors that accommodates all levels of ability. It improves strength\, balance\, flexibility\, and cardiovascular health and is designed to reduce the risk of falls.\nPre-registration is encouraged. Contact VON Smart Fitness to register: 705-355-2200
URL:https://www.bayshoreseniors.ca/event/von-smart-fitness-program-2/2030-03-22/
LOCATION:Main Hall
CATEGORIES:Fitness
ATTACH;FMTTYPE=image/jpeg:https://www.bayshoreseniors.ca/wp-content/uploads/2025/03/exercise.jpg
END:VEVENT
BEGIN:VEVENT
DTSTART;TZID=America/Toronto:20300329T093000
DTEND;TZID=America/Toronto:20300329T103000
DTSTAMP:20260421T011723
CREATED:20250829T215218Z
LAST-MODIFIED:20251104T200847Z
UID:10002619-1901007000-1901010600@www.bayshoreseniors.ca
SUMMARY:VON Smart Fitness Program
DESCRIPTION:(Seniors maintaining active roles together): An exercise program for seniors that accommodates all levels of ability. It improves strength\, balance\, flexibility\, and cardiovascular health and is designed to reduce the risk of falls.\nPre-registration is encouraged. Contact VON Smart Fitness to register: 705-355-2200
URL:https://www.bayshoreseniors.ca/event/von-smart-fitness-program-2/2030-03-29/
LOCATION:Main Hall
CATEGORIES:Fitness
ATTACH;FMTTYPE=image/jpeg:https://www.bayshoreseniors.ca/wp-content/uploads/2025/03/exercise.jpg
END:VEVENT
BEGIN:VEVENT
DTSTART;TZID=America/Toronto:20300405T093000
DTEND;TZID=America/Toronto:20300405T103000
DTSTAMP:20260421T011723
CREATED:20250829T215218Z
LAST-MODIFIED:20251104T200847Z
UID:10002620-1901611800-1901615400@www.bayshoreseniors.ca
SUMMARY:VON Smart Fitness Program
DESCRIPTION:(Seniors maintaining active roles together): An exercise program for seniors that accommodates all levels of ability. It improves strength\, balance\, flexibility\, and cardiovascular health and is designed to reduce the risk of falls.\nPre-registration is encouraged. Contact VON Smart Fitness to register: 705-355-2200
URL:https://www.bayshoreseniors.ca/event/von-smart-fitness-program-2/2030-04-05/
LOCATION:Main Hall
CATEGORIES:Fitness
ATTACH;FMTTYPE=image/jpeg:https://www.bayshoreseniors.ca/wp-content/uploads/2025/03/exercise.jpg
END:VEVENT
BEGIN:VEVENT
DTSTART;TZID=America/Toronto:20300412T093000
DTEND;TZID=America/Toronto:20300412T103000
DTSTAMP:20260421T011723
CREATED:20250829T215218Z
LAST-MODIFIED:20251104T200847Z
UID:10002621-1902216600-1902220200@www.bayshoreseniors.ca
SUMMARY:VON Smart Fitness Program
DESCRIPTION:(Seniors maintaining active roles together): An exercise program for seniors that accommodates all levels of ability. It improves strength\, balance\, flexibility\, and cardiovascular health and is designed to reduce the risk of falls.\nPre-registration is encouraged. Contact VON Smart Fitness to register: 705-355-2200
URL:https://www.bayshoreseniors.ca/event/von-smart-fitness-program-2/2030-04-12/
LOCATION:Main Hall
CATEGORIES:Fitness
ATTACH;FMTTYPE=image/jpeg:https://www.bayshoreseniors.ca/wp-content/uploads/2025/03/exercise.jpg
END:VEVENT
BEGIN:VEVENT
DTSTART;TZID=America/Toronto:20300419T093000
DTEND;TZID=America/Toronto:20300419T103000
DTSTAMP:20260421T011723
CREATED:20250829T215218Z
LAST-MODIFIED:20251104T200847Z
UID:10002622-1902821400-1902825000@www.bayshoreseniors.ca
SUMMARY:VON Smart Fitness Program
DESCRIPTION:(Seniors maintaining active roles together): An exercise program for seniors that accommodates all levels of ability. It improves strength\, balance\, flexibility\, and cardiovascular health and is designed to reduce the risk of falls.\nPre-registration is encouraged. Contact VON Smart Fitness to register: 705-355-2200
URL:https://www.bayshoreseniors.ca/event/von-smart-fitness-program-2/2030-04-19/
LOCATION:Main Hall
CATEGORIES:Fitness
ATTACH;FMTTYPE=image/jpeg:https://www.bayshoreseniors.ca/wp-content/uploads/2025/03/exercise.jpg
END:VEVENT
BEGIN:VEVENT
DTSTART;TZID=America/Toronto:20300426T093000
DTEND;TZID=America/Toronto:20300426T103000
DTSTAMP:20260421T011723
CREATED:20250829T215218Z
LAST-MODIFIED:20251104T200847Z
UID:10002623-1903426200-1903429800@www.bayshoreseniors.ca
SUMMARY:VON Smart Fitness Program
DESCRIPTION:(Seniors maintaining active roles together): An exercise program for seniors that accommodates all levels of ability. It improves strength\, balance\, flexibility\, and cardiovascular health and is designed to reduce the risk of falls.\nPre-registration is encouraged. Contact VON Smart Fitness to register: 705-355-2200
URL:https://www.bayshoreseniors.ca/event/von-smart-fitness-program-2/2030-04-26/
LOCATION:Main Hall
CATEGORIES:Fitness
ATTACH;FMTTYPE=image/jpeg:https://www.bayshoreseniors.ca/wp-content/uploads/2025/03/exercise.jpg
END:VEVENT
BEGIN:VEVENT
DTSTART;TZID=America/Toronto:20300503T093000
DTEND;TZID=America/Toronto:20300503T103000
DTSTAMP:20260421T011723
CREATED:20250829T215218Z
LAST-MODIFIED:20251104T200847Z
UID:10002624-1904031000-1904034600@www.bayshoreseniors.ca
SUMMARY:VON Smart Fitness Program
DESCRIPTION:(Seniors maintaining active roles together): An exercise program for seniors that accommodates all levels of ability. It improves strength\, balance\, flexibility\, and cardiovascular health and is designed to reduce the risk of falls.\nPre-registration is encouraged. Contact VON Smart Fitness to register: 705-355-2200
URL:https://www.bayshoreseniors.ca/event/von-smart-fitness-program-2/2030-05-03/
LOCATION:Main Hall
CATEGORIES:Fitness
ATTACH;FMTTYPE=image/jpeg:https://www.bayshoreseniors.ca/wp-content/uploads/2025/03/exercise.jpg
END:VEVENT
BEGIN:VEVENT
DTSTART;TZID=America/Toronto:20300510T093000
DTEND;TZID=America/Toronto:20300510T103000
DTSTAMP:20260421T011723
CREATED:20250829T215218Z
LAST-MODIFIED:20251104T200847Z
UID:10002625-1904635800-1904639400@www.bayshoreseniors.ca
SUMMARY:VON Smart Fitness Program
DESCRIPTION:(Seniors maintaining active roles together): An exercise program for seniors that accommodates all levels of ability. It improves strength\, balance\, flexibility\, and cardiovascular health and is designed to reduce the risk of falls.\nPre-registration is encouraged. Contact VON Smart Fitness to register: 705-355-2200
URL:https://www.bayshoreseniors.ca/event/von-smart-fitness-program-2/2030-05-10/
LOCATION:Main Hall
CATEGORIES:Fitness
ATTACH;FMTTYPE=image/jpeg:https://www.bayshoreseniors.ca/wp-content/uploads/2025/03/exercise.jpg
END:VEVENT
BEGIN:VEVENT
DTSTART;TZID=America/Toronto:20300517T093000
DTEND;TZID=America/Toronto:20300517T103000
DTSTAMP:20260421T011723
CREATED:20250829T215218Z
LAST-MODIFIED:20251104T200847Z
UID:10002626-1905240600-1905244200@www.bayshoreseniors.ca
SUMMARY:VON Smart Fitness Program
DESCRIPTION:(Seniors maintaining active roles together): An exercise program for seniors that accommodates all levels of ability. It improves strength\, balance\, flexibility\, and cardiovascular health and is designed to reduce the risk of falls.\nPre-registration is encouraged. Contact VON Smart Fitness to register: 705-355-2200
URL:https://www.bayshoreseniors.ca/event/von-smart-fitness-program-2/2030-05-17/
LOCATION:Main Hall
CATEGORIES:Fitness
ATTACH;FMTTYPE=image/jpeg:https://www.bayshoreseniors.ca/wp-content/uploads/2025/03/exercise.jpg
END:VEVENT
BEGIN:VEVENT
DTSTART;TZID=America/Toronto:20300524T093000
DTEND;TZID=America/Toronto:20300524T103000
DTSTAMP:20260421T011723
CREATED:20250829T215218Z
LAST-MODIFIED:20251104T200847Z
UID:10002627-1905845400-1905849000@www.bayshoreseniors.ca
SUMMARY:VON Smart Fitness Program
DESCRIPTION:(Seniors maintaining active roles together): An exercise program for seniors that accommodates all levels of ability. It improves strength\, balance\, flexibility\, and cardiovascular health and is designed to reduce the risk of falls.\nPre-registration is encouraged. Contact VON Smart Fitness to register: 705-355-2200
URL:https://www.bayshoreseniors.ca/event/von-smart-fitness-program-2/2030-05-24/
LOCATION:Main Hall
CATEGORIES:Fitness
ATTACH;FMTTYPE=image/jpeg:https://www.bayshoreseniors.ca/wp-content/uploads/2025/03/exercise.jpg
END:VEVENT
BEGIN:VEVENT
DTSTART;TZID=America/Toronto:20300531T093000
DTEND;TZID=America/Toronto:20300531T103000
DTSTAMP:20260421T011723
CREATED:20250829T215218Z
LAST-MODIFIED:20251104T200847Z
UID:10002628-1906450200-1906453800@www.bayshoreseniors.ca
SUMMARY:VON Smart Fitness Program
DESCRIPTION:(Seniors maintaining active roles together): An exercise program for seniors that accommodates all levels of ability. It improves strength\, balance\, flexibility\, and cardiovascular health and is designed to reduce the risk of falls.\nPre-registration is encouraged. Contact VON Smart Fitness to register: 705-355-2200
URL:https://www.bayshoreseniors.ca/event/von-smart-fitness-program-2/2030-05-31/
LOCATION:Main Hall
CATEGORIES:Fitness
ATTACH;FMTTYPE=image/jpeg:https://www.bayshoreseniors.ca/wp-content/uploads/2025/03/exercise.jpg
END:VEVENT
BEGIN:VEVENT
DTSTART;TZID=America/Toronto:20300607T093000
DTEND;TZID=America/Toronto:20300607T103000
DTSTAMP:20260421T011723
CREATED:20250829T215218Z
LAST-MODIFIED:20251104T200847Z
UID:10002629-1907055000-1907058600@www.bayshoreseniors.ca
SUMMARY:VON Smart Fitness Program
DESCRIPTION:(Seniors maintaining active roles together): An exercise program for seniors that accommodates all levels of ability. It improves strength\, balance\, flexibility\, and cardiovascular health and is designed to reduce the risk of falls.\nPre-registration is encouraged. Contact VON Smart Fitness to register: 705-355-2200
URL:https://www.bayshoreseniors.ca/event/von-smart-fitness-program-2/2030-06-07/
LOCATION:Main Hall
CATEGORIES:Fitness
ATTACH;FMTTYPE=image/jpeg:https://www.bayshoreseniors.ca/wp-content/uploads/2025/03/exercise.jpg
END:VEVENT
END:VCALENDAR