BEGIN:VCALENDAR
VERSION:2.0
PRODID:-//Bayshore Seniors - ECPv6.15.18//NONSGML v1.0//EN
CALSCALE:GREGORIAN
METHOD:PUBLISH
X-WR-CALNAME:Bayshore Seniors
X-ORIGINAL-URL:https://www.bayshoreseniors.ca
X-WR-CALDESC:Events for Bayshore Seniors
REFRESH-INTERVAL;VALUE=DURATION:PT1H
X-Robots-Tag:noindex
X-PUBLISHED-TTL:PT1H
BEGIN:VTIMEZONE
TZID:America/Toronto
BEGIN:DAYLIGHT
TZOFFSETFROM:-0500
TZOFFSETTO:-0400
TZNAME:EDT
DTSTART:20250309T070000
END:DAYLIGHT
BEGIN:STANDARD
TZOFFSETFROM:-0400
TZOFFSETTO:-0500
TZNAME:EST
DTSTART:20251102T060000
END:STANDARD
BEGIN:DAYLIGHT
TZOFFSETFROM:-0500
TZOFFSETTO:-0400
TZNAME:EDT
DTSTART:20260308T070000
END:DAYLIGHT
BEGIN:STANDARD
TZOFFSETFROM:-0400
TZOFFSETTO:-0500
TZNAME:EST
DTSTART:20261101T060000
END:STANDARD
BEGIN:DAYLIGHT
TZOFFSETFROM:-0500
TZOFFSETTO:-0400
TZNAME:EDT
DTSTART:20270314T070000
END:DAYLIGHT
BEGIN:STANDARD
TZOFFSETFROM:-0400
TZOFFSETTO:-0500
TZNAME:EST
DTSTART:20271107T060000
END:STANDARD
END:VTIMEZONE
BEGIN:VEVENT
DTSTART;TZID=America/Toronto:20260327T093000
DTEND;TZID=America/Toronto:20260327T103000
DTSTAMP:20260419T233247
CREATED:20250829T215218Z
LAST-MODIFIED:20251104T200847Z
UID:10002410-1774603800-1774607400@www.bayshoreseniors.ca
SUMMARY:VON Smart Fitness Program
DESCRIPTION:(Seniors maintaining active roles together): An exercise program for seniors that accommodates all levels of ability. It improves strength\, balance\, flexibility\, and cardiovascular health and is designed to reduce the risk of falls.\nPre-registration is encouraged. Contact VON Smart Fitness to register: 705-355-2200
URL:https://www.bayshoreseniors.ca/event/von-smart-fitness-program-2/2026-03-27/
LOCATION:Main Hall
CATEGORIES:Fitness
ATTACH;FMTTYPE=image/jpeg:https://www.bayshoreseniors.ca/wp-content/uploads/2025/03/exercise.jpg
END:VEVENT
BEGIN:VEVENT
DTSTART;TZID=America/Toronto:20260403T093000
DTEND;TZID=America/Toronto:20260403T103000
DTSTAMP:20260419T233247
CREATED:20250829T215218Z
LAST-MODIFIED:20251104T200847Z
UID:10002411-1775208600-1775212200@www.bayshoreseniors.ca
SUMMARY:VON Smart Fitness Program
DESCRIPTION:(Seniors maintaining active roles together): An exercise program for seniors that accommodates all levels of ability. It improves strength\, balance\, flexibility\, and cardiovascular health and is designed to reduce the risk of falls.\nPre-registration is encouraged. Contact VON Smart Fitness to register: 705-355-2200
URL:https://www.bayshoreseniors.ca/event/von-smart-fitness-program-2/2026-04-03/
LOCATION:Main Hall
CATEGORIES:Fitness
ATTACH;FMTTYPE=image/jpeg:https://www.bayshoreseniors.ca/wp-content/uploads/2025/03/exercise.jpg
END:VEVENT
BEGIN:VEVENT
DTSTART;TZID=America/Toronto:20260410T093000
DTEND;TZID=America/Toronto:20260410T103000
DTSTAMP:20260419T233247
CREATED:20250829T215218Z
LAST-MODIFIED:20251104T200847Z
UID:10002412-1775813400-1775817000@www.bayshoreseniors.ca
SUMMARY:VON Smart Fitness Program
DESCRIPTION:(Seniors maintaining active roles together): An exercise program for seniors that accommodates all levels of ability. It improves strength\, balance\, flexibility\, and cardiovascular health and is designed to reduce the risk of falls.\nPre-registration is encouraged. Contact VON Smart Fitness to register: 705-355-2200
URL:https://www.bayshoreseniors.ca/event/von-smart-fitness-program-2/2026-04-10/
LOCATION:Main Hall
CATEGORIES:Fitness
ATTACH;FMTTYPE=image/jpeg:https://www.bayshoreseniors.ca/wp-content/uploads/2025/03/exercise.jpg
END:VEVENT
BEGIN:VEVENT
DTSTART;TZID=America/Toronto:20260417T093000
DTEND;TZID=America/Toronto:20260417T103000
DTSTAMP:20260419T233247
CREATED:20250829T215218Z
LAST-MODIFIED:20251104T200847Z
UID:10002413-1776418200-1776421800@www.bayshoreseniors.ca
SUMMARY:VON Smart Fitness Program
DESCRIPTION:(Seniors maintaining active roles together): An exercise program for seniors that accommodates all levels of ability. It improves strength\, balance\, flexibility\, and cardiovascular health and is designed to reduce the risk of falls.\nPre-registration is encouraged. Contact VON Smart Fitness to register: 705-355-2200
URL:https://www.bayshoreseniors.ca/event/von-smart-fitness-program-2/2026-04-17/
LOCATION:Main Hall
CATEGORIES:Fitness
ATTACH;FMTTYPE=image/jpeg:https://www.bayshoreseniors.ca/wp-content/uploads/2025/03/exercise.jpg
END:VEVENT
BEGIN:VEVENT
DTSTART;TZID=America/Toronto:20260424T093000
DTEND;TZID=America/Toronto:20260424T103000
DTSTAMP:20260419T233247
CREATED:20250829T215218Z
LAST-MODIFIED:20251104T200847Z
UID:10002414-1777023000-1777026600@www.bayshoreseniors.ca
SUMMARY:VON Smart Fitness Program
DESCRIPTION:(Seniors maintaining active roles together): An exercise program for seniors that accommodates all levels of ability. It improves strength\, balance\, flexibility\, and cardiovascular health and is designed to reduce the risk of falls.\nPre-registration is encouraged. Contact VON Smart Fitness to register: 705-355-2200
URL:https://www.bayshoreseniors.ca/event/von-smart-fitness-program-2/2026-04-24/
LOCATION:Main Hall
CATEGORIES:Fitness
ATTACH;FMTTYPE=image/jpeg:https://www.bayshoreseniors.ca/wp-content/uploads/2025/03/exercise.jpg
END:VEVENT
BEGIN:VEVENT
DTSTART;TZID=America/Toronto:20260501T093000
DTEND;TZID=America/Toronto:20260501T103000
DTSTAMP:20260419T233247
CREATED:20250829T215218Z
LAST-MODIFIED:20251104T200847Z
UID:10002415-1777627800-1777631400@www.bayshoreseniors.ca
SUMMARY:VON Smart Fitness Program
DESCRIPTION:(Seniors maintaining active roles together): An exercise program for seniors that accommodates all levels of ability. It improves strength\, balance\, flexibility\, and cardiovascular health and is designed to reduce the risk of falls.\nPre-registration is encouraged. Contact VON Smart Fitness to register: 705-355-2200
URL:https://www.bayshoreseniors.ca/event/von-smart-fitness-program-2/2026-05-01/
LOCATION:Main Hall
CATEGORIES:Fitness
ATTACH;FMTTYPE=image/jpeg:https://www.bayshoreseniors.ca/wp-content/uploads/2025/03/exercise.jpg
END:VEVENT
BEGIN:VEVENT
DTSTART;TZID=America/Toronto:20260508T093000
DTEND;TZID=America/Toronto:20260508T103000
DTSTAMP:20260419T233247
CREATED:20250829T215218Z
LAST-MODIFIED:20251104T200847Z
UID:10002416-1778232600-1778236200@www.bayshoreseniors.ca
SUMMARY:VON Smart Fitness Program
DESCRIPTION:(Seniors maintaining active roles together): An exercise program for seniors that accommodates all levels of ability. It improves strength\, balance\, flexibility\, and cardiovascular health and is designed to reduce the risk of falls.\nPre-registration is encouraged. Contact VON Smart Fitness to register: 705-355-2200
URL:https://www.bayshoreseniors.ca/event/von-smart-fitness-program-2/2026-05-08/
LOCATION:Main Hall
CATEGORIES:Fitness
ATTACH;FMTTYPE=image/jpeg:https://www.bayshoreseniors.ca/wp-content/uploads/2025/03/exercise.jpg
END:VEVENT
BEGIN:VEVENT
DTSTART;TZID=America/Toronto:20260515T093000
DTEND;TZID=America/Toronto:20260515T103000
DTSTAMP:20260419T233247
CREATED:20250829T215218Z
LAST-MODIFIED:20251104T200847Z
UID:10002417-1778837400-1778841000@www.bayshoreseniors.ca
SUMMARY:VON Smart Fitness Program
DESCRIPTION:(Seniors maintaining active roles together): An exercise program for seniors that accommodates all levels of ability. It improves strength\, balance\, flexibility\, and cardiovascular health and is designed to reduce the risk of falls.\nPre-registration is encouraged. Contact VON Smart Fitness to register: 705-355-2200
URL:https://www.bayshoreseniors.ca/event/von-smart-fitness-program-2/2026-05-15/
LOCATION:Main Hall
CATEGORIES:Fitness
ATTACH;FMTTYPE=image/jpeg:https://www.bayshoreseniors.ca/wp-content/uploads/2025/03/exercise.jpg
END:VEVENT
BEGIN:VEVENT
DTSTART;TZID=America/Toronto:20260522T093000
DTEND;TZID=America/Toronto:20260522T103000
DTSTAMP:20260419T233247
CREATED:20250829T215218Z
LAST-MODIFIED:20251104T200847Z
UID:10002418-1779442200-1779445800@www.bayshoreseniors.ca
SUMMARY:VON Smart Fitness Program
DESCRIPTION:(Seniors maintaining active roles together): An exercise program for seniors that accommodates all levels of ability. It improves strength\, balance\, flexibility\, and cardiovascular health and is designed to reduce the risk of falls.\nPre-registration is encouraged. Contact VON Smart Fitness to register: 705-355-2200
URL:https://www.bayshoreseniors.ca/event/von-smart-fitness-program-2/2026-05-22/
LOCATION:Main Hall
CATEGORIES:Fitness
ATTACH;FMTTYPE=image/jpeg:https://www.bayshoreseniors.ca/wp-content/uploads/2025/03/exercise.jpg
END:VEVENT
BEGIN:VEVENT
DTSTART;TZID=America/Toronto:20260529T093000
DTEND;TZID=America/Toronto:20260529T103000
DTSTAMP:20260419T233247
CREATED:20250829T215218Z
LAST-MODIFIED:20251104T200847Z
UID:10002419-1780047000-1780050600@www.bayshoreseniors.ca
SUMMARY:VON Smart Fitness Program
DESCRIPTION:(Seniors maintaining active roles together): An exercise program for seniors that accommodates all levels of ability. It improves strength\, balance\, flexibility\, and cardiovascular health and is designed to reduce the risk of falls.\nPre-registration is encouraged. Contact VON Smart Fitness to register: 705-355-2200
URL:https://www.bayshoreseniors.ca/event/von-smart-fitness-program-2/2026-05-29/
LOCATION:Main Hall
CATEGORIES:Fitness
ATTACH;FMTTYPE=image/jpeg:https://www.bayshoreseniors.ca/wp-content/uploads/2025/03/exercise.jpg
END:VEVENT
BEGIN:VEVENT
DTSTART;TZID=America/Toronto:20260605T093000
DTEND;TZID=America/Toronto:20260605T103000
DTSTAMP:20260419T233247
CREATED:20250829T215218Z
LAST-MODIFIED:20251104T200847Z
UID:10002420-1780651800-1780655400@www.bayshoreseniors.ca
SUMMARY:VON Smart Fitness Program
DESCRIPTION:(Seniors maintaining active roles together): An exercise program for seniors that accommodates all levels of ability. It improves strength\, balance\, flexibility\, and cardiovascular health and is designed to reduce the risk of falls.\nPre-registration is encouraged. Contact VON Smart Fitness to register: 705-355-2200
URL:https://www.bayshoreseniors.ca/event/von-smart-fitness-program-2/2026-06-05/
LOCATION:Main Hall
CATEGORIES:Fitness
ATTACH;FMTTYPE=image/jpeg:https://www.bayshoreseniors.ca/wp-content/uploads/2025/03/exercise.jpg
END:VEVENT
BEGIN:VEVENT
DTSTART;TZID=America/Toronto:20260612T093000
DTEND;TZID=America/Toronto:20260612T103000
DTSTAMP:20260419T233247
CREATED:20250829T215218Z
LAST-MODIFIED:20251104T200847Z
UID:10002421-1781256600-1781260200@www.bayshoreseniors.ca
SUMMARY:VON Smart Fitness Program
DESCRIPTION:(Seniors maintaining active roles together): An exercise program for seniors that accommodates all levels of ability. It improves strength\, balance\, flexibility\, and cardiovascular health and is designed to reduce the risk of falls.\nPre-registration is encouraged. Contact VON Smart Fitness to register: 705-355-2200
URL:https://www.bayshoreseniors.ca/event/von-smart-fitness-program-2/2026-06-12/
LOCATION:Main Hall
CATEGORIES:Fitness
ATTACH;FMTTYPE=image/jpeg:https://www.bayshoreseniors.ca/wp-content/uploads/2025/03/exercise.jpg
END:VEVENT
BEGIN:VEVENT
DTSTART;TZID=America/Toronto:20260619T093000
DTEND;TZID=America/Toronto:20260619T103000
DTSTAMP:20260419T233247
CREATED:20250829T215218Z
LAST-MODIFIED:20251104T200847Z
UID:10002422-1781861400-1781865000@www.bayshoreseniors.ca
SUMMARY:VON Smart Fitness Program
DESCRIPTION:(Seniors maintaining active roles together): An exercise program for seniors that accommodates all levels of ability. It improves strength\, balance\, flexibility\, and cardiovascular health and is designed to reduce the risk of falls.\nPre-registration is encouraged. Contact VON Smart Fitness to register: 705-355-2200
URL:https://www.bayshoreseniors.ca/event/von-smart-fitness-program-2/2026-06-19/
LOCATION:Main Hall
CATEGORIES:Fitness
ATTACH;FMTTYPE=image/jpeg:https://www.bayshoreseniors.ca/wp-content/uploads/2025/03/exercise.jpg
END:VEVENT
BEGIN:VEVENT
DTSTART;TZID=America/Toronto:20260626T093000
DTEND;TZID=America/Toronto:20260626T103000
DTSTAMP:20260419T233247
CREATED:20250829T215218Z
LAST-MODIFIED:20251104T200847Z
UID:10002423-1782466200-1782469800@www.bayshoreseniors.ca
SUMMARY:VON Smart Fitness Program
DESCRIPTION:(Seniors maintaining active roles together): An exercise program for seniors that accommodates all levels of ability. It improves strength\, balance\, flexibility\, and cardiovascular health and is designed to reduce the risk of falls.\nPre-registration is encouraged. Contact VON Smart Fitness to register: 705-355-2200
URL:https://www.bayshoreseniors.ca/event/von-smart-fitness-program-2/2026-06-26/
LOCATION:Main Hall
CATEGORIES:Fitness
ATTACH;FMTTYPE=image/jpeg:https://www.bayshoreseniors.ca/wp-content/uploads/2025/03/exercise.jpg
END:VEVENT
BEGIN:VEVENT
DTSTART;TZID=America/Toronto:20260703T093000
DTEND;TZID=America/Toronto:20260703T103000
DTSTAMP:20260419T233247
CREATED:20250829T215218Z
LAST-MODIFIED:20251104T200847Z
UID:10002424-1783071000-1783074600@www.bayshoreseniors.ca
SUMMARY:VON Smart Fitness Program
DESCRIPTION:(Seniors maintaining active roles together): An exercise program for seniors that accommodates all levels of ability. It improves strength\, balance\, flexibility\, and cardiovascular health and is designed to reduce the risk of falls.\nPre-registration is encouraged. Contact VON Smart Fitness to register: 705-355-2200
URL:https://www.bayshoreseniors.ca/event/von-smart-fitness-program-2/2026-07-03/
LOCATION:Main Hall
CATEGORIES:Fitness
ATTACH;FMTTYPE=image/jpeg:https://www.bayshoreseniors.ca/wp-content/uploads/2025/03/exercise.jpg
END:VEVENT
BEGIN:VEVENT
DTSTART;TZID=America/Toronto:20260710T093000
DTEND;TZID=America/Toronto:20260710T103000
DTSTAMP:20260419T233247
CREATED:20250829T215218Z
LAST-MODIFIED:20251104T200847Z
UID:10002425-1783675800-1783679400@www.bayshoreseniors.ca
SUMMARY:VON Smart Fitness Program
DESCRIPTION:(Seniors maintaining active roles together): An exercise program for seniors that accommodates all levels of ability. It improves strength\, balance\, flexibility\, and cardiovascular health and is designed to reduce the risk of falls.\nPre-registration is encouraged. Contact VON Smart Fitness to register: 705-355-2200
URL:https://www.bayshoreseniors.ca/event/von-smart-fitness-program-2/2026-07-10/
LOCATION:Main Hall
CATEGORIES:Fitness
ATTACH;FMTTYPE=image/jpeg:https://www.bayshoreseniors.ca/wp-content/uploads/2025/03/exercise.jpg
END:VEVENT
BEGIN:VEVENT
DTSTART;TZID=America/Toronto:20260717T093000
DTEND;TZID=America/Toronto:20260717T103000
DTSTAMP:20260419T233247
CREATED:20250829T215218Z
LAST-MODIFIED:20251104T200847Z
UID:10002426-1784280600-1784284200@www.bayshoreseniors.ca
SUMMARY:VON Smart Fitness Program
DESCRIPTION:(Seniors maintaining active roles together): An exercise program for seniors that accommodates all levels of ability. It improves strength\, balance\, flexibility\, and cardiovascular health and is designed to reduce the risk of falls.\nPre-registration is encouraged. Contact VON Smart Fitness to register: 705-355-2200
URL:https://www.bayshoreseniors.ca/event/von-smart-fitness-program-2/2026-07-17/
LOCATION:Main Hall
CATEGORIES:Fitness
ATTACH;FMTTYPE=image/jpeg:https://www.bayshoreseniors.ca/wp-content/uploads/2025/03/exercise.jpg
END:VEVENT
BEGIN:VEVENT
DTSTART;TZID=America/Toronto:20260724T093000
DTEND;TZID=America/Toronto:20260724T103000
DTSTAMP:20260419T233247
CREATED:20250829T215218Z
LAST-MODIFIED:20251104T200847Z
UID:10002427-1784885400-1784889000@www.bayshoreseniors.ca
SUMMARY:VON Smart Fitness Program
DESCRIPTION:(Seniors maintaining active roles together): An exercise program for seniors that accommodates all levels of ability. It improves strength\, balance\, flexibility\, and cardiovascular health and is designed to reduce the risk of falls.\nPre-registration is encouraged. Contact VON Smart Fitness to register: 705-355-2200
URL:https://www.bayshoreseniors.ca/event/von-smart-fitness-program-2/2026-07-24/
LOCATION:Main Hall
CATEGORIES:Fitness
ATTACH;FMTTYPE=image/jpeg:https://www.bayshoreseniors.ca/wp-content/uploads/2025/03/exercise.jpg
END:VEVENT
BEGIN:VEVENT
DTSTART;TZID=America/Toronto:20260731T093000
DTEND;TZID=America/Toronto:20260731T103000
DTSTAMP:20260419T233247
CREATED:20250829T215218Z
LAST-MODIFIED:20251104T200847Z
UID:10002428-1785490200-1785493800@www.bayshoreseniors.ca
SUMMARY:VON Smart Fitness Program
DESCRIPTION:(Seniors maintaining active roles together): An exercise program for seniors that accommodates all levels of ability. It improves strength\, balance\, flexibility\, and cardiovascular health and is designed to reduce the risk of falls.\nPre-registration is encouraged. Contact VON Smart Fitness to register: 705-355-2200
URL:https://www.bayshoreseniors.ca/event/von-smart-fitness-program-2/2026-07-31/
LOCATION:Main Hall
CATEGORIES:Fitness
ATTACH;FMTTYPE=image/jpeg:https://www.bayshoreseniors.ca/wp-content/uploads/2025/03/exercise.jpg
END:VEVENT
BEGIN:VEVENT
DTSTART;TZID=America/Toronto:20260807T093000
DTEND;TZID=America/Toronto:20260807T103000
DTSTAMP:20260419T233247
CREATED:20250829T215218Z
LAST-MODIFIED:20251104T200847Z
UID:10002429-1786095000-1786098600@www.bayshoreseniors.ca
SUMMARY:VON Smart Fitness Program
DESCRIPTION:(Seniors maintaining active roles together): An exercise program for seniors that accommodates all levels of ability. It improves strength\, balance\, flexibility\, and cardiovascular health and is designed to reduce the risk of falls.\nPre-registration is encouraged. Contact VON Smart Fitness to register: 705-355-2200
URL:https://www.bayshoreseniors.ca/event/von-smart-fitness-program-2/2026-08-07/
LOCATION:Main Hall
CATEGORIES:Fitness
ATTACH;FMTTYPE=image/jpeg:https://www.bayshoreseniors.ca/wp-content/uploads/2025/03/exercise.jpg
END:VEVENT
BEGIN:VEVENT
DTSTART;TZID=America/Toronto:20260814T093000
DTEND;TZID=America/Toronto:20260814T103000
DTSTAMP:20260419T233247
CREATED:20250829T215218Z
LAST-MODIFIED:20251104T200847Z
UID:10002430-1786699800-1786703400@www.bayshoreseniors.ca
SUMMARY:VON Smart Fitness Program
DESCRIPTION:(Seniors maintaining active roles together): An exercise program for seniors that accommodates all levels of ability. It improves strength\, balance\, flexibility\, and cardiovascular health and is designed to reduce the risk of falls.\nPre-registration is encouraged. Contact VON Smart Fitness to register: 705-355-2200
URL:https://www.bayshoreseniors.ca/event/von-smart-fitness-program-2/2026-08-14/
LOCATION:Main Hall
CATEGORIES:Fitness
ATTACH;FMTTYPE=image/jpeg:https://www.bayshoreseniors.ca/wp-content/uploads/2025/03/exercise.jpg
END:VEVENT
BEGIN:VEVENT
DTSTART;TZID=America/Toronto:20260821T093000
DTEND;TZID=America/Toronto:20260821T103000
DTSTAMP:20260419T233247
CREATED:20250829T215218Z
LAST-MODIFIED:20251104T200847Z
UID:10002431-1787304600-1787308200@www.bayshoreseniors.ca
SUMMARY:VON Smart Fitness Program
DESCRIPTION:(Seniors maintaining active roles together): An exercise program for seniors that accommodates all levels of ability. It improves strength\, balance\, flexibility\, and cardiovascular health and is designed to reduce the risk of falls.\nPre-registration is encouraged. Contact VON Smart Fitness to register: 705-355-2200
URL:https://www.bayshoreseniors.ca/event/von-smart-fitness-program-2/2026-08-21/
LOCATION:Main Hall
CATEGORIES:Fitness
ATTACH;FMTTYPE=image/jpeg:https://www.bayshoreseniors.ca/wp-content/uploads/2025/03/exercise.jpg
END:VEVENT
BEGIN:VEVENT
DTSTART;TZID=America/Toronto:20260828T093000
DTEND;TZID=America/Toronto:20260828T103000
DTSTAMP:20260419T233247
CREATED:20250829T215218Z
LAST-MODIFIED:20251104T200847Z
UID:10002432-1787909400-1787913000@www.bayshoreseniors.ca
SUMMARY:VON Smart Fitness Program
DESCRIPTION:(Seniors maintaining active roles together): An exercise program for seniors that accommodates all levels of ability. It improves strength\, balance\, flexibility\, and cardiovascular health and is designed to reduce the risk of falls.\nPre-registration is encouraged. Contact VON Smart Fitness to register: 705-355-2200
URL:https://www.bayshoreseniors.ca/event/von-smart-fitness-program-2/2026-08-28/
LOCATION:Main Hall
CATEGORIES:Fitness
ATTACH;FMTTYPE=image/jpeg:https://www.bayshoreseniors.ca/wp-content/uploads/2025/03/exercise.jpg
END:VEVENT
BEGIN:VEVENT
DTSTART;TZID=America/Toronto:20260904T093000
DTEND;TZID=America/Toronto:20260904T103000
DTSTAMP:20260419T233248
CREATED:20250829T215218Z
LAST-MODIFIED:20251104T200847Z
UID:10002433-1788514200-1788517800@www.bayshoreseniors.ca
SUMMARY:VON Smart Fitness Program
DESCRIPTION:(Seniors maintaining active roles together): An exercise program for seniors that accommodates all levels of ability. It improves strength\, balance\, flexibility\, and cardiovascular health and is designed to reduce the risk of falls.\nPre-registration is encouraged. Contact VON Smart Fitness to register: 705-355-2200
URL:https://www.bayshoreseniors.ca/event/von-smart-fitness-program-2/2026-09-04/
LOCATION:Main Hall
CATEGORIES:Fitness
ATTACH;FMTTYPE=image/jpeg:https://www.bayshoreseniors.ca/wp-content/uploads/2025/03/exercise.jpg
END:VEVENT
BEGIN:VEVENT
DTSTART;TZID=America/Toronto:20260911T093000
DTEND;TZID=America/Toronto:20260911T103000
DTSTAMP:20260419T233248
CREATED:20250829T215218Z
LAST-MODIFIED:20251104T200847Z
UID:10002434-1789119000-1789122600@www.bayshoreseniors.ca
SUMMARY:VON Smart Fitness Program
DESCRIPTION:(Seniors maintaining active roles together): An exercise program for seniors that accommodates all levels of ability. It improves strength\, balance\, flexibility\, and cardiovascular health and is designed to reduce the risk of falls.\nPre-registration is encouraged. Contact VON Smart Fitness to register: 705-355-2200
URL:https://www.bayshoreseniors.ca/event/von-smart-fitness-program-2/2026-09-11/
LOCATION:Main Hall
CATEGORIES:Fitness
ATTACH;FMTTYPE=image/jpeg:https://www.bayshoreseniors.ca/wp-content/uploads/2025/03/exercise.jpg
END:VEVENT
BEGIN:VEVENT
DTSTART;TZID=America/Toronto:20260918T093000
DTEND;TZID=America/Toronto:20260918T103000
DTSTAMP:20260419T233248
CREATED:20250829T215218Z
LAST-MODIFIED:20251104T200847Z
UID:10002435-1789723800-1789727400@www.bayshoreseniors.ca
SUMMARY:VON Smart Fitness Program
DESCRIPTION:(Seniors maintaining active roles together): An exercise program for seniors that accommodates all levels of ability. It improves strength\, balance\, flexibility\, and cardiovascular health and is designed to reduce the risk of falls.\nPre-registration is encouraged. Contact VON Smart Fitness to register: 705-355-2200
URL:https://www.bayshoreseniors.ca/event/von-smart-fitness-program-2/2026-09-18/
LOCATION:Main Hall
CATEGORIES:Fitness
ATTACH;FMTTYPE=image/jpeg:https://www.bayshoreseniors.ca/wp-content/uploads/2025/03/exercise.jpg
END:VEVENT
BEGIN:VEVENT
DTSTART;TZID=America/Toronto:20260925T093000
DTEND;TZID=America/Toronto:20260925T103000
DTSTAMP:20260419T233248
CREATED:20250829T215218Z
LAST-MODIFIED:20251104T200847Z
UID:10002436-1790328600-1790332200@www.bayshoreseniors.ca
SUMMARY:VON Smart Fitness Program
DESCRIPTION:(Seniors maintaining active roles together): An exercise program for seniors that accommodates all levels of ability. It improves strength\, balance\, flexibility\, and cardiovascular health and is designed to reduce the risk of falls.\nPre-registration is encouraged. Contact VON Smart Fitness to register: 705-355-2200
URL:https://www.bayshoreseniors.ca/event/von-smart-fitness-program-2/2026-09-25/
LOCATION:Main Hall
CATEGORIES:Fitness
ATTACH;FMTTYPE=image/jpeg:https://www.bayshoreseniors.ca/wp-content/uploads/2025/03/exercise.jpg
END:VEVENT
BEGIN:VEVENT
DTSTART;TZID=America/Toronto:20261002T093000
DTEND;TZID=America/Toronto:20261002T103000
DTSTAMP:20260419T233248
CREATED:20250829T215218Z
LAST-MODIFIED:20251104T200847Z
UID:10002437-1790933400-1790937000@www.bayshoreseniors.ca
SUMMARY:VON Smart Fitness Program
DESCRIPTION:(Seniors maintaining active roles together): An exercise program for seniors that accommodates all levels of ability. It improves strength\, balance\, flexibility\, and cardiovascular health and is designed to reduce the risk of falls.\nPre-registration is encouraged. Contact VON Smart Fitness to register: 705-355-2200
URL:https://www.bayshoreseniors.ca/event/von-smart-fitness-program-2/2026-10-02/
LOCATION:Main Hall
CATEGORIES:Fitness
ATTACH;FMTTYPE=image/jpeg:https://www.bayshoreseniors.ca/wp-content/uploads/2025/03/exercise.jpg
END:VEVENT
BEGIN:VEVENT
DTSTART;TZID=America/Toronto:20261009T093000
DTEND;TZID=America/Toronto:20261009T103000
DTSTAMP:20260419T233248
CREATED:20250829T215218Z
LAST-MODIFIED:20251104T200847Z
UID:10002438-1791538200-1791541800@www.bayshoreseniors.ca
SUMMARY:VON Smart Fitness Program
DESCRIPTION:(Seniors maintaining active roles together): An exercise program for seniors that accommodates all levels of ability. It improves strength\, balance\, flexibility\, and cardiovascular health and is designed to reduce the risk of falls.\nPre-registration is encouraged. Contact VON Smart Fitness to register: 705-355-2200
URL:https://www.bayshoreseniors.ca/event/von-smart-fitness-program-2/2026-10-09/
LOCATION:Main Hall
CATEGORIES:Fitness
ATTACH;FMTTYPE=image/jpeg:https://www.bayshoreseniors.ca/wp-content/uploads/2025/03/exercise.jpg
END:VEVENT
BEGIN:VEVENT
DTSTART;TZID=America/Toronto:20261016T093000
DTEND;TZID=America/Toronto:20261016T103000
DTSTAMP:20260419T233248
CREATED:20250829T215218Z
LAST-MODIFIED:20251104T200847Z
UID:10002439-1792143000-1792146600@www.bayshoreseniors.ca
SUMMARY:VON Smart Fitness Program
DESCRIPTION:(Seniors maintaining active roles together): An exercise program for seniors that accommodates all levels of ability. It improves strength\, balance\, flexibility\, and cardiovascular health and is designed to reduce the risk of falls.\nPre-registration is encouraged. Contact VON Smart Fitness to register: 705-355-2200
URL:https://www.bayshoreseniors.ca/event/von-smart-fitness-program-2/2026-10-16/
LOCATION:Main Hall
CATEGORIES:Fitness
ATTACH;FMTTYPE=image/jpeg:https://www.bayshoreseniors.ca/wp-content/uploads/2025/03/exercise.jpg
END:VEVENT
END:VCALENDAR