BEGIN:VCALENDAR
VERSION:2.0
PRODID:-//Bayshore Seniors - ECPv6.15.18//NONSGML v1.0//EN
CALSCALE:GREGORIAN
METHOD:PUBLISH
X-WR-CALNAME:Bayshore Seniors
X-ORIGINAL-URL:https://www.bayshoreseniors.ca
X-WR-CALDESC:Events for Bayshore Seniors
REFRESH-INTERVAL;VALUE=DURATION:PT1H
X-Robots-Tag:noindex
X-PUBLISHED-TTL:PT1H
BEGIN:VTIMEZONE
TZID:America/Toronto
BEGIN:DAYLIGHT
TZOFFSETFROM:-0500
TZOFFSETTO:-0400
TZNAME:EDT
DTSTART:20240310T070000
END:DAYLIGHT
BEGIN:STANDARD
TZOFFSETFROM:-0400
TZOFFSETTO:-0500
TZNAME:EST
DTSTART:20241103T060000
END:STANDARD
BEGIN:DAYLIGHT
TZOFFSETFROM:-0500
TZOFFSETTO:-0400
TZNAME:EDT
DTSTART:20250309T070000
END:DAYLIGHT
BEGIN:STANDARD
TZOFFSETFROM:-0400
TZOFFSETTO:-0500
TZNAME:EST
DTSTART:20251102T060000
END:STANDARD
BEGIN:DAYLIGHT
TZOFFSETFROM:-0500
TZOFFSETTO:-0400
TZNAME:EDT
DTSTART:20260308T070000
END:DAYLIGHT
BEGIN:STANDARD
TZOFFSETFROM:-0400
TZOFFSETTO:-0500
TZNAME:EST
DTSTART:20261101T060000
END:STANDARD
END:VTIMEZONE
BEGIN:VEVENT
DTSTART;TZID=America/Toronto:20250319T130000
DTEND;TZID=America/Toronto:20250319T160000
DTSTAMP:20260425T233507
CREATED:20250319T010428Z
LAST-MODIFIED:20251104T201056Z
UID:10004675-1742389200-1742400000@www.bayshoreseniors.ca
SUMMARY:Access Art
DESCRIPTION:This group gathers on Wednesday afternoons at 1 PM from September to June. Members explore different mediums such as watercolour\, acrylics\, oils\, pastels\, collages\, pencils\, and ink. The themes range from abstract to realistic art. People of all skill levels are encouraged to join.
URL:https://www.bayshoreseniors.ca/event/access-art/2025-03-19/
LOCATION:Craft Room
CATEGORIES:Art
ATTACH;FMTTYPE=image/jpeg:https://www.bayshoreseniors.ca/wp-content/uploads/2025/03/art.jpg
END:VEVENT
BEGIN:VEVENT
DTSTART;TZID=America/Toronto:20250318T183000
DTEND;TZID=America/Toronto:20250318T213000
DTSTAMP:20260425T233507
CREATED:20250318T211026Z
LAST-MODIFIED:20251104T201108Z
UID:10004995-1742322600-1742333400@www.bayshoreseniors.ca
SUMMARY:Bid Euchre
DESCRIPTION:This group meets on Tuesday nights throughout the year. New members are always welcome\, and experience is not necessary. You can look forward to playing and mingling with new friends amongst the dozen tables or so. Come and join us if you’re a card enthusiast!
URL:https://www.bayshoreseniors.ca/event/bid-euchre/2025-03-18/
LOCATION:Main Hall
CATEGORIES:Games
ATTACH;FMTTYPE=image/png:https://www.bayshoreseniors.ca/wp-content/uploads/2025/03/euchre.png
END:VEVENT
BEGIN:VEVENT
DTSTART;TZID=America/Toronto:20250316T130000
DTEND;TZID=America/Toronto:20250316T143000
DTSTAMP:20260425T233507
CREATED:20250318T212059Z
LAST-MODIFIED:20260426T003614Z
UID:10005290-1742130000-1742135400@www.bayshoreseniors.ca
SUMMARY:Pickleball-Sun 1:00 PM - 2:30 PM
DESCRIPTION:Our indoor court is available on weekdays and Sundays. Played on a court roughly one-third the size of a badminton court\, pickleball uses a low net\, graphite paddles\, and a lightweight plastic ball. It combines elements of tennis\, racquetball\, badminton\, and table tennis.\nCost: $2 \nHow to Register: \nClick on the REGISTER link\nEnter your name and an accurate email address\nClick SUBMIT\nIF you wish to add a guest – Click on +ADD GUEST and enter their information.\nSUBMIT\nYou will receive a SUCCESS message advising you to check your email inbox for a confirmation.\n[NOTE: MANY TIME THIS EMAIL COULD LAND IN YOUR SPAM FOLDER\, SO BE CERTAIN TO CHECK ALL FOLDERS]
URL:https://www.bayshoreseniors.ca/event/pickleball-s1pm/2025-03-16/
LOCATION:Main Hall
CATEGORIES:Sports
ATTACH;FMTTYPE=image/jpeg:https://www.bayshoreseniors.ca/wp-content/uploads/2025/03/pickleball-ladies-1.jpg
END:VEVENT
BEGIN:VEVENT
DTSTART;TZID=America/Toronto:20250311T183000
DTEND;TZID=America/Toronto:20250311T213000
DTSTAMP:20260425T233507
CREATED:20250318T211026Z
LAST-MODIFIED:20251104T201108Z
UID:10004994-1741717800-1741728600@www.bayshoreseniors.ca
SUMMARY:Bid Euchre
DESCRIPTION:This group meets on Tuesday nights throughout the year. New members are always welcome\, and experience is not necessary. You can look forward to playing and mingling with new friends amongst the dozen tables or so. Come and join us if you’re a card enthusiast!
URL:https://www.bayshoreseniors.ca/event/bid-euchre/2025-03-11/
LOCATION:Main Hall
CATEGORIES:Games
ATTACH;FMTTYPE=image/png:https://www.bayshoreseniors.ca/wp-content/uploads/2025/03/euchre.png
END:VEVENT
BEGIN:VEVENT
DTSTART;TZID=America/Toronto:20250309T130000
DTEND;TZID=America/Toronto:20250309T143000
DTSTAMP:20260425T233507
CREATED:20250318T212059Z
LAST-MODIFIED:20260426T003614Z
UID:10005289-1741525200-1741530600@www.bayshoreseniors.ca
SUMMARY:Pickleball-Sun 1:00 PM - 2:30 PM
DESCRIPTION:Our indoor court is available on weekdays and Sundays. Played on a court roughly one-third the size of a badminton court\, pickleball uses a low net\, graphite paddles\, and a lightweight plastic ball. It combines elements of tennis\, racquetball\, badminton\, and table tennis.\nCost: $2 \nHow to Register: \nClick on the REGISTER link\nEnter your name and an accurate email address\nClick SUBMIT\nIF you wish to add a guest – Click on +ADD GUEST and enter their information.\nSUBMIT\nYou will receive a SUCCESS message advising you to check your email inbox for a confirmation.\n[NOTE: MANY TIME THIS EMAIL COULD LAND IN YOUR SPAM FOLDER\, SO BE CERTAIN TO CHECK ALL FOLDERS]
URL:https://www.bayshoreseniors.ca/event/pickleball-s1pm/2025-03-09/
LOCATION:Main Hall
CATEGORIES:Sports
ATTACH;FMTTYPE=image/jpeg:https://www.bayshoreseniors.ca/wp-content/uploads/2025/03/pickleball-ladies-1.jpg
END:VEVENT
BEGIN:VEVENT
DTSTART;TZID=America/Toronto:20250304T183000
DTEND;TZID=America/Toronto:20250304T213000
DTSTAMP:20260425T233507
CREATED:20250318T211026Z
LAST-MODIFIED:20251104T201108Z
UID:10004993-1741113000-1741123800@www.bayshoreseniors.ca
SUMMARY:Bid Euchre
DESCRIPTION:This group meets on Tuesday nights throughout the year. New members are always welcome\, and experience is not necessary. You can look forward to playing and mingling with new friends amongst the dozen tables or so. Come and join us if you’re a card enthusiast!
URL:https://www.bayshoreseniors.ca/event/bid-euchre/2025-03-04/
LOCATION:Main Hall
CATEGORIES:Games
ATTACH;FMTTYPE=image/png:https://www.bayshoreseniors.ca/wp-content/uploads/2025/03/euchre.png
END:VEVENT
BEGIN:VEVENT
DTSTART;TZID=America/Toronto:20250302T130000
DTEND;TZID=America/Toronto:20250302T143000
DTSTAMP:20260425T233507
CREATED:20250318T212059Z
LAST-MODIFIED:20260426T003614Z
UID:10005288-1740920400-1740925800@www.bayshoreseniors.ca
SUMMARY:Pickleball-Sun 1:00 PM - 2:30 PM
DESCRIPTION:Our indoor court is available on weekdays and Sundays. Played on a court roughly one-third the size of a badminton court\, pickleball uses a low net\, graphite paddles\, and a lightweight plastic ball. It combines elements of tennis\, racquetball\, badminton\, and table tennis.\nCost: $2 \nHow to Register: \nClick on the REGISTER link\nEnter your name and an accurate email address\nClick SUBMIT\nIF you wish to add a guest – Click on +ADD GUEST and enter their information.\nSUBMIT\nYou will receive a SUCCESS message advising you to check your email inbox for a confirmation.\n[NOTE: MANY TIME THIS EMAIL COULD LAND IN YOUR SPAM FOLDER\, SO BE CERTAIN TO CHECK ALL FOLDERS]
URL:https://www.bayshoreseniors.ca/event/pickleball-s1pm/2025-03-02/
LOCATION:Main Hall
CATEGORIES:Sports
ATTACH;FMTTYPE=image/jpeg:https://www.bayshoreseniors.ca/wp-content/uploads/2025/03/pickleball-ladies-1.jpg
END:VEVENT
END:VCALENDAR