BEGIN:VCALENDAR
VERSION:2.0
PRODID:-//Bayshore Seniors - ECPv6.15.18//NONSGML v1.0//EN
CALSCALE:GREGORIAN
METHOD:PUBLISH
X-WR-CALNAME:Bayshore Seniors
X-ORIGINAL-URL:https://www.bayshoreseniors.ca
X-WR-CALDESC:Events for Bayshore Seniors
REFRESH-INTERVAL;VALUE=DURATION:PT1H
X-Robots-Tag:noindex
X-PUBLISHED-TTL:PT1H
BEGIN:VTIMEZONE
TZID:America/Toronto
BEGIN:DAYLIGHT
TZOFFSETFROM:-0500
TZOFFSETTO:-0400
TZNAME:EDT
DTSTART:20240310T070000
END:DAYLIGHT
BEGIN:STANDARD
TZOFFSETFROM:-0400
TZOFFSETTO:-0500
TZNAME:EST
DTSTART:20241103T060000
END:STANDARD
BEGIN:DAYLIGHT
TZOFFSETFROM:-0500
TZOFFSETTO:-0400
TZNAME:EDT
DTSTART:20250309T070000
END:DAYLIGHT
BEGIN:STANDARD
TZOFFSETFROM:-0400
TZOFFSETTO:-0500
TZNAME:EST
DTSTART:20251102T060000
END:STANDARD
BEGIN:DAYLIGHT
TZOFFSETFROM:-0500
TZOFFSETTO:-0400
TZNAME:EDT
DTSTART:20260308T070000
END:DAYLIGHT
BEGIN:STANDARD
TZOFFSETFROM:-0400
TZOFFSETTO:-0500
TZNAME:EST
DTSTART:20261101T060000
END:STANDARD
END:VTIMEZONE
BEGIN:VEVENT
DTSTART;TZID=America/Toronto:20250302T130000
DTEND;TZID=America/Toronto:20250302T143000
DTSTAMP:20260425T222558
CREATED:20250318T212059Z
LAST-MODIFIED:20260426T003614Z
UID:10005288-1740920400-1740925800@www.bayshoreseniors.ca
SUMMARY:Pickleball-Sun 1:00 PM - 2:30 PM
DESCRIPTION:Our indoor court is available on weekdays and Sundays. Played on a court roughly one-third the size of a badminton court\, pickleball uses a low net\, graphite paddles\, and a lightweight plastic ball. It combines elements of tennis\, racquetball\, badminton\, and table tennis.\nCost: $2 \nHow to Register: \nClick on the REGISTER link\nEnter your name and an accurate email address\nClick SUBMIT\nIF you wish to add a guest – Click on +ADD GUEST and enter their information.\nSUBMIT\nYou will receive a SUCCESS message advising you to check your email inbox for a confirmation.\n[NOTE: MANY TIME THIS EMAIL COULD LAND IN YOUR SPAM FOLDER\, SO BE CERTAIN TO CHECK ALL FOLDERS]
URL:https://www.bayshoreseniors.ca/event/pickleball-s1pm/2025-03-02/
LOCATION:Main Hall
CATEGORIES:Sports
ATTACH;FMTTYPE=image/jpeg:https://www.bayshoreseniors.ca/wp-content/uploads/2025/03/pickleball-ladies-1.jpg
END:VEVENT
END:VCALENDAR