BEGIN:VCALENDAR
VERSION:2.0
PRODID:-//Bayshore Seniors - ECPv6.15.18//NONSGML v1.0//EN
CALSCALE:GREGORIAN
METHOD:PUBLISH
X-WR-CALNAME:Bayshore Seniors
X-ORIGINAL-URL:https://www.bayshoreseniors.ca
X-WR-CALDESC:Events for Bayshore Seniors
REFRESH-INTERVAL;VALUE=DURATION:PT1H
X-Robots-Tag:noindex
X-PUBLISHED-TTL:PT1H
BEGIN:VTIMEZONE
TZID:America/Toronto
BEGIN:DAYLIGHT
TZOFFSETFROM:-0500
TZOFFSETTO:-0400
TZNAME:EDT
DTSTART:20300310T070000
END:DAYLIGHT
BEGIN:STANDARD
TZOFFSETFROM:-0400
TZOFFSETTO:-0500
TZNAME:EST
DTSTART:20301103T060000
END:STANDARD
BEGIN:DAYLIGHT
TZOFFSETFROM:-0500
TZOFFSETTO:-0400
TZNAME:EDT
DTSTART:20310309T070000
END:DAYLIGHT
BEGIN:STANDARD
TZOFFSETFROM:-0400
TZOFFSETTO:-0500
TZNAME:EST
DTSTART:20311102T060000
END:STANDARD
BEGIN:DAYLIGHT
TZOFFSETFROM:-0500
TZOFFSETTO:-0400
TZNAME:EDT
DTSTART:20320314T070000
END:DAYLIGHT
BEGIN:STANDARD
TZOFFSETFROM:-0400
TZOFFSETTO:-0500
TZNAME:EST
DTSTART:20321107T060000
END:STANDARD
END:VTIMEZONE
BEGIN:VEVENT
DTSTART;TZID=America/Toronto:20310425T160000
DTEND;TZID=America/Toronto:20310425T173000
DTSTAMP:20260425T215615
CREATED:20250829T223659Z
LAST-MODIFIED:20260426T003232Z
UID:10007845-1934899200-1934904600@www.bayshoreseniors.ca
SUMMARY:Pickleball-Fri 4 PM - 5:30 PM
DESCRIPTION:Our indoor court is available on weekdays and Sundays. Played on a court roughly one-third the size of a badminton court\, pickleball uses a low net\, graphite paddles\, and a lightweight plastic ball. It combines elements of tennis\, racquetball\, badminton\, and table tennis. \nCost: $2 \nHow to Register: \nClick on the REGISTER link\nEnter your name and an accurate email address\nClick SUBMIT\nIF you wish to add a guest – Click on +ADD GUEST and enter their information.\nSUBMIT\nYou will receive a SUCCESS message advising you to check your email inbox for a confirmation.\n[NOTE: MANY TIME THIS EMAIL COULD LAND IN YOUR SPAM FOLDER\, SO BE CERTAIN TO CHECK ALL FOLDERS]
URL:https://www.bayshoreseniors.ca/event/pickleball-fri-4pm-2/2031-04-25/
LOCATION:Main Hall
CATEGORIES:Sports
ATTACH;FMTTYPE=image/jpeg:https://www.bayshoreseniors.ca/wp-content/uploads/2025/05/Pickleball-Shot.jpg
END:VEVENT
END:VCALENDAR