BEGIN:VCALENDAR
VERSION:2.0
PRODID:-//Bayshore Seniors - ECPv6.15.18//NONSGML v1.0//EN
CALSCALE:GREGORIAN
METHOD:PUBLISH
X-WR-CALNAME:Bayshore Seniors
X-ORIGINAL-URL:https://www.bayshoreseniors.ca
X-WR-CALDESC:Events for Bayshore Seniors
REFRESH-INTERVAL;VALUE=DURATION:PT1H
X-Robots-Tag:noindex
X-PUBLISHED-TTL:PT1H
BEGIN:VTIMEZONE
TZID:America/Toronto
BEGIN:DAYLIGHT
TZOFFSETFROM:-0500
TZOFFSETTO:-0400
TZNAME:EDT
DTSTART:20280312T070000
END:DAYLIGHT
BEGIN:STANDARD
TZOFFSETFROM:-0400
TZOFFSETTO:-0500
TZNAME:EST
DTSTART:20281105T060000
END:STANDARD
BEGIN:DAYLIGHT
TZOFFSETFROM:-0500
TZOFFSETTO:-0400
TZNAME:EDT
DTSTART:20290311T070000
END:DAYLIGHT
BEGIN:STANDARD
TZOFFSETFROM:-0400
TZOFFSETTO:-0500
TZNAME:EST
DTSTART:20291104T060000
END:STANDARD
BEGIN:DAYLIGHT
TZOFFSETFROM:-0500
TZOFFSETTO:-0400
TZNAME:EDT
DTSTART:20300310T070000
END:DAYLIGHT
BEGIN:STANDARD
TZOFFSETFROM:-0400
TZOFFSETTO:-0500
TZNAME:EST
DTSTART:20301103T060000
END:STANDARD
END:VTIMEZONE
BEGIN:VEVENT
DTSTART;TZID=America/Toronto:20290131T090000
DTEND;TZID=America/Toronto:20290131T103000
DTSTAMP:20260422T224730
CREATED:20250829T222554Z
LAST-MODIFIED:20251104T200746Z
UID:10000466-1864544400-1864549800@www.bayshoreseniors.ca
SUMMARY:Lifestyles
DESCRIPTION:Our Lifestyle Section features several exciting activities. The participation fee is a toonie ($2)\, and there is a 50/50 draw for a loonie ($1).
URL:https://www.bayshoreseniors.ca/event/lifestyles-2-2/2029-01-31/
LOCATION:Craft Room
CATEGORIES:Lifestyle
ATTACH;FMTTYPE=image/jpeg:https://www.bayshoreseniors.ca/wp-content/uploads/2025/03/home-slide-8-1.jpg
END:VEVENT
BEGIN:VEVENT
DTSTART;TZID=America/Toronto:20290207T090000
DTEND;TZID=America/Toronto:20290207T103000
DTSTAMP:20260422T224730
CREATED:20250829T222554Z
LAST-MODIFIED:20251104T200746Z
UID:10000467-1865149200-1865154600@www.bayshoreseniors.ca
SUMMARY:Lifestyles
DESCRIPTION:Our Lifestyle Section features several exciting activities. The participation fee is a toonie ($2)\, and there is a 50/50 draw for a loonie ($1).
URL:https://www.bayshoreseniors.ca/event/lifestyles-2-2/2029-02-07/
LOCATION:Craft Room
CATEGORIES:Lifestyle
ATTACH;FMTTYPE=image/jpeg:https://www.bayshoreseniors.ca/wp-content/uploads/2025/03/home-slide-8-1.jpg
END:VEVENT
BEGIN:VEVENT
DTSTART;TZID=America/Toronto:20290214T090000
DTEND;TZID=America/Toronto:20290214T103000
DTSTAMP:20260422T224730
CREATED:20250829T222554Z
LAST-MODIFIED:20251104T200746Z
UID:10000468-1865754000-1865759400@www.bayshoreseniors.ca
SUMMARY:Lifestyles
DESCRIPTION:Our Lifestyle Section features several exciting activities. The participation fee is a toonie ($2)\, and there is a 50/50 draw for a loonie ($1).
URL:https://www.bayshoreseniors.ca/event/lifestyles-2-2/2029-02-14/
LOCATION:Craft Room
CATEGORIES:Lifestyle
ATTACH;FMTTYPE=image/jpeg:https://www.bayshoreseniors.ca/wp-content/uploads/2025/03/home-slide-8-1.jpg
END:VEVENT
BEGIN:VEVENT
DTSTART;TZID=America/Toronto:20290221T090000
DTEND;TZID=America/Toronto:20290221T103000
DTSTAMP:20260422T224730
CREATED:20250829T222554Z
LAST-MODIFIED:20251104T200746Z
UID:10000469-1866358800-1866364200@www.bayshoreseniors.ca
SUMMARY:Lifestyles
DESCRIPTION:Our Lifestyle Section features several exciting activities. The participation fee is a toonie ($2)\, and there is a 50/50 draw for a loonie ($1).
URL:https://www.bayshoreseniors.ca/event/lifestyles-2-2/2029-02-21/
LOCATION:Craft Room
CATEGORIES:Lifestyle
ATTACH;FMTTYPE=image/jpeg:https://www.bayshoreseniors.ca/wp-content/uploads/2025/03/home-slide-8-1.jpg
END:VEVENT
BEGIN:VEVENT
DTSTART;TZID=America/Toronto:20290228T090000
DTEND;TZID=America/Toronto:20290228T103000
DTSTAMP:20260422T224730
CREATED:20250829T222554Z
LAST-MODIFIED:20251104T200746Z
UID:10000470-1866963600-1866969000@www.bayshoreseniors.ca
SUMMARY:Lifestyles
DESCRIPTION:Our Lifestyle Section features several exciting activities. The participation fee is a toonie ($2)\, and there is a 50/50 draw for a loonie ($1).
URL:https://www.bayshoreseniors.ca/event/lifestyles-2-2/2029-02-28/
LOCATION:Craft Room
CATEGORIES:Lifestyle
ATTACH;FMTTYPE=image/jpeg:https://www.bayshoreseniors.ca/wp-content/uploads/2025/03/home-slide-8-1.jpg
END:VEVENT
BEGIN:VEVENT
DTSTART;TZID=America/Toronto:20290307T090000
DTEND;TZID=America/Toronto:20290307T103000
DTSTAMP:20260422T224730
CREATED:20250829T222554Z
LAST-MODIFIED:20251104T200746Z
UID:10000471-1867568400-1867573800@www.bayshoreseniors.ca
SUMMARY:Lifestyles
DESCRIPTION:Our Lifestyle Section features several exciting activities. The participation fee is a toonie ($2)\, and there is a 50/50 draw for a loonie ($1).
URL:https://www.bayshoreseniors.ca/event/lifestyles-2-2/2029-03-07/
LOCATION:Craft Room
CATEGORIES:Lifestyle
ATTACH;FMTTYPE=image/jpeg:https://www.bayshoreseniors.ca/wp-content/uploads/2025/03/home-slide-8-1.jpg
END:VEVENT
BEGIN:VEVENT
DTSTART;TZID=America/Toronto:20290314T090000
DTEND;TZID=America/Toronto:20290314T103000
DTSTAMP:20260422T224730
CREATED:20250829T222554Z
LAST-MODIFIED:20251104T200746Z
UID:10000472-1868173200-1868178600@www.bayshoreseniors.ca
SUMMARY:Lifestyles
DESCRIPTION:Our Lifestyle Section features several exciting activities. The participation fee is a toonie ($2)\, and there is a 50/50 draw for a loonie ($1).
URL:https://www.bayshoreseniors.ca/event/lifestyles-2-2/2029-03-14/
LOCATION:Craft Room
CATEGORIES:Lifestyle
ATTACH;FMTTYPE=image/jpeg:https://www.bayshoreseniors.ca/wp-content/uploads/2025/03/home-slide-8-1.jpg
END:VEVENT
BEGIN:VEVENT
DTSTART;TZID=America/Toronto:20290321T090000
DTEND;TZID=America/Toronto:20290321T103000
DTSTAMP:20260422T224730
CREATED:20250829T222554Z
LAST-MODIFIED:20251104T200746Z
UID:10000473-1868778000-1868783400@www.bayshoreseniors.ca
SUMMARY:Lifestyles
DESCRIPTION:Our Lifestyle Section features several exciting activities. The participation fee is a toonie ($2)\, and there is a 50/50 draw for a loonie ($1).
URL:https://www.bayshoreseniors.ca/event/lifestyles-2-2/2029-03-21/
LOCATION:Craft Room
CATEGORIES:Lifestyle
ATTACH;FMTTYPE=image/jpeg:https://www.bayshoreseniors.ca/wp-content/uploads/2025/03/home-slide-8-1.jpg
END:VEVENT
BEGIN:VEVENT
DTSTART;TZID=America/Toronto:20290328T090000
DTEND;TZID=America/Toronto:20290328T103000
DTSTAMP:20260422T224730
CREATED:20250829T222554Z
LAST-MODIFIED:20251104T200746Z
UID:10000474-1869382800-1869388200@www.bayshoreseniors.ca
SUMMARY:Lifestyles
DESCRIPTION:Our Lifestyle Section features several exciting activities. The participation fee is a toonie ($2)\, and there is a 50/50 draw for a loonie ($1).
URL:https://www.bayshoreseniors.ca/event/lifestyles-2-2/2029-03-28/
LOCATION:Craft Room
CATEGORIES:Lifestyle
ATTACH;FMTTYPE=image/jpeg:https://www.bayshoreseniors.ca/wp-content/uploads/2025/03/home-slide-8-1.jpg
END:VEVENT
BEGIN:VEVENT
DTSTART;TZID=America/Toronto:20290404T090000
DTEND;TZID=America/Toronto:20290404T103000
DTSTAMP:20260422T224730
CREATED:20250829T222554Z
LAST-MODIFIED:20251104T200746Z
UID:10000475-1869987600-1869993000@www.bayshoreseniors.ca
SUMMARY:Lifestyles
DESCRIPTION:Our Lifestyle Section features several exciting activities. The participation fee is a toonie ($2)\, and there is a 50/50 draw for a loonie ($1).
URL:https://www.bayshoreseniors.ca/event/lifestyles-2-2/2029-04-04/
LOCATION:Craft Room
CATEGORIES:Lifestyle
ATTACH;FMTTYPE=image/jpeg:https://www.bayshoreseniors.ca/wp-content/uploads/2025/03/home-slide-8-1.jpg
END:VEVENT
BEGIN:VEVENT
DTSTART;TZID=America/Toronto:20290411T090000
DTEND;TZID=America/Toronto:20290411T103000
DTSTAMP:20260422T224730
CREATED:20250829T222554Z
LAST-MODIFIED:20251104T200746Z
UID:10000476-1870592400-1870597800@www.bayshoreseniors.ca
SUMMARY:Lifestyles
DESCRIPTION:Our Lifestyle Section features several exciting activities. The participation fee is a toonie ($2)\, and there is a 50/50 draw for a loonie ($1).
URL:https://www.bayshoreseniors.ca/event/lifestyles-2-2/2029-04-11/
LOCATION:Craft Room
CATEGORIES:Lifestyle
ATTACH;FMTTYPE=image/jpeg:https://www.bayshoreseniors.ca/wp-content/uploads/2025/03/home-slide-8-1.jpg
END:VEVENT
BEGIN:VEVENT
DTSTART;TZID=America/Toronto:20290418T090000
DTEND;TZID=America/Toronto:20290418T103000
DTSTAMP:20260422T224730
CREATED:20250829T222554Z
LAST-MODIFIED:20251104T200746Z
UID:10000477-1871197200-1871202600@www.bayshoreseniors.ca
SUMMARY:Lifestyles
DESCRIPTION:Our Lifestyle Section features several exciting activities. The participation fee is a toonie ($2)\, and there is a 50/50 draw for a loonie ($1).
URL:https://www.bayshoreseniors.ca/event/lifestyles-2-2/2029-04-18/
LOCATION:Craft Room
CATEGORIES:Lifestyle
ATTACH;FMTTYPE=image/jpeg:https://www.bayshoreseniors.ca/wp-content/uploads/2025/03/home-slide-8-1.jpg
END:VEVENT
BEGIN:VEVENT
DTSTART;TZID=America/Toronto:20290425T090000
DTEND;TZID=America/Toronto:20290425T103000
DTSTAMP:20260422T224730
CREATED:20250829T222554Z
LAST-MODIFIED:20251104T200746Z
UID:10000478-1871802000-1871807400@www.bayshoreseniors.ca
SUMMARY:Lifestyles
DESCRIPTION:Our Lifestyle Section features several exciting activities. The participation fee is a toonie ($2)\, and there is a 50/50 draw for a loonie ($1).
URL:https://www.bayshoreseniors.ca/event/lifestyles-2-2/2029-04-25/
LOCATION:Craft Room
CATEGORIES:Lifestyle
ATTACH;FMTTYPE=image/jpeg:https://www.bayshoreseniors.ca/wp-content/uploads/2025/03/home-slide-8-1.jpg
END:VEVENT
BEGIN:VEVENT
DTSTART;TZID=America/Toronto:20290502T090000
DTEND;TZID=America/Toronto:20290502T103000
DTSTAMP:20260422T224730
CREATED:20250829T222554Z
LAST-MODIFIED:20251104T200746Z
UID:10000479-1872406800-1872412200@www.bayshoreseniors.ca
SUMMARY:Lifestyles
DESCRIPTION:Our Lifestyle Section features several exciting activities. The participation fee is a toonie ($2)\, and there is a 50/50 draw for a loonie ($1).
URL:https://www.bayshoreseniors.ca/event/lifestyles-2-2/2029-05-02/
LOCATION:Craft Room
CATEGORIES:Lifestyle
ATTACH;FMTTYPE=image/jpeg:https://www.bayshoreseniors.ca/wp-content/uploads/2025/03/home-slide-8-1.jpg
END:VEVENT
BEGIN:VEVENT
DTSTART;TZID=America/Toronto:20290509T090000
DTEND;TZID=America/Toronto:20290509T103000
DTSTAMP:20260422T224730
CREATED:20250829T222554Z
LAST-MODIFIED:20251104T200746Z
UID:10000480-1873011600-1873017000@www.bayshoreseniors.ca
SUMMARY:Lifestyles
DESCRIPTION:Our Lifestyle Section features several exciting activities. The participation fee is a toonie ($2)\, and there is a 50/50 draw for a loonie ($1).
URL:https://www.bayshoreseniors.ca/event/lifestyles-2-2/2029-05-09/
LOCATION:Craft Room
CATEGORIES:Lifestyle
ATTACH;FMTTYPE=image/jpeg:https://www.bayshoreseniors.ca/wp-content/uploads/2025/03/home-slide-8-1.jpg
END:VEVENT
BEGIN:VEVENT
DTSTART;TZID=America/Toronto:20290516T090000
DTEND;TZID=America/Toronto:20290516T103000
DTSTAMP:20260422T224730
CREATED:20250829T222554Z
LAST-MODIFIED:20251104T200746Z
UID:10000481-1873616400-1873621800@www.bayshoreseniors.ca
SUMMARY:Lifestyles
DESCRIPTION:Our Lifestyle Section features several exciting activities. The participation fee is a toonie ($2)\, and there is a 50/50 draw for a loonie ($1).
URL:https://www.bayshoreseniors.ca/event/lifestyles-2-2/2029-05-16/
LOCATION:Craft Room
CATEGORIES:Lifestyle
ATTACH;FMTTYPE=image/jpeg:https://www.bayshoreseniors.ca/wp-content/uploads/2025/03/home-slide-8-1.jpg
END:VEVENT
BEGIN:VEVENT
DTSTART;TZID=America/Toronto:20290523T090000
DTEND;TZID=America/Toronto:20290523T103000
DTSTAMP:20260422T224730
CREATED:20250829T222554Z
LAST-MODIFIED:20251104T200746Z
UID:10000482-1874221200-1874226600@www.bayshoreseniors.ca
SUMMARY:Lifestyles
DESCRIPTION:Our Lifestyle Section features several exciting activities. The participation fee is a toonie ($2)\, and there is a 50/50 draw for a loonie ($1).
URL:https://www.bayshoreseniors.ca/event/lifestyles-2-2/2029-05-23/
LOCATION:Craft Room
CATEGORIES:Lifestyle
ATTACH;FMTTYPE=image/jpeg:https://www.bayshoreseniors.ca/wp-content/uploads/2025/03/home-slide-8-1.jpg
END:VEVENT
BEGIN:VEVENT
DTSTART;TZID=America/Toronto:20290530T090000
DTEND;TZID=America/Toronto:20290530T103000
DTSTAMP:20260422T224730
CREATED:20250829T222554Z
LAST-MODIFIED:20251104T200746Z
UID:10000483-1874826000-1874831400@www.bayshoreseniors.ca
SUMMARY:Lifestyles
DESCRIPTION:Our Lifestyle Section features several exciting activities. The participation fee is a toonie ($2)\, and there is a 50/50 draw for a loonie ($1).
URL:https://www.bayshoreseniors.ca/event/lifestyles-2-2/2029-05-30/
LOCATION:Craft Room
CATEGORIES:Lifestyle
ATTACH;FMTTYPE=image/jpeg:https://www.bayshoreseniors.ca/wp-content/uploads/2025/03/home-slide-8-1.jpg
END:VEVENT
BEGIN:VEVENT
DTSTART;TZID=America/Toronto:20290606T090000
DTEND;TZID=America/Toronto:20290606T103000
DTSTAMP:20260422T224730
CREATED:20250829T222554Z
LAST-MODIFIED:20251104T200746Z
UID:10000484-1875430800-1875436200@www.bayshoreseniors.ca
SUMMARY:Lifestyles
DESCRIPTION:Our Lifestyle Section features several exciting activities. The participation fee is a toonie ($2)\, and there is a 50/50 draw for a loonie ($1).
URL:https://www.bayshoreseniors.ca/event/lifestyles-2-2/2029-06-06/
LOCATION:Craft Room
CATEGORIES:Lifestyle
ATTACH;FMTTYPE=image/jpeg:https://www.bayshoreseniors.ca/wp-content/uploads/2025/03/home-slide-8-1.jpg
END:VEVENT
BEGIN:VEVENT
DTSTART;TZID=America/Toronto:20290613T090000
DTEND;TZID=America/Toronto:20290613T103000
DTSTAMP:20260422T224730
CREATED:20250829T222554Z
LAST-MODIFIED:20251104T200746Z
UID:10000485-1876035600-1876041000@www.bayshoreseniors.ca
SUMMARY:Lifestyles
DESCRIPTION:Our Lifestyle Section features several exciting activities. The participation fee is a toonie ($2)\, and there is a 50/50 draw for a loonie ($1).
URL:https://www.bayshoreseniors.ca/event/lifestyles-2-2/2029-06-13/
LOCATION:Craft Room
CATEGORIES:Lifestyle
ATTACH;FMTTYPE=image/jpeg:https://www.bayshoreseniors.ca/wp-content/uploads/2025/03/home-slide-8-1.jpg
END:VEVENT
BEGIN:VEVENT
DTSTART;TZID=America/Toronto:20290620T090000
DTEND;TZID=America/Toronto:20290620T103000
DTSTAMP:20260422T224730
CREATED:20250829T222554Z
LAST-MODIFIED:20251104T200746Z
UID:10000486-1876640400-1876645800@www.bayshoreseniors.ca
SUMMARY:Lifestyles
DESCRIPTION:Our Lifestyle Section features several exciting activities. The participation fee is a toonie ($2)\, and there is a 50/50 draw for a loonie ($1).
URL:https://www.bayshoreseniors.ca/event/lifestyles-2-2/2029-06-20/
LOCATION:Craft Room
CATEGORIES:Lifestyle
ATTACH;FMTTYPE=image/jpeg:https://www.bayshoreseniors.ca/wp-content/uploads/2025/03/home-slide-8-1.jpg
END:VEVENT
BEGIN:VEVENT
DTSTART;TZID=America/Toronto:20290627T090000
DTEND;TZID=America/Toronto:20290627T103000
DTSTAMP:20260422T224730
CREATED:20250829T222554Z
LAST-MODIFIED:20251104T200746Z
UID:10000487-1877245200-1877250600@www.bayshoreseniors.ca
SUMMARY:Lifestyles
DESCRIPTION:Our Lifestyle Section features several exciting activities. The participation fee is a toonie ($2)\, and there is a 50/50 draw for a loonie ($1).
URL:https://www.bayshoreseniors.ca/event/lifestyles-2-2/2029-06-27/
LOCATION:Craft Room
CATEGORIES:Lifestyle
ATTACH;FMTTYPE=image/jpeg:https://www.bayshoreseniors.ca/wp-content/uploads/2025/03/home-slide-8-1.jpg
END:VEVENT
BEGIN:VEVENT
DTSTART;TZID=America/Toronto:20290704T090000
DTEND;TZID=America/Toronto:20290704T103000
DTSTAMP:20260422T224730
CREATED:20250829T222554Z
LAST-MODIFIED:20251104T200746Z
UID:10000488-1877850000-1877855400@www.bayshoreseniors.ca
SUMMARY:Lifestyles
DESCRIPTION:Our Lifestyle Section features several exciting activities. The participation fee is a toonie ($2)\, and there is a 50/50 draw for a loonie ($1).
URL:https://www.bayshoreseniors.ca/event/lifestyles-2-2/2029-07-04/
LOCATION:Craft Room
CATEGORIES:Lifestyle
ATTACH;FMTTYPE=image/jpeg:https://www.bayshoreseniors.ca/wp-content/uploads/2025/03/home-slide-8-1.jpg
END:VEVENT
BEGIN:VEVENT
DTSTART;TZID=America/Toronto:20290711T090000
DTEND;TZID=America/Toronto:20290711T103000
DTSTAMP:20260422T224730
CREATED:20250829T222554Z
LAST-MODIFIED:20251104T200746Z
UID:10000489-1878454800-1878460200@www.bayshoreseniors.ca
SUMMARY:Lifestyles
DESCRIPTION:Our Lifestyle Section features several exciting activities. The participation fee is a toonie ($2)\, and there is a 50/50 draw for a loonie ($1).
URL:https://www.bayshoreseniors.ca/event/lifestyles-2-2/2029-07-11/
LOCATION:Craft Room
CATEGORIES:Lifestyle
ATTACH;FMTTYPE=image/jpeg:https://www.bayshoreseniors.ca/wp-content/uploads/2025/03/home-slide-8-1.jpg
END:VEVENT
BEGIN:VEVENT
DTSTART;TZID=America/Toronto:20290718T090000
DTEND;TZID=America/Toronto:20290718T103000
DTSTAMP:20260422T224730
CREATED:20250829T222554Z
LAST-MODIFIED:20251104T200746Z
UID:10000490-1879059600-1879065000@www.bayshoreseniors.ca
SUMMARY:Lifestyles
DESCRIPTION:Our Lifestyle Section features several exciting activities. The participation fee is a toonie ($2)\, and there is a 50/50 draw for a loonie ($1).
URL:https://www.bayshoreseniors.ca/event/lifestyles-2-2/2029-07-18/
LOCATION:Craft Room
CATEGORIES:Lifestyle
ATTACH;FMTTYPE=image/jpeg:https://www.bayshoreseniors.ca/wp-content/uploads/2025/03/home-slide-8-1.jpg
END:VEVENT
BEGIN:VEVENT
DTSTART;TZID=America/Toronto:20290725T090000
DTEND;TZID=America/Toronto:20290725T103000
DTSTAMP:20260422T224730
CREATED:20250829T222554Z
LAST-MODIFIED:20251104T200746Z
UID:10000491-1879664400-1879669800@www.bayshoreseniors.ca
SUMMARY:Lifestyles
DESCRIPTION:Our Lifestyle Section features several exciting activities. The participation fee is a toonie ($2)\, and there is a 50/50 draw for a loonie ($1).
URL:https://www.bayshoreseniors.ca/event/lifestyles-2-2/2029-07-25/
LOCATION:Craft Room
CATEGORIES:Lifestyle
ATTACH;FMTTYPE=image/jpeg:https://www.bayshoreseniors.ca/wp-content/uploads/2025/03/home-slide-8-1.jpg
END:VEVENT
BEGIN:VEVENT
DTSTART;TZID=America/Toronto:20290801T090000
DTEND;TZID=America/Toronto:20290801T103000
DTSTAMP:20260422T224730
CREATED:20250829T222554Z
LAST-MODIFIED:20251104T200746Z
UID:10000492-1880269200-1880274600@www.bayshoreseniors.ca
SUMMARY:Lifestyles
DESCRIPTION:Our Lifestyle Section features several exciting activities. The participation fee is a toonie ($2)\, and there is a 50/50 draw for a loonie ($1).
URL:https://www.bayshoreseniors.ca/event/lifestyles-2-2/2029-08-01/
LOCATION:Craft Room
CATEGORIES:Lifestyle
ATTACH;FMTTYPE=image/jpeg:https://www.bayshoreseniors.ca/wp-content/uploads/2025/03/home-slide-8-1.jpg
END:VEVENT
BEGIN:VEVENT
DTSTART;TZID=America/Toronto:20290808T090000
DTEND;TZID=America/Toronto:20290808T103000
DTSTAMP:20260422T224730
CREATED:20250829T222554Z
LAST-MODIFIED:20251104T200746Z
UID:10000493-1880874000-1880879400@www.bayshoreseniors.ca
SUMMARY:Lifestyles
DESCRIPTION:Our Lifestyle Section features several exciting activities. The participation fee is a toonie ($2)\, and there is a 50/50 draw for a loonie ($1).
URL:https://www.bayshoreseniors.ca/event/lifestyles-2-2/2029-08-08/
LOCATION:Craft Room
CATEGORIES:Lifestyle
ATTACH;FMTTYPE=image/jpeg:https://www.bayshoreseniors.ca/wp-content/uploads/2025/03/home-slide-8-1.jpg
END:VEVENT
BEGIN:VEVENT
DTSTART;TZID=America/Toronto:20290815T090000
DTEND;TZID=America/Toronto:20290815T103000
DTSTAMP:20260422T224730
CREATED:20250829T222554Z
LAST-MODIFIED:20251104T200746Z
UID:10000494-1881478800-1881484200@www.bayshoreseniors.ca
SUMMARY:Lifestyles
DESCRIPTION:Our Lifestyle Section features several exciting activities. The participation fee is a toonie ($2)\, and there is a 50/50 draw for a loonie ($1).
URL:https://www.bayshoreseniors.ca/event/lifestyles-2-2/2029-08-15/
LOCATION:Craft Room
CATEGORIES:Lifestyle
ATTACH;FMTTYPE=image/jpeg:https://www.bayshoreseniors.ca/wp-content/uploads/2025/03/home-slide-8-1.jpg
END:VEVENT
BEGIN:VEVENT
DTSTART;TZID=America/Toronto:20290822T090000
DTEND;TZID=America/Toronto:20290822T103000
DTSTAMP:20260422T224730
CREATED:20250829T222554Z
LAST-MODIFIED:20251104T200746Z
UID:10000495-1882083600-1882089000@www.bayshoreseniors.ca
SUMMARY:Lifestyles
DESCRIPTION:Our Lifestyle Section features several exciting activities. The participation fee is a toonie ($2)\, and there is a 50/50 draw for a loonie ($1).
URL:https://www.bayshoreseniors.ca/event/lifestyles-2-2/2029-08-22/
LOCATION:Craft Room
CATEGORIES:Lifestyle
ATTACH;FMTTYPE=image/jpeg:https://www.bayshoreseniors.ca/wp-content/uploads/2025/03/home-slide-8-1.jpg
END:VEVENT
END:VCALENDAR