BEGIN:VCALENDAR
VERSION:2.0
PRODID:-//Bayshore Seniors - ECPv6.15.18//NONSGML v1.0//EN
CALSCALE:GREGORIAN
METHOD:PUBLISH
X-WR-CALNAME:Bayshore Seniors
X-ORIGINAL-URL:https://www.bayshoreseniors.ca
X-WR-CALDESC:Events for Bayshore Seniors
REFRESH-INTERVAL;VALUE=DURATION:PT1H
X-Robots-Tag:noindex
X-PUBLISHED-TTL:PT1H
BEGIN:VTIMEZONE
TZID:America/Toronto
BEGIN:DAYLIGHT
TZOFFSETFROM:-0500
TZOFFSETTO:-0400
TZNAME:EDT
DTSTART:20290311T070000
END:DAYLIGHT
BEGIN:STANDARD
TZOFFSETFROM:-0400
TZOFFSETTO:-0500
TZNAME:EST
DTSTART:20291104T060000
END:STANDARD
BEGIN:DAYLIGHT
TZOFFSETFROM:-0500
TZOFFSETTO:-0400
TZNAME:EDT
DTSTART:20300310T070000
END:DAYLIGHT
BEGIN:STANDARD
TZOFFSETFROM:-0400
TZOFFSETTO:-0500
TZNAME:EST
DTSTART:20301103T060000
END:STANDARD
BEGIN:DAYLIGHT
TZOFFSETFROM:-0500
TZOFFSETTO:-0400
TZNAME:EDT
DTSTART:20310309T070000
END:DAYLIGHT
BEGIN:STANDARD
TZOFFSETFROM:-0400
TZOFFSETTO:-0500
TZNAME:EST
DTSTART:20311102T060000
END:STANDARD
END:VTIMEZONE
BEGIN:VEVENT
DTSTART;TZID=America/Toronto:20300327T090000
DTEND;TZID=America/Toronto:20300327T103000
DTSTAMP:20260424T033354
CREATED:20250829T222554Z
LAST-MODIFIED:20251104T200746Z
UID:10000526-1900832400-1900837800@www.bayshoreseniors.ca
SUMMARY:Lifestyles
DESCRIPTION:Our Lifestyle Section features several exciting activities. The participation fee is a toonie ($2)\, and there is a 50/50 draw for a loonie ($1).
URL:https://www.bayshoreseniors.ca/event/lifestyles-2-2/2030-03-27/
LOCATION:Craft Room
CATEGORIES:Lifestyle
ATTACH;FMTTYPE=image/jpeg:https://www.bayshoreseniors.ca/wp-content/uploads/2025/03/home-slide-8-1.jpg
END:VEVENT
BEGIN:VEVENT
DTSTART;TZID=America/Toronto:20300403T090000
DTEND;TZID=America/Toronto:20300403T103000
DTSTAMP:20260424T033354
CREATED:20250829T222554Z
LAST-MODIFIED:20251104T200746Z
UID:10000527-1901437200-1901442600@www.bayshoreseniors.ca
SUMMARY:Lifestyles
DESCRIPTION:Our Lifestyle Section features several exciting activities. The participation fee is a toonie ($2)\, and there is a 50/50 draw for a loonie ($1).
URL:https://www.bayshoreseniors.ca/event/lifestyles-2-2/2030-04-03/
LOCATION:Craft Room
CATEGORIES:Lifestyle
ATTACH;FMTTYPE=image/jpeg:https://www.bayshoreseniors.ca/wp-content/uploads/2025/03/home-slide-8-1.jpg
END:VEVENT
BEGIN:VEVENT
DTSTART;TZID=America/Toronto:20300410T090000
DTEND;TZID=America/Toronto:20300410T103000
DTSTAMP:20260424T033354
CREATED:20250829T222554Z
LAST-MODIFIED:20251104T200746Z
UID:10000528-1902042000-1902047400@www.bayshoreseniors.ca
SUMMARY:Lifestyles
DESCRIPTION:Our Lifestyle Section features several exciting activities. The participation fee is a toonie ($2)\, and there is a 50/50 draw for a loonie ($1).
URL:https://www.bayshoreseniors.ca/event/lifestyles-2-2/2030-04-10/
LOCATION:Craft Room
CATEGORIES:Lifestyle
ATTACH;FMTTYPE=image/jpeg:https://www.bayshoreseniors.ca/wp-content/uploads/2025/03/home-slide-8-1.jpg
END:VEVENT
BEGIN:VEVENT
DTSTART;TZID=America/Toronto:20300417T090000
DTEND;TZID=America/Toronto:20300417T103000
DTSTAMP:20260424T033354
CREATED:20250829T222554Z
LAST-MODIFIED:20251104T200746Z
UID:10000529-1902646800-1902652200@www.bayshoreseniors.ca
SUMMARY:Lifestyles
DESCRIPTION:Our Lifestyle Section features several exciting activities. The participation fee is a toonie ($2)\, and there is a 50/50 draw for a loonie ($1).
URL:https://www.bayshoreseniors.ca/event/lifestyles-2-2/2030-04-17/
LOCATION:Craft Room
CATEGORIES:Lifestyle
ATTACH;FMTTYPE=image/jpeg:https://www.bayshoreseniors.ca/wp-content/uploads/2025/03/home-slide-8-1.jpg
END:VEVENT
BEGIN:VEVENT
DTSTART;TZID=America/Toronto:20300424T090000
DTEND;TZID=America/Toronto:20300424T103000
DTSTAMP:20260424T033354
CREATED:20250829T222554Z
LAST-MODIFIED:20251104T200746Z
UID:10000530-1903251600-1903257000@www.bayshoreseniors.ca
SUMMARY:Lifestyles
DESCRIPTION:Our Lifestyle Section features several exciting activities. The participation fee is a toonie ($2)\, and there is a 50/50 draw for a loonie ($1).
URL:https://www.bayshoreseniors.ca/event/lifestyles-2-2/2030-04-24/
LOCATION:Craft Room
CATEGORIES:Lifestyle
ATTACH;FMTTYPE=image/jpeg:https://www.bayshoreseniors.ca/wp-content/uploads/2025/03/home-slide-8-1.jpg
END:VEVENT
BEGIN:VEVENT
DTSTART;TZID=America/Toronto:20300501T090000
DTEND;TZID=America/Toronto:20300501T103000
DTSTAMP:20260424T033354
CREATED:20250829T222554Z
LAST-MODIFIED:20251104T200746Z
UID:10000531-1903856400-1903861800@www.bayshoreseniors.ca
SUMMARY:Lifestyles
DESCRIPTION:Our Lifestyle Section features several exciting activities. The participation fee is a toonie ($2)\, and there is a 50/50 draw for a loonie ($1).
URL:https://www.bayshoreseniors.ca/event/lifestyles-2-2/2030-05-01/
LOCATION:Craft Room
CATEGORIES:Lifestyle
ATTACH;FMTTYPE=image/jpeg:https://www.bayshoreseniors.ca/wp-content/uploads/2025/03/home-slide-8-1.jpg
END:VEVENT
BEGIN:VEVENT
DTSTART;TZID=America/Toronto:20300508T090000
DTEND;TZID=America/Toronto:20300508T103000
DTSTAMP:20260424T033354
CREATED:20250829T222554Z
LAST-MODIFIED:20251104T200746Z
UID:10000532-1904461200-1904466600@www.bayshoreseniors.ca
SUMMARY:Lifestyles
DESCRIPTION:Our Lifestyle Section features several exciting activities. The participation fee is a toonie ($2)\, and there is a 50/50 draw for a loonie ($1).
URL:https://www.bayshoreseniors.ca/event/lifestyles-2-2/2030-05-08/
LOCATION:Craft Room
CATEGORIES:Lifestyle
ATTACH;FMTTYPE=image/jpeg:https://www.bayshoreseniors.ca/wp-content/uploads/2025/03/home-slide-8-1.jpg
END:VEVENT
BEGIN:VEVENT
DTSTART;TZID=America/Toronto:20300515T090000
DTEND;TZID=America/Toronto:20300515T103000
DTSTAMP:20260424T033354
CREATED:20250829T222554Z
LAST-MODIFIED:20251104T200746Z
UID:10000533-1905066000-1905071400@www.bayshoreseniors.ca
SUMMARY:Lifestyles
DESCRIPTION:Our Lifestyle Section features several exciting activities. The participation fee is a toonie ($2)\, and there is a 50/50 draw for a loonie ($1).
URL:https://www.bayshoreseniors.ca/event/lifestyles-2-2/2030-05-15/
LOCATION:Craft Room
CATEGORIES:Lifestyle
ATTACH;FMTTYPE=image/jpeg:https://www.bayshoreseniors.ca/wp-content/uploads/2025/03/home-slide-8-1.jpg
END:VEVENT
BEGIN:VEVENT
DTSTART;TZID=America/Toronto:20300522T090000
DTEND;TZID=America/Toronto:20300522T103000
DTSTAMP:20260424T033354
CREATED:20250829T222554Z
LAST-MODIFIED:20251104T200746Z
UID:10000534-1905670800-1905676200@www.bayshoreseniors.ca
SUMMARY:Lifestyles
DESCRIPTION:Our Lifestyle Section features several exciting activities. The participation fee is a toonie ($2)\, and there is a 50/50 draw for a loonie ($1).
URL:https://www.bayshoreseniors.ca/event/lifestyles-2-2/2030-05-22/
LOCATION:Craft Room
CATEGORIES:Lifestyle
ATTACH;FMTTYPE=image/jpeg:https://www.bayshoreseniors.ca/wp-content/uploads/2025/03/home-slide-8-1.jpg
END:VEVENT
BEGIN:VEVENT
DTSTART;TZID=America/Toronto:20300529T090000
DTEND;TZID=America/Toronto:20300529T103000
DTSTAMP:20260424T033354
CREATED:20250829T222554Z
LAST-MODIFIED:20251104T200746Z
UID:10000535-1906275600-1906281000@www.bayshoreseniors.ca
SUMMARY:Lifestyles
DESCRIPTION:Our Lifestyle Section features several exciting activities. The participation fee is a toonie ($2)\, and there is a 50/50 draw for a loonie ($1).
URL:https://www.bayshoreseniors.ca/event/lifestyles-2-2/2030-05-29/
LOCATION:Craft Room
CATEGORIES:Lifestyle
ATTACH;FMTTYPE=image/jpeg:https://www.bayshoreseniors.ca/wp-content/uploads/2025/03/home-slide-8-1.jpg
END:VEVENT
BEGIN:VEVENT
DTSTART;TZID=America/Toronto:20300605T090000
DTEND;TZID=America/Toronto:20300605T103000
DTSTAMP:20260424T033354
CREATED:20250829T222554Z
LAST-MODIFIED:20251104T200746Z
UID:10000536-1906880400-1906885800@www.bayshoreseniors.ca
SUMMARY:Lifestyles
DESCRIPTION:Our Lifestyle Section features several exciting activities. The participation fee is a toonie ($2)\, and there is a 50/50 draw for a loonie ($1).
URL:https://www.bayshoreseniors.ca/event/lifestyles-2-2/2030-06-05/
LOCATION:Craft Room
CATEGORIES:Lifestyle
ATTACH;FMTTYPE=image/jpeg:https://www.bayshoreseniors.ca/wp-content/uploads/2025/03/home-slide-8-1.jpg
END:VEVENT
BEGIN:VEVENT
DTSTART;TZID=America/Toronto:20300612T090000
DTEND;TZID=America/Toronto:20300612T103000
DTSTAMP:20260424T033354
CREATED:20250829T222554Z
LAST-MODIFIED:20251104T200746Z
UID:10000537-1907485200-1907490600@www.bayshoreseniors.ca
SUMMARY:Lifestyles
DESCRIPTION:Our Lifestyle Section features several exciting activities. The participation fee is a toonie ($2)\, and there is a 50/50 draw for a loonie ($1).
URL:https://www.bayshoreseniors.ca/event/lifestyles-2-2/2030-06-12/
LOCATION:Craft Room
CATEGORIES:Lifestyle
ATTACH;FMTTYPE=image/jpeg:https://www.bayshoreseniors.ca/wp-content/uploads/2025/03/home-slide-8-1.jpg
END:VEVENT
BEGIN:VEVENT
DTSTART;TZID=America/Toronto:20300619T090000
DTEND;TZID=America/Toronto:20300619T103000
DTSTAMP:20260424T033354
CREATED:20250829T222554Z
LAST-MODIFIED:20251104T200746Z
UID:10000538-1908090000-1908095400@www.bayshoreseniors.ca
SUMMARY:Lifestyles
DESCRIPTION:Our Lifestyle Section features several exciting activities. The participation fee is a toonie ($2)\, and there is a 50/50 draw for a loonie ($1).
URL:https://www.bayshoreseniors.ca/event/lifestyles-2-2/2030-06-19/
LOCATION:Craft Room
CATEGORIES:Lifestyle
ATTACH;FMTTYPE=image/jpeg:https://www.bayshoreseniors.ca/wp-content/uploads/2025/03/home-slide-8-1.jpg
END:VEVENT
BEGIN:VEVENT
DTSTART;TZID=America/Toronto:20300626T090000
DTEND;TZID=America/Toronto:20300626T103000
DTSTAMP:20260424T033354
CREATED:20250829T222554Z
LAST-MODIFIED:20251104T200746Z
UID:10000539-1908694800-1908700200@www.bayshoreseniors.ca
SUMMARY:Lifestyles
DESCRIPTION:Our Lifestyle Section features several exciting activities. The participation fee is a toonie ($2)\, and there is a 50/50 draw for a loonie ($1).
URL:https://www.bayshoreseniors.ca/event/lifestyles-2-2/2030-06-26/
LOCATION:Craft Room
CATEGORIES:Lifestyle
ATTACH;FMTTYPE=image/jpeg:https://www.bayshoreseniors.ca/wp-content/uploads/2025/03/home-slide-8-1.jpg
END:VEVENT
BEGIN:VEVENT
DTSTART;TZID=America/Toronto:20300703T090000
DTEND;TZID=America/Toronto:20300703T103000
DTSTAMP:20260424T033354
CREATED:20250829T222554Z
LAST-MODIFIED:20251104T200746Z
UID:10000540-1909299600-1909305000@www.bayshoreseniors.ca
SUMMARY:Lifestyles
DESCRIPTION:Our Lifestyle Section features several exciting activities. The participation fee is a toonie ($2)\, and there is a 50/50 draw for a loonie ($1).
URL:https://www.bayshoreseniors.ca/event/lifestyles-2-2/2030-07-03/
LOCATION:Craft Room
CATEGORIES:Lifestyle
ATTACH;FMTTYPE=image/jpeg:https://www.bayshoreseniors.ca/wp-content/uploads/2025/03/home-slide-8-1.jpg
END:VEVENT
BEGIN:VEVENT
DTSTART;TZID=America/Toronto:20300710T090000
DTEND;TZID=America/Toronto:20300710T103000
DTSTAMP:20260424T033355
CREATED:20250829T222554Z
LAST-MODIFIED:20251104T200746Z
UID:10000541-1909904400-1909909800@www.bayshoreseniors.ca
SUMMARY:Lifestyles
DESCRIPTION:Our Lifestyle Section features several exciting activities. The participation fee is a toonie ($2)\, and there is a 50/50 draw for a loonie ($1).
URL:https://www.bayshoreseniors.ca/event/lifestyles-2-2/2030-07-10/
LOCATION:Craft Room
CATEGORIES:Lifestyle
ATTACH;FMTTYPE=image/jpeg:https://www.bayshoreseniors.ca/wp-content/uploads/2025/03/home-slide-8-1.jpg
END:VEVENT
BEGIN:VEVENT
DTSTART;TZID=America/Toronto:20300717T090000
DTEND;TZID=America/Toronto:20300717T103000
DTSTAMP:20260424T033355
CREATED:20250829T222554Z
LAST-MODIFIED:20251104T200746Z
UID:10000542-1910509200-1910514600@www.bayshoreseniors.ca
SUMMARY:Lifestyles
DESCRIPTION:Our Lifestyle Section features several exciting activities. The participation fee is a toonie ($2)\, and there is a 50/50 draw for a loonie ($1).
URL:https://www.bayshoreseniors.ca/event/lifestyles-2-2/2030-07-17/
LOCATION:Craft Room
CATEGORIES:Lifestyle
ATTACH;FMTTYPE=image/jpeg:https://www.bayshoreseniors.ca/wp-content/uploads/2025/03/home-slide-8-1.jpg
END:VEVENT
BEGIN:VEVENT
DTSTART;TZID=America/Toronto:20300724T090000
DTEND;TZID=America/Toronto:20300724T103000
DTSTAMP:20260424T033355
CREATED:20250829T222554Z
LAST-MODIFIED:20251104T200746Z
UID:10000543-1911114000-1911119400@www.bayshoreseniors.ca
SUMMARY:Lifestyles
DESCRIPTION:Our Lifestyle Section features several exciting activities. The participation fee is a toonie ($2)\, and there is a 50/50 draw for a loonie ($1).
URL:https://www.bayshoreseniors.ca/event/lifestyles-2-2/2030-07-24/
LOCATION:Craft Room
CATEGORIES:Lifestyle
ATTACH;FMTTYPE=image/jpeg:https://www.bayshoreseniors.ca/wp-content/uploads/2025/03/home-slide-8-1.jpg
END:VEVENT
BEGIN:VEVENT
DTSTART;TZID=America/Toronto:20300731T090000
DTEND;TZID=America/Toronto:20300731T103000
DTSTAMP:20260424T033355
CREATED:20250829T222554Z
LAST-MODIFIED:20251104T200746Z
UID:10000544-1911718800-1911724200@www.bayshoreseniors.ca
SUMMARY:Lifestyles
DESCRIPTION:Our Lifestyle Section features several exciting activities. The participation fee is a toonie ($2)\, and there is a 50/50 draw for a loonie ($1).
URL:https://www.bayshoreseniors.ca/event/lifestyles-2-2/2030-07-31/
LOCATION:Craft Room
CATEGORIES:Lifestyle
ATTACH;FMTTYPE=image/jpeg:https://www.bayshoreseniors.ca/wp-content/uploads/2025/03/home-slide-8-1.jpg
END:VEVENT
BEGIN:VEVENT
DTSTART;TZID=America/Toronto:20300807T090000
DTEND;TZID=America/Toronto:20300807T103000
DTSTAMP:20260424T033355
CREATED:20250829T222554Z
LAST-MODIFIED:20251104T200746Z
UID:10000545-1912323600-1912329000@www.bayshoreseniors.ca
SUMMARY:Lifestyles
DESCRIPTION:Our Lifestyle Section features several exciting activities. The participation fee is a toonie ($2)\, and there is a 50/50 draw for a loonie ($1).
URL:https://www.bayshoreseniors.ca/event/lifestyles-2-2/2030-08-07/
LOCATION:Craft Room
CATEGORIES:Lifestyle
ATTACH;FMTTYPE=image/jpeg:https://www.bayshoreseniors.ca/wp-content/uploads/2025/03/home-slide-8-1.jpg
END:VEVENT
BEGIN:VEVENT
DTSTART;TZID=America/Toronto:20300814T090000
DTEND;TZID=America/Toronto:20300814T103000
DTSTAMP:20260424T033355
CREATED:20250829T222554Z
LAST-MODIFIED:20251104T200746Z
UID:10000546-1912928400-1912933800@www.bayshoreseniors.ca
SUMMARY:Lifestyles
DESCRIPTION:Our Lifestyle Section features several exciting activities. The participation fee is a toonie ($2)\, and there is a 50/50 draw for a loonie ($1).
URL:https://www.bayshoreseniors.ca/event/lifestyles-2-2/2030-08-14/
LOCATION:Craft Room
CATEGORIES:Lifestyle
ATTACH;FMTTYPE=image/jpeg:https://www.bayshoreseniors.ca/wp-content/uploads/2025/03/home-slide-8-1.jpg
END:VEVENT
BEGIN:VEVENT
DTSTART;TZID=America/Toronto:20300821T090000
DTEND;TZID=America/Toronto:20300821T103000
DTSTAMP:20260424T033355
CREATED:20250829T222554Z
LAST-MODIFIED:20251104T200746Z
UID:10000547-1913533200-1913538600@www.bayshoreseniors.ca
SUMMARY:Lifestyles
DESCRIPTION:Our Lifestyle Section features several exciting activities. The participation fee is a toonie ($2)\, and there is a 50/50 draw for a loonie ($1).
URL:https://www.bayshoreseniors.ca/event/lifestyles-2-2/2030-08-21/
LOCATION:Craft Room
CATEGORIES:Lifestyle
ATTACH;FMTTYPE=image/jpeg:https://www.bayshoreseniors.ca/wp-content/uploads/2025/03/home-slide-8-1.jpg
END:VEVENT
BEGIN:VEVENT
DTSTART;TZID=America/Toronto:20300828T090000
DTEND;TZID=America/Toronto:20300828T103000
DTSTAMP:20260424T033355
CREATED:20250829T222554Z
LAST-MODIFIED:20251104T200746Z
UID:10000548-1914138000-1914143400@www.bayshoreseniors.ca
SUMMARY:Lifestyles
DESCRIPTION:Our Lifestyle Section features several exciting activities. The participation fee is a toonie ($2)\, and there is a 50/50 draw for a loonie ($1).
URL:https://www.bayshoreseniors.ca/event/lifestyles-2-2/2030-08-28/
LOCATION:Craft Room
CATEGORIES:Lifestyle
ATTACH;FMTTYPE=image/jpeg:https://www.bayshoreseniors.ca/wp-content/uploads/2025/03/home-slide-8-1.jpg
END:VEVENT
BEGIN:VEVENT
DTSTART;TZID=America/Toronto:20300904T090000
DTEND;TZID=America/Toronto:20300904T103000
DTSTAMP:20260424T033355
CREATED:20250829T222554Z
LAST-MODIFIED:20251104T200746Z
UID:10000549-1914742800-1914748200@www.bayshoreseniors.ca
SUMMARY:Lifestyles
DESCRIPTION:Our Lifestyle Section features several exciting activities. The participation fee is a toonie ($2)\, and there is a 50/50 draw for a loonie ($1).
URL:https://www.bayshoreseniors.ca/event/lifestyles-2-2/2030-09-04/
LOCATION:Craft Room
CATEGORIES:Lifestyle
ATTACH;FMTTYPE=image/jpeg:https://www.bayshoreseniors.ca/wp-content/uploads/2025/03/home-slide-8-1.jpg
END:VEVENT
BEGIN:VEVENT
DTSTART;TZID=America/Toronto:20300911T090000
DTEND;TZID=America/Toronto:20300911T103000
DTSTAMP:20260424T033355
CREATED:20250829T222554Z
LAST-MODIFIED:20251104T200746Z
UID:10000550-1915347600-1915353000@www.bayshoreseniors.ca
SUMMARY:Lifestyles
DESCRIPTION:Our Lifestyle Section features several exciting activities. The participation fee is a toonie ($2)\, and there is a 50/50 draw for a loonie ($1).
URL:https://www.bayshoreseniors.ca/event/lifestyles-2-2/2030-09-11/
LOCATION:Craft Room
CATEGORIES:Lifestyle
ATTACH;FMTTYPE=image/jpeg:https://www.bayshoreseniors.ca/wp-content/uploads/2025/03/home-slide-8-1.jpg
END:VEVENT
BEGIN:VEVENT
DTSTART;TZID=America/Toronto:20300918T090000
DTEND;TZID=America/Toronto:20300918T103000
DTSTAMP:20260424T033355
CREATED:20250829T222554Z
LAST-MODIFIED:20251104T200746Z
UID:10000551-1915952400-1915957800@www.bayshoreseniors.ca
SUMMARY:Lifestyles
DESCRIPTION:Our Lifestyle Section features several exciting activities. The participation fee is a toonie ($2)\, and there is a 50/50 draw for a loonie ($1).
URL:https://www.bayshoreseniors.ca/event/lifestyles-2-2/2030-09-18/
LOCATION:Craft Room
CATEGORIES:Lifestyle
ATTACH;FMTTYPE=image/jpeg:https://www.bayshoreseniors.ca/wp-content/uploads/2025/03/home-slide-8-1.jpg
END:VEVENT
BEGIN:VEVENT
DTSTART;TZID=America/Toronto:20300925T090000
DTEND;TZID=America/Toronto:20300925T103000
DTSTAMP:20260424T033355
CREATED:20250829T222554Z
LAST-MODIFIED:20251104T200746Z
UID:10000552-1916557200-1916562600@www.bayshoreseniors.ca
SUMMARY:Lifestyles
DESCRIPTION:Our Lifestyle Section features several exciting activities. The participation fee is a toonie ($2)\, and there is a 50/50 draw for a loonie ($1).
URL:https://www.bayshoreseniors.ca/event/lifestyles-2-2/2030-09-25/
LOCATION:Craft Room
CATEGORIES:Lifestyle
ATTACH;FMTTYPE=image/jpeg:https://www.bayshoreseniors.ca/wp-content/uploads/2025/03/home-slide-8-1.jpg
END:VEVENT
BEGIN:VEVENT
DTSTART;TZID=America/Toronto:20301002T090000
DTEND;TZID=America/Toronto:20301002T103000
DTSTAMP:20260424T033355
CREATED:20250829T222554Z
LAST-MODIFIED:20251104T200746Z
UID:10000553-1917162000-1917167400@www.bayshoreseniors.ca
SUMMARY:Lifestyles
DESCRIPTION:Our Lifestyle Section features several exciting activities. The participation fee is a toonie ($2)\, and there is a 50/50 draw for a loonie ($1).
URL:https://www.bayshoreseniors.ca/event/lifestyles-2-2/2030-10-02/
LOCATION:Craft Room
CATEGORIES:Lifestyle
ATTACH;FMTTYPE=image/jpeg:https://www.bayshoreseniors.ca/wp-content/uploads/2025/03/home-slide-8-1.jpg
END:VEVENT
BEGIN:VEVENT
DTSTART;TZID=America/Toronto:20301009T090000
DTEND;TZID=America/Toronto:20301009T103000
DTSTAMP:20260424T033355
CREATED:20250829T222554Z
LAST-MODIFIED:20251104T200746Z
UID:10000554-1917766800-1917772200@www.bayshoreseniors.ca
SUMMARY:Lifestyles
DESCRIPTION:Our Lifestyle Section features several exciting activities. The participation fee is a toonie ($2)\, and there is a 50/50 draw for a loonie ($1).
URL:https://www.bayshoreseniors.ca/event/lifestyles-2-2/2030-10-09/
LOCATION:Craft Room
CATEGORIES:Lifestyle
ATTACH;FMTTYPE=image/jpeg:https://www.bayshoreseniors.ca/wp-content/uploads/2025/03/home-slide-8-1.jpg
END:VEVENT
BEGIN:VEVENT
DTSTART;TZID=America/Toronto:20301016T090000
DTEND;TZID=America/Toronto:20301016T103000
DTSTAMP:20260424T033355
CREATED:20250829T222554Z
LAST-MODIFIED:20251104T200746Z
UID:10000555-1918371600-1918377000@www.bayshoreseniors.ca
SUMMARY:Lifestyles
DESCRIPTION:Our Lifestyle Section features several exciting activities. The participation fee is a toonie ($2)\, and there is a 50/50 draw for a loonie ($1).
URL:https://www.bayshoreseniors.ca/event/lifestyles-2-2/2030-10-16/
LOCATION:Craft Room
CATEGORIES:Lifestyle
ATTACH;FMTTYPE=image/jpeg:https://www.bayshoreseniors.ca/wp-content/uploads/2025/03/home-slide-8-1.jpg
END:VEVENT
END:VCALENDAR