BEGIN:VCALENDAR
VERSION:2.0
PRODID:-//Bayshore Seniors - ECPv6.15.18//NONSGML v1.0//EN
CALSCALE:GREGORIAN
METHOD:PUBLISH
X-WR-CALNAME:Bayshore Seniors
X-ORIGINAL-URL:https://www.bayshoreseniors.ca
X-WR-CALDESC:Events for Bayshore Seniors
REFRESH-INTERVAL;VALUE=DURATION:PT1H
X-Robots-Tag:noindex
X-PUBLISHED-TTL:PT1H
BEGIN:VTIMEZONE
TZID:America/Toronto
BEGIN:DAYLIGHT
TZOFFSETFROM:-0500
TZOFFSETTO:-0400
TZNAME:EDT
DTSTART:20240310T070000
END:DAYLIGHT
BEGIN:STANDARD
TZOFFSETFROM:-0400
TZOFFSETTO:-0500
TZNAME:EST
DTSTART:20241103T060000
END:STANDARD
BEGIN:DAYLIGHT
TZOFFSETFROM:-0500
TZOFFSETTO:-0400
TZNAME:EDT
DTSTART:20250309T070000
END:DAYLIGHT
BEGIN:STANDARD
TZOFFSETFROM:-0400
TZOFFSETTO:-0500
TZNAME:EST
DTSTART:20251102T060000
END:STANDARD
BEGIN:DAYLIGHT
TZOFFSETFROM:-0500
TZOFFSETTO:-0400
TZNAME:EDT
DTSTART:20260308T070000
END:DAYLIGHT
BEGIN:STANDARD
TZOFFSETFROM:-0400
TZOFFSETTO:-0500
TZNAME:EST
DTSTART:20261101T060000
END:STANDARD
END:VTIMEZONE
BEGIN:VEVENT
DTSTART;TZID=America/Toronto:20251029T090000
DTEND;TZID=America/Toronto:20251029T103000
DTSTAMP:20260421T054629
CREATED:20250829T222554Z
LAST-MODIFIED:20251104T200746Z
UID:10000296-1761728400-1761733800@www.bayshoreseniors.ca
SUMMARY:Lifestyles
DESCRIPTION:Our Lifestyle Section features several exciting activities. The participation fee is a toonie ($2)\, and there is a 50/50 draw for a loonie ($1).
URL:https://www.bayshoreseniors.ca/event/lifestyles-2-2/2025-10-29/
LOCATION:Craft Room
CATEGORIES:Lifestyle
ATTACH;FMTTYPE=image/jpeg:https://www.bayshoreseniors.ca/wp-content/uploads/2025/03/home-slide-8-1.jpg
END:VEVENT
BEGIN:VEVENT
DTSTART;TZID=America/Toronto:20251022T090000
DTEND;TZID=America/Toronto:20251022T103000
DTSTAMP:20260421T054629
CREATED:20250829T222554Z
LAST-MODIFIED:20251104T200746Z
UID:10000295-1761123600-1761129000@www.bayshoreseniors.ca
SUMMARY:Lifestyles
DESCRIPTION:Our Lifestyle Section features several exciting activities. The participation fee is a toonie ($2)\, and there is a 50/50 draw for a loonie ($1).
URL:https://www.bayshoreseniors.ca/event/lifestyles-2-2/2025-10-22/
LOCATION:Craft Room
CATEGORIES:Lifestyle
ATTACH;FMTTYPE=image/jpeg:https://www.bayshoreseniors.ca/wp-content/uploads/2025/03/home-slide-8-1.jpg
END:VEVENT
BEGIN:VEVENT
DTSTART;TZID=America/Toronto:20251015T090000
DTEND;TZID=America/Toronto:20251015T103000
DTSTAMP:20260421T054629
CREATED:20250829T222554Z
LAST-MODIFIED:20251104T200746Z
UID:10000294-1760518800-1760524200@www.bayshoreseniors.ca
SUMMARY:Lifestyles
DESCRIPTION:Our Lifestyle Section features several exciting activities. The participation fee is a toonie ($2)\, and there is a 50/50 draw for a loonie ($1).
URL:https://www.bayshoreseniors.ca/event/lifestyles-2-2/2025-10-15/
LOCATION:Craft Room
CATEGORIES:Lifestyle
ATTACH;FMTTYPE=image/jpeg:https://www.bayshoreseniors.ca/wp-content/uploads/2025/03/home-slide-8-1.jpg
END:VEVENT
BEGIN:VEVENT
DTSTART;TZID=America/Toronto:20251008T090000
DTEND;TZID=America/Toronto:20251008T103000
DTSTAMP:20260421T054629
CREATED:20250829T222554Z
LAST-MODIFIED:20251104T200746Z
UID:10000293-1759914000-1759919400@www.bayshoreseniors.ca
SUMMARY:Lifestyles
DESCRIPTION:Our Lifestyle Section features several exciting activities. The participation fee is a toonie ($2)\, and there is a 50/50 draw for a loonie ($1).
URL:https://www.bayshoreseniors.ca/event/lifestyles-2-2/2025-10-08/
LOCATION:Craft Room
CATEGORIES:Lifestyle
ATTACH;FMTTYPE=image/jpeg:https://www.bayshoreseniors.ca/wp-content/uploads/2025/03/home-slide-8-1.jpg
END:VEVENT
BEGIN:VEVENT
DTSTART;TZID=America/Toronto:20251001T090000
DTEND;TZID=America/Toronto:20251001T103000
DTSTAMP:20260421T054629
CREATED:20250829T222554Z
LAST-MODIFIED:20251104T200746Z
UID:10000292-1759309200-1759314600@www.bayshoreseniors.ca
SUMMARY:Lifestyles
DESCRIPTION:Our Lifestyle Section features several exciting activities. The participation fee is a toonie ($2)\, and there is a 50/50 draw for a loonie ($1).
URL:https://www.bayshoreseniors.ca/event/lifestyles-2-2/2025-10-01/
LOCATION:Craft Room
CATEGORIES:Lifestyle
ATTACH;FMTTYPE=image/jpeg:https://www.bayshoreseniors.ca/wp-content/uploads/2025/03/home-slide-8-1.jpg
END:VEVENT
BEGIN:VEVENT
DTSTART;TZID=America/Toronto:20250924T090000
DTEND;TZID=America/Toronto:20250924T103000
DTSTAMP:20260421T054629
CREATED:20250829T222554Z
LAST-MODIFIED:20251104T200746Z
UID:10000291-1758704400-1758709800@www.bayshoreseniors.ca
SUMMARY:Lifestyles
DESCRIPTION:Our Lifestyle Section features several exciting activities. The participation fee is a toonie ($2)\, and there is a 50/50 draw for a loonie ($1).
URL:https://www.bayshoreseniors.ca/event/lifestyles-2-2/2025-09-24/
LOCATION:Craft Room
CATEGORIES:Lifestyle
ATTACH;FMTTYPE=image/jpeg:https://www.bayshoreseniors.ca/wp-content/uploads/2025/03/home-slide-8-1.jpg
END:VEVENT
END:VCALENDAR