BEGIN:VCALENDAR
VERSION:2.0
PRODID:-//Bayshore Seniors - ECPv6.15.18//NONSGML v1.0//EN
CALSCALE:GREGORIAN
METHOD:PUBLISH
X-WR-CALNAME:Bayshore Seniors
X-ORIGINAL-URL:https://www.bayshoreseniors.ca
X-WR-CALDESC:Events for Bayshore Seniors
REFRESH-INTERVAL;VALUE=DURATION:PT1H
X-Robots-Tag:noindex
X-PUBLISHED-TTL:PT1H
BEGIN:VTIMEZONE
TZID:America/Toronto
BEGIN:DAYLIGHT
TZOFFSETFROM:-0500
TZOFFSETTO:-0400
TZNAME:EDT
DTSTART:20260308T070000
END:DAYLIGHT
BEGIN:STANDARD
TZOFFSETFROM:-0400
TZOFFSETTO:-0500
TZNAME:EST
DTSTART:20261101T060000
END:STANDARD
BEGIN:DAYLIGHT
TZOFFSETFROM:-0500
TZOFFSETTO:-0400
TZNAME:EDT
DTSTART:20270314T070000
END:DAYLIGHT
BEGIN:STANDARD
TZOFFSETFROM:-0400
TZOFFSETTO:-0500
TZNAME:EST
DTSTART:20271107T060000
END:STANDARD
BEGIN:DAYLIGHT
TZOFFSETFROM:-0500
TZOFFSETTO:-0400
TZNAME:EDT
DTSTART:20280312T070000
END:DAYLIGHT
BEGIN:STANDARD
TZOFFSETFROM:-0400
TZOFFSETTO:-0500
TZNAME:EST
DTSTART:20281105T060000
END:STANDARD
BEGIN:DAYLIGHT
TZOFFSETFROM:-0500
TZOFFSETTO:-0400
TZNAME:EDT
DTSTART:20290311T070000
END:DAYLIGHT
BEGIN:STANDARD
TZOFFSETFROM:-0400
TZOFFSETTO:-0500
TZNAME:EST
DTSTART:20291104T060000
END:STANDARD
END:VTIMEZONE
BEGIN:VEVENT
DTSTART;TZID=America/Toronto:20270616T090000
DTEND;TZID=America/Toronto:20270616T103000
DTSTAMP:20260421T153244
CREATED:20250829T222554Z
LAST-MODIFIED:20251104T200746Z
UID:10000381-1813136400-1813141800@www.bayshoreseniors.ca
SUMMARY:Lifestyles
DESCRIPTION:Our Lifestyle Section features several exciting activities. The participation fee is a toonie ($2)\, and there is a 50/50 draw for a loonie ($1).
URL:https://www.bayshoreseniors.ca/event/lifestyles-2-2/2027-06-16/
LOCATION:Craft Room
CATEGORIES:Lifestyle
ATTACH;FMTTYPE=image/jpeg:https://www.bayshoreseniors.ca/wp-content/uploads/2025/03/home-slide-8-1.jpg
END:VEVENT
BEGIN:VEVENT
DTSTART;TZID=America/Toronto:20270623T090000
DTEND;TZID=America/Toronto:20270623T103000
DTSTAMP:20260421T153244
CREATED:20250829T222554Z
LAST-MODIFIED:20251104T200746Z
UID:10000382-1813741200-1813746600@www.bayshoreseniors.ca
SUMMARY:Lifestyles
DESCRIPTION:Our Lifestyle Section features several exciting activities. The participation fee is a toonie ($2)\, and there is a 50/50 draw for a loonie ($1).
URL:https://www.bayshoreseniors.ca/event/lifestyles-2-2/2027-06-23/
LOCATION:Craft Room
CATEGORIES:Lifestyle
ATTACH;FMTTYPE=image/jpeg:https://www.bayshoreseniors.ca/wp-content/uploads/2025/03/home-slide-8-1.jpg
END:VEVENT
BEGIN:VEVENT
DTSTART;TZID=America/Toronto:20270630T090000
DTEND;TZID=America/Toronto:20270630T103000
DTSTAMP:20260421T153244
CREATED:20250829T222554Z
LAST-MODIFIED:20251104T200746Z
UID:10000383-1814346000-1814351400@www.bayshoreseniors.ca
SUMMARY:Lifestyles
DESCRIPTION:Our Lifestyle Section features several exciting activities. The participation fee is a toonie ($2)\, and there is a 50/50 draw for a loonie ($1).
URL:https://www.bayshoreseniors.ca/event/lifestyles-2-2/2027-06-30/
LOCATION:Craft Room
CATEGORIES:Lifestyle
ATTACH;FMTTYPE=image/jpeg:https://www.bayshoreseniors.ca/wp-content/uploads/2025/03/home-slide-8-1.jpg
END:VEVENT
BEGIN:VEVENT
DTSTART;TZID=America/Toronto:20270707T090000
DTEND;TZID=America/Toronto:20270707T103000
DTSTAMP:20260421T153244
CREATED:20250829T222554Z
LAST-MODIFIED:20251104T200746Z
UID:10000384-1814950800-1814956200@www.bayshoreseniors.ca
SUMMARY:Lifestyles
DESCRIPTION:Our Lifestyle Section features several exciting activities. The participation fee is a toonie ($2)\, and there is a 50/50 draw for a loonie ($1).
URL:https://www.bayshoreseniors.ca/event/lifestyles-2-2/2027-07-07/
LOCATION:Craft Room
CATEGORIES:Lifestyle
ATTACH;FMTTYPE=image/jpeg:https://www.bayshoreseniors.ca/wp-content/uploads/2025/03/home-slide-8-1.jpg
END:VEVENT
BEGIN:VEVENT
DTSTART;TZID=America/Toronto:20270714T090000
DTEND;TZID=America/Toronto:20270714T103000
DTSTAMP:20260421T153244
CREATED:20250829T222554Z
LAST-MODIFIED:20251104T200746Z
UID:10000385-1815555600-1815561000@www.bayshoreseniors.ca
SUMMARY:Lifestyles
DESCRIPTION:Our Lifestyle Section features several exciting activities. The participation fee is a toonie ($2)\, and there is a 50/50 draw for a loonie ($1).
URL:https://www.bayshoreseniors.ca/event/lifestyles-2-2/2027-07-14/
LOCATION:Craft Room
CATEGORIES:Lifestyle
ATTACH;FMTTYPE=image/jpeg:https://www.bayshoreseniors.ca/wp-content/uploads/2025/03/home-slide-8-1.jpg
END:VEVENT
BEGIN:VEVENT
DTSTART;TZID=America/Toronto:20270721T090000
DTEND;TZID=America/Toronto:20270721T103000
DTSTAMP:20260421T153244
CREATED:20250829T222554Z
LAST-MODIFIED:20251104T200746Z
UID:10000386-1816160400-1816165800@www.bayshoreseniors.ca
SUMMARY:Lifestyles
DESCRIPTION:Our Lifestyle Section features several exciting activities. The participation fee is a toonie ($2)\, and there is a 50/50 draw for a loonie ($1).
URL:https://www.bayshoreseniors.ca/event/lifestyles-2-2/2027-07-21/
LOCATION:Craft Room
CATEGORIES:Lifestyle
ATTACH;FMTTYPE=image/jpeg:https://www.bayshoreseniors.ca/wp-content/uploads/2025/03/home-slide-8-1.jpg
END:VEVENT
BEGIN:VEVENT
DTSTART;TZID=America/Toronto:20270728T090000
DTEND;TZID=America/Toronto:20270728T103000
DTSTAMP:20260421T153244
CREATED:20250829T222554Z
LAST-MODIFIED:20251104T200746Z
UID:10000387-1816765200-1816770600@www.bayshoreseniors.ca
SUMMARY:Lifestyles
DESCRIPTION:Our Lifestyle Section features several exciting activities. The participation fee is a toonie ($2)\, and there is a 50/50 draw for a loonie ($1).
URL:https://www.bayshoreseniors.ca/event/lifestyles-2-2/2027-07-28/
LOCATION:Craft Room
CATEGORIES:Lifestyle
ATTACH;FMTTYPE=image/jpeg:https://www.bayshoreseniors.ca/wp-content/uploads/2025/03/home-slide-8-1.jpg
END:VEVENT
BEGIN:VEVENT
DTSTART;TZID=America/Toronto:20270804T090000
DTEND;TZID=America/Toronto:20270804T103000
DTSTAMP:20260421T153244
CREATED:20250829T222554Z
LAST-MODIFIED:20251104T200746Z
UID:10000388-1817370000-1817375400@www.bayshoreseniors.ca
SUMMARY:Lifestyles
DESCRIPTION:Our Lifestyle Section features several exciting activities. The participation fee is a toonie ($2)\, and there is a 50/50 draw for a loonie ($1).
URL:https://www.bayshoreseniors.ca/event/lifestyles-2-2/2027-08-04/
LOCATION:Craft Room
CATEGORIES:Lifestyle
ATTACH;FMTTYPE=image/jpeg:https://www.bayshoreseniors.ca/wp-content/uploads/2025/03/home-slide-8-1.jpg
END:VEVENT
BEGIN:VEVENT
DTSTART;TZID=America/Toronto:20270811T090000
DTEND;TZID=America/Toronto:20270811T103000
DTSTAMP:20260421T153244
CREATED:20250829T222554Z
LAST-MODIFIED:20251104T200746Z
UID:10000389-1817974800-1817980200@www.bayshoreseniors.ca
SUMMARY:Lifestyles
DESCRIPTION:Our Lifestyle Section features several exciting activities. The participation fee is a toonie ($2)\, and there is a 50/50 draw for a loonie ($1).
URL:https://www.bayshoreseniors.ca/event/lifestyles-2-2/2027-08-11/
LOCATION:Craft Room
CATEGORIES:Lifestyle
ATTACH;FMTTYPE=image/jpeg:https://www.bayshoreseniors.ca/wp-content/uploads/2025/03/home-slide-8-1.jpg
END:VEVENT
BEGIN:VEVENT
DTSTART;TZID=America/Toronto:20270818T090000
DTEND;TZID=America/Toronto:20270818T103000
DTSTAMP:20260421T153244
CREATED:20250829T222554Z
LAST-MODIFIED:20251104T200746Z
UID:10000390-1818579600-1818585000@www.bayshoreseniors.ca
SUMMARY:Lifestyles
DESCRIPTION:Our Lifestyle Section features several exciting activities. The participation fee is a toonie ($2)\, and there is a 50/50 draw for a loonie ($1).
URL:https://www.bayshoreseniors.ca/event/lifestyles-2-2/2027-08-18/
LOCATION:Craft Room
CATEGORIES:Lifestyle
ATTACH;FMTTYPE=image/jpeg:https://www.bayshoreseniors.ca/wp-content/uploads/2025/03/home-slide-8-1.jpg
END:VEVENT
BEGIN:VEVENT
DTSTART;TZID=America/Toronto:20270825T090000
DTEND;TZID=America/Toronto:20270825T103000
DTSTAMP:20260421T153244
CREATED:20250829T222554Z
LAST-MODIFIED:20251104T200746Z
UID:10000391-1819184400-1819189800@www.bayshoreseniors.ca
SUMMARY:Lifestyles
DESCRIPTION:Our Lifestyle Section features several exciting activities. The participation fee is a toonie ($2)\, and there is a 50/50 draw for a loonie ($1).
URL:https://www.bayshoreseniors.ca/event/lifestyles-2-2/2027-08-25/
LOCATION:Craft Room
CATEGORIES:Lifestyle
ATTACH;FMTTYPE=image/jpeg:https://www.bayshoreseniors.ca/wp-content/uploads/2025/03/home-slide-8-1.jpg
END:VEVENT
BEGIN:VEVENT
DTSTART;TZID=America/Toronto:20270901T090000
DTEND;TZID=America/Toronto:20270901T103000
DTSTAMP:20260421T153244
CREATED:20250829T222554Z
LAST-MODIFIED:20251104T200746Z
UID:10000392-1819789200-1819794600@www.bayshoreseniors.ca
SUMMARY:Lifestyles
DESCRIPTION:Our Lifestyle Section features several exciting activities. The participation fee is a toonie ($2)\, and there is a 50/50 draw for a loonie ($1).
URL:https://www.bayshoreseniors.ca/event/lifestyles-2-2/2027-09-01/
LOCATION:Craft Room
CATEGORIES:Lifestyle
ATTACH;FMTTYPE=image/jpeg:https://www.bayshoreseniors.ca/wp-content/uploads/2025/03/home-slide-8-1.jpg
END:VEVENT
BEGIN:VEVENT
DTSTART;TZID=America/Toronto:20270908T090000
DTEND;TZID=America/Toronto:20270908T103000
DTSTAMP:20260421T153244
CREATED:20250829T222554Z
LAST-MODIFIED:20251104T200746Z
UID:10000393-1820394000-1820399400@www.bayshoreseniors.ca
SUMMARY:Lifestyles
DESCRIPTION:Our Lifestyle Section features several exciting activities. The participation fee is a toonie ($2)\, and there is a 50/50 draw for a loonie ($1).
URL:https://www.bayshoreseniors.ca/event/lifestyles-2-2/2027-09-08/
LOCATION:Craft Room
CATEGORIES:Lifestyle
ATTACH;FMTTYPE=image/jpeg:https://www.bayshoreseniors.ca/wp-content/uploads/2025/03/home-slide-8-1.jpg
END:VEVENT
BEGIN:VEVENT
DTSTART;TZID=America/Toronto:20270915T090000
DTEND;TZID=America/Toronto:20270915T103000
DTSTAMP:20260421T153244
CREATED:20250829T222554Z
LAST-MODIFIED:20251104T200746Z
UID:10000394-1820998800-1821004200@www.bayshoreseniors.ca
SUMMARY:Lifestyles
DESCRIPTION:Our Lifestyle Section features several exciting activities. The participation fee is a toonie ($2)\, and there is a 50/50 draw for a loonie ($1).
URL:https://www.bayshoreseniors.ca/event/lifestyles-2-2/2027-09-15/
LOCATION:Craft Room
CATEGORIES:Lifestyle
ATTACH;FMTTYPE=image/jpeg:https://www.bayshoreseniors.ca/wp-content/uploads/2025/03/home-slide-8-1.jpg
END:VEVENT
BEGIN:VEVENT
DTSTART;TZID=America/Toronto:20270922T090000
DTEND;TZID=America/Toronto:20270922T103000
DTSTAMP:20260421T153244
CREATED:20250829T222554Z
LAST-MODIFIED:20251104T200746Z
UID:10000395-1821603600-1821609000@www.bayshoreseniors.ca
SUMMARY:Lifestyles
DESCRIPTION:Our Lifestyle Section features several exciting activities. The participation fee is a toonie ($2)\, and there is a 50/50 draw for a loonie ($1).
URL:https://www.bayshoreseniors.ca/event/lifestyles-2-2/2027-09-22/
LOCATION:Craft Room
CATEGORIES:Lifestyle
ATTACH;FMTTYPE=image/jpeg:https://www.bayshoreseniors.ca/wp-content/uploads/2025/03/home-slide-8-1.jpg
END:VEVENT
BEGIN:VEVENT
DTSTART;TZID=America/Toronto:20270929T090000
DTEND;TZID=America/Toronto:20270929T103000
DTSTAMP:20260421T153244
CREATED:20250829T222554Z
LAST-MODIFIED:20251104T200746Z
UID:10000396-1822208400-1822213800@www.bayshoreseniors.ca
SUMMARY:Lifestyles
DESCRIPTION:Our Lifestyle Section features several exciting activities. The participation fee is a toonie ($2)\, and there is a 50/50 draw for a loonie ($1).
URL:https://www.bayshoreseniors.ca/event/lifestyles-2-2/2027-09-29/
LOCATION:Craft Room
CATEGORIES:Lifestyle
ATTACH;FMTTYPE=image/jpeg:https://www.bayshoreseniors.ca/wp-content/uploads/2025/03/home-slide-8-1.jpg
END:VEVENT
BEGIN:VEVENT
DTSTART;TZID=America/Toronto:20271006T090000
DTEND;TZID=America/Toronto:20271006T103000
DTSTAMP:20260421T153244
CREATED:20250829T222554Z
LAST-MODIFIED:20251104T200746Z
UID:10000397-1822813200-1822818600@www.bayshoreseniors.ca
SUMMARY:Lifestyles
DESCRIPTION:Our Lifestyle Section features several exciting activities. The participation fee is a toonie ($2)\, and there is a 50/50 draw for a loonie ($1).
URL:https://www.bayshoreseniors.ca/event/lifestyles-2-2/2027-10-06/
LOCATION:Craft Room
CATEGORIES:Lifestyle
ATTACH;FMTTYPE=image/jpeg:https://www.bayshoreseniors.ca/wp-content/uploads/2025/03/home-slide-8-1.jpg
END:VEVENT
BEGIN:VEVENT
DTSTART;TZID=America/Toronto:20271013T090000
DTEND;TZID=America/Toronto:20271013T103000
DTSTAMP:20260421T153244
CREATED:20250829T222554Z
LAST-MODIFIED:20251104T200746Z
UID:10000398-1823418000-1823423400@www.bayshoreseniors.ca
SUMMARY:Lifestyles
DESCRIPTION:Our Lifestyle Section features several exciting activities. The participation fee is a toonie ($2)\, and there is a 50/50 draw for a loonie ($1).
URL:https://www.bayshoreseniors.ca/event/lifestyles-2-2/2027-10-13/
LOCATION:Craft Room
CATEGORIES:Lifestyle
ATTACH;FMTTYPE=image/jpeg:https://www.bayshoreseniors.ca/wp-content/uploads/2025/03/home-slide-8-1.jpg
END:VEVENT
BEGIN:VEVENT
DTSTART;TZID=America/Toronto:20271020T090000
DTEND;TZID=America/Toronto:20271020T103000
DTSTAMP:20260421T153244
CREATED:20250829T222554Z
LAST-MODIFIED:20251104T200746Z
UID:10000399-1824022800-1824028200@www.bayshoreseniors.ca
SUMMARY:Lifestyles
DESCRIPTION:Our Lifestyle Section features several exciting activities. The participation fee is a toonie ($2)\, and there is a 50/50 draw for a loonie ($1).
URL:https://www.bayshoreseniors.ca/event/lifestyles-2-2/2027-10-20/
LOCATION:Craft Room
CATEGORIES:Lifestyle
ATTACH;FMTTYPE=image/jpeg:https://www.bayshoreseniors.ca/wp-content/uploads/2025/03/home-slide-8-1.jpg
END:VEVENT
BEGIN:VEVENT
DTSTART;TZID=America/Toronto:20271027T090000
DTEND;TZID=America/Toronto:20271027T103000
DTSTAMP:20260421T153244
CREATED:20250829T222554Z
LAST-MODIFIED:20251104T200746Z
UID:10000400-1824627600-1824633000@www.bayshoreseniors.ca
SUMMARY:Lifestyles
DESCRIPTION:Our Lifestyle Section features several exciting activities. The participation fee is a toonie ($2)\, and there is a 50/50 draw for a loonie ($1).
URL:https://www.bayshoreseniors.ca/event/lifestyles-2-2/2027-10-27/
LOCATION:Craft Room
CATEGORIES:Lifestyle
ATTACH;FMTTYPE=image/jpeg:https://www.bayshoreseniors.ca/wp-content/uploads/2025/03/home-slide-8-1.jpg
END:VEVENT
BEGIN:VEVENT
DTSTART;TZID=America/Toronto:20271103T090000
DTEND;TZID=America/Toronto:20271103T103000
DTSTAMP:20260421T153244
CREATED:20250829T222554Z
LAST-MODIFIED:20251104T200746Z
UID:10000401-1825232400-1825237800@www.bayshoreseniors.ca
SUMMARY:Lifestyles
DESCRIPTION:Our Lifestyle Section features several exciting activities. The participation fee is a toonie ($2)\, and there is a 50/50 draw for a loonie ($1).
URL:https://www.bayshoreseniors.ca/event/lifestyles-2-2/2027-11-03/
LOCATION:Craft Room
CATEGORIES:Lifestyle
ATTACH;FMTTYPE=image/jpeg:https://www.bayshoreseniors.ca/wp-content/uploads/2025/03/home-slide-8-1.jpg
END:VEVENT
BEGIN:VEVENT
DTSTART;TZID=America/Toronto:20271110T090000
DTEND;TZID=America/Toronto:20271110T103000
DTSTAMP:20260421T153244
CREATED:20250829T222554Z
LAST-MODIFIED:20251104T200746Z
UID:10000402-1825837200-1825842600@www.bayshoreseniors.ca
SUMMARY:Lifestyles
DESCRIPTION:Our Lifestyle Section features several exciting activities. The participation fee is a toonie ($2)\, and there is a 50/50 draw for a loonie ($1).
URL:https://www.bayshoreseniors.ca/event/lifestyles-2-2/2027-11-10/
LOCATION:Craft Room
CATEGORIES:Lifestyle
ATTACH;FMTTYPE=image/jpeg:https://www.bayshoreseniors.ca/wp-content/uploads/2025/03/home-slide-8-1.jpg
END:VEVENT
BEGIN:VEVENT
DTSTART;TZID=America/Toronto:20271117T090000
DTEND;TZID=America/Toronto:20271117T103000
DTSTAMP:20260421T153244
CREATED:20250829T222554Z
LAST-MODIFIED:20251104T200746Z
UID:10000403-1826442000-1826447400@www.bayshoreseniors.ca
SUMMARY:Lifestyles
DESCRIPTION:Our Lifestyle Section features several exciting activities. The participation fee is a toonie ($2)\, and there is a 50/50 draw for a loonie ($1).
URL:https://www.bayshoreseniors.ca/event/lifestyles-2-2/2027-11-17/
LOCATION:Craft Room
CATEGORIES:Lifestyle
ATTACH;FMTTYPE=image/jpeg:https://www.bayshoreseniors.ca/wp-content/uploads/2025/03/home-slide-8-1.jpg
END:VEVENT
BEGIN:VEVENT
DTSTART;TZID=America/Toronto:20271124T090000
DTEND;TZID=America/Toronto:20271124T103000
DTSTAMP:20260421T153244
CREATED:20250829T222554Z
LAST-MODIFIED:20251104T200746Z
UID:10000404-1827046800-1827052200@www.bayshoreseniors.ca
SUMMARY:Lifestyles
DESCRIPTION:Our Lifestyle Section features several exciting activities. The participation fee is a toonie ($2)\, and there is a 50/50 draw for a loonie ($1).
URL:https://www.bayshoreseniors.ca/event/lifestyles-2-2/2027-11-24/
LOCATION:Craft Room
CATEGORIES:Lifestyle
ATTACH;FMTTYPE=image/jpeg:https://www.bayshoreseniors.ca/wp-content/uploads/2025/03/home-slide-8-1.jpg
END:VEVENT
BEGIN:VEVENT
DTSTART;TZID=America/Toronto:20271201T090000
DTEND;TZID=America/Toronto:20271201T103000
DTSTAMP:20260421T153244
CREATED:20250829T222554Z
LAST-MODIFIED:20251104T200746Z
UID:10000405-1827651600-1827657000@www.bayshoreseniors.ca
SUMMARY:Lifestyles
DESCRIPTION:Our Lifestyle Section features several exciting activities. The participation fee is a toonie ($2)\, and there is a 50/50 draw for a loonie ($1).
URL:https://www.bayshoreseniors.ca/event/lifestyles-2-2/2027-12-01/
LOCATION:Craft Room
CATEGORIES:Lifestyle
ATTACH;FMTTYPE=image/jpeg:https://www.bayshoreseniors.ca/wp-content/uploads/2025/03/home-slide-8-1.jpg
END:VEVENT
BEGIN:VEVENT
DTSTART;TZID=America/Toronto:20271208T090000
DTEND;TZID=America/Toronto:20271208T103000
DTSTAMP:20260421T153244
CREATED:20250829T222554Z
LAST-MODIFIED:20251104T200746Z
UID:10000406-1828256400-1828261800@www.bayshoreseniors.ca
SUMMARY:Lifestyles
DESCRIPTION:Our Lifestyle Section features several exciting activities. The participation fee is a toonie ($2)\, and there is a 50/50 draw for a loonie ($1).
URL:https://www.bayshoreseniors.ca/event/lifestyles-2-2/2027-12-08/
LOCATION:Craft Room
CATEGORIES:Lifestyle
ATTACH;FMTTYPE=image/jpeg:https://www.bayshoreseniors.ca/wp-content/uploads/2025/03/home-slide-8-1.jpg
END:VEVENT
BEGIN:VEVENT
DTSTART;TZID=America/Toronto:20271215T090000
DTEND;TZID=America/Toronto:20271215T103000
DTSTAMP:20260421T153244
CREATED:20250829T222554Z
LAST-MODIFIED:20251104T200746Z
UID:10000407-1828861200-1828866600@www.bayshoreseniors.ca
SUMMARY:Lifestyles
DESCRIPTION:Our Lifestyle Section features several exciting activities. The participation fee is a toonie ($2)\, and there is a 50/50 draw for a loonie ($1).
URL:https://www.bayshoreseniors.ca/event/lifestyles-2-2/2027-12-15/
LOCATION:Craft Room
CATEGORIES:Lifestyle
ATTACH;FMTTYPE=image/jpeg:https://www.bayshoreseniors.ca/wp-content/uploads/2025/03/home-slide-8-1.jpg
END:VEVENT
BEGIN:VEVENT
DTSTART;TZID=America/Toronto:20271222T090000
DTEND;TZID=America/Toronto:20271222T103000
DTSTAMP:20260421T153244
CREATED:20250829T222554Z
LAST-MODIFIED:20251104T200746Z
UID:10000408-1829466000-1829471400@www.bayshoreseniors.ca
SUMMARY:Lifestyles
DESCRIPTION:Our Lifestyle Section features several exciting activities. The participation fee is a toonie ($2)\, and there is a 50/50 draw for a loonie ($1).
URL:https://www.bayshoreseniors.ca/event/lifestyles-2-2/2027-12-22/
LOCATION:Craft Room
CATEGORIES:Lifestyle
ATTACH;FMTTYPE=image/jpeg:https://www.bayshoreseniors.ca/wp-content/uploads/2025/03/home-slide-8-1.jpg
END:VEVENT
BEGIN:VEVENT
DTSTART;TZID=America/Toronto:20271229T090000
DTEND;TZID=America/Toronto:20271229T103000
DTSTAMP:20260421T153244
CREATED:20250829T222554Z
LAST-MODIFIED:20251104T200746Z
UID:10000409-1830070800-1830076200@www.bayshoreseniors.ca
SUMMARY:Lifestyles
DESCRIPTION:Our Lifestyle Section features several exciting activities. The participation fee is a toonie ($2)\, and there is a 50/50 draw for a loonie ($1).
URL:https://www.bayshoreseniors.ca/event/lifestyles-2-2/2027-12-29/
LOCATION:Craft Room
CATEGORIES:Lifestyle
ATTACH;FMTTYPE=image/jpeg:https://www.bayshoreseniors.ca/wp-content/uploads/2025/03/home-slide-8-1.jpg
END:VEVENT
BEGIN:VEVENT
DTSTART;TZID=America/Toronto:20280105T090000
DTEND;TZID=America/Toronto:20280105T103000
DTSTAMP:20260421T153244
CREATED:20250829T222554Z
LAST-MODIFIED:20251104T200746Z
UID:10000410-1830675600-1830681000@www.bayshoreseniors.ca
SUMMARY:Lifestyles
DESCRIPTION:Our Lifestyle Section features several exciting activities. The participation fee is a toonie ($2)\, and there is a 50/50 draw for a loonie ($1).
URL:https://www.bayshoreseniors.ca/event/lifestyles-2-2/2028-01-05/
LOCATION:Craft Room
CATEGORIES:Lifestyle
ATTACH;FMTTYPE=image/jpeg:https://www.bayshoreseniors.ca/wp-content/uploads/2025/03/home-slide-8-1.jpg
END:VEVENT
END:VCALENDAR