BEGIN:VCALENDAR
VERSION:2.0
PRODID:-//Bayshore Seniors - ECPv6.15.18//NONSGML v1.0//EN
CALSCALE:GREGORIAN
METHOD:PUBLISH
X-WR-CALNAME:Bayshore Seniors
X-ORIGINAL-URL:https://www.bayshoreseniors.ca
X-WR-CALDESC:Events for Bayshore Seniors
REFRESH-INTERVAL;VALUE=DURATION:PT1H
X-Robots-Tag:noindex
X-PUBLISHED-TTL:PT1H
BEGIN:VTIMEZONE
TZID:America/Toronto
BEGIN:DAYLIGHT
TZOFFSETFROM:-0500
TZOFFSETTO:-0400
TZNAME:EDT
DTSTART:20270314T070000
END:DAYLIGHT
BEGIN:STANDARD
TZOFFSETFROM:-0400
TZOFFSETTO:-0500
TZNAME:EST
DTSTART:20271107T060000
END:STANDARD
BEGIN:DAYLIGHT
TZOFFSETFROM:-0500
TZOFFSETTO:-0400
TZNAME:EDT
DTSTART:20280312T070000
END:DAYLIGHT
BEGIN:STANDARD
TZOFFSETFROM:-0400
TZOFFSETTO:-0500
TZNAME:EST
DTSTART:20281105T060000
END:STANDARD
BEGIN:DAYLIGHT
TZOFFSETFROM:-0500
TZOFFSETTO:-0400
TZNAME:EDT
DTSTART:20290311T070000
END:DAYLIGHT
BEGIN:STANDARD
TZOFFSETFROM:-0400
TZOFFSETTO:-0500
TZNAME:EST
DTSTART:20291104T060000
END:STANDARD
END:VTIMEZONE
BEGIN:VEVENT
DTSTART;TZID=America/Toronto:20280301T090000
DTEND;TZID=America/Toronto:20280301T103000
DTSTAMP:20260422T144500
CREATED:20250829T222554Z
LAST-MODIFIED:20251104T200746Z
UID:10000418-1835514000-1835519400@www.bayshoreseniors.ca
SUMMARY:Lifestyles
DESCRIPTION:Our Lifestyle Section features several exciting activities. The participation fee is a toonie ($2)\, and there is a 50/50 draw for a loonie ($1).
URL:https://www.bayshoreseniors.ca/event/lifestyles-2-2/2028-03-01/
LOCATION:Craft Room
CATEGORIES:Lifestyle
ATTACH;FMTTYPE=image/jpeg:https://www.bayshoreseniors.ca/wp-content/uploads/2025/03/home-slide-8-1.jpg
END:VEVENT
BEGIN:VEVENT
DTSTART;TZID=America/Toronto:20280308T090000
DTEND;TZID=America/Toronto:20280308T103000
DTSTAMP:20260422T144500
CREATED:20250829T222554Z
LAST-MODIFIED:20251104T200746Z
UID:10000419-1836118800-1836124200@www.bayshoreseniors.ca
SUMMARY:Lifestyles
DESCRIPTION:Our Lifestyle Section features several exciting activities. The participation fee is a toonie ($2)\, and there is a 50/50 draw for a loonie ($1).
URL:https://www.bayshoreseniors.ca/event/lifestyles-2-2/2028-03-08/
LOCATION:Craft Room
CATEGORIES:Lifestyle
ATTACH;FMTTYPE=image/jpeg:https://www.bayshoreseniors.ca/wp-content/uploads/2025/03/home-slide-8-1.jpg
END:VEVENT
BEGIN:VEVENT
DTSTART;TZID=America/Toronto:20280315T090000
DTEND;TZID=America/Toronto:20280315T103000
DTSTAMP:20260422T144500
CREATED:20250829T222554Z
LAST-MODIFIED:20251104T200746Z
UID:10000420-1836723600-1836729000@www.bayshoreseniors.ca
SUMMARY:Lifestyles
DESCRIPTION:Our Lifestyle Section features several exciting activities. The participation fee is a toonie ($2)\, and there is a 50/50 draw for a loonie ($1).
URL:https://www.bayshoreseniors.ca/event/lifestyles-2-2/2028-03-15/
LOCATION:Craft Room
CATEGORIES:Lifestyle
ATTACH;FMTTYPE=image/jpeg:https://www.bayshoreseniors.ca/wp-content/uploads/2025/03/home-slide-8-1.jpg
END:VEVENT
BEGIN:VEVENT
DTSTART;TZID=America/Toronto:20280322T090000
DTEND;TZID=America/Toronto:20280322T103000
DTSTAMP:20260422T144500
CREATED:20250829T222554Z
LAST-MODIFIED:20251104T200746Z
UID:10000421-1837328400-1837333800@www.bayshoreseniors.ca
SUMMARY:Lifestyles
DESCRIPTION:Our Lifestyle Section features several exciting activities. The participation fee is a toonie ($2)\, and there is a 50/50 draw for a loonie ($1).
URL:https://www.bayshoreseniors.ca/event/lifestyles-2-2/2028-03-22/
LOCATION:Craft Room
CATEGORIES:Lifestyle
ATTACH;FMTTYPE=image/jpeg:https://www.bayshoreseniors.ca/wp-content/uploads/2025/03/home-slide-8-1.jpg
END:VEVENT
BEGIN:VEVENT
DTSTART;TZID=America/Toronto:20280329T090000
DTEND;TZID=America/Toronto:20280329T103000
DTSTAMP:20260422T144500
CREATED:20250829T222554Z
LAST-MODIFIED:20251104T200746Z
UID:10000422-1837933200-1837938600@www.bayshoreseniors.ca
SUMMARY:Lifestyles
DESCRIPTION:Our Lifestyle Section features several exciting activities. The participation fee is a toonie ($2)\, and there is a 50/50 draw for a loonie ($1).
URL:https://www.bayshoreseniors.ca/event/lifestyles-2-2/2028-03-29/
LOCATION:Craft Room
CATEGORIES:Lifestyle
ATTACH;FMTTYPE=image/jpeg:https://www.bayshoreseniors.ca/wp-content/uploads/2025/03/home-slide-8-1.jpg
END:VEVENT
BEGIN:VEVENT
DTSTART;TZID=America/Toronto:20280405T090000
DTEND;TZID=America/Toronto:20280405T103000
DTSTAMP:20260422T144500
CREATED:20250829T222554Z
LAST-MODIFIED:20251104T200746Z
UID:10000423-1838538000-1838543400@www.bayshoreseniors.ca
SUMMARY:Lifestyles
DESCRIPTION:Our Lifestyle Section features several exciting activities. The participation fee is a toonie ($2)\, and there is a 50/50 draw for a loonie ($1).
URL:https://www.bayshoreseniors.ca/event/lifestyles-2-2/2028-04-05/
LOCATION:Craft Room
CATEGORIES:Lifestyle
ATTACH;FMTTYPE=image/jpeg:https://www.bayshoreseniors.ca/wp-content/uploads/2025/03/home-slide-8-1.jpg
END:VEVENT
BEGIN:VEVENT
DTSTART;TZID=America/Toronto:20280412T090000
DTEND;TZID=America/Toronto:20280412T103000
DTSTAMP:20260422T144500
CREATED:20250829T222554Z
LAST-MODIFIED:20251104T200746Z
UID:10000424-1839142800-1839148200@www.bayshoreseniors.ca
SUMMARY:Lifestyles
DESCRIPTION:Our Lifestyle Section features several exciting activities. The participation fee is a toonie ($2)\, and there is a 50/50 draw for a loonie ($1).
URL:https://www.bayshoreseniors.ca/event/lifestyles-2-2/2028-04-12/
LOCATION:Craft Room
CATEGORIES:Lifestyle
ATTACH;FMTTYPE=image/jpeg:https://www.bayshoreseniors.ca/wp-content/uploads/2025/03/home-slide-8-1.jpg
END:VEVENT
BEGIN:VEVENT
DTSTART;TZID=America/Toronto:20280419T090000
DTEND;TZID=America/Toronto:20280419T103000
DTSTAMP:20260422T144500
CREATED:20250829T222554Z
LAST-MODIFIED:20251104T200746Z
UID:10000425-1839747600-1839753000@www.bayshoreseniors.ca
SUMMARY:Lifestyles
DESCRIPTION:Our Lifestyle Section features several exciting activities. The participation fee is a toonie ($2)\, and there is a 50/50 draw for a loonie ($1).
URL:https://www.bayshoreseniors.ca/event/lifestyles-2-2/2028-04-19/
LOCATION:Craft Room
CATEGORIES:Lifestyle
ATTACH;FMTTYPE=image/jpeg:https://www.bayshoreseniors.ca/wp-content/uploads/2025/03/home-slide-8-1.jpg
END:VEVENT
BEGIN:VEVENT
DTSTART;TZID=America/Toronto:20280426T090000
DTEND;TZID=America/Toronto:20280426T103000
DTSTAMP:20260422T144500
CREATED:20250829T222554Z
LAST-MODIFIED:20251104T200746Z
UID:10000426-1840352400-1840357800@www.bayshoreseniors.ca
SUMMARY:Lifestyles
DESCRIPTION:Our Lifestyle Section features several exciting activities. The participation fee is a toonie ($2)\, and there is a 50/50 draw for a loonie ($1).
URL:https://www.bayshoreseniors.ca/event/lifestyles-2-2/2028-04-26/
LOCATION:Craft Room
CATEGORIES:Lifestyle
ATTACH;FMTTYPE=image/jpeg:https://www.bayshoreseniors.ca/wp-content/uploads/2025/03/home-slide-8-1.jpg
END:VEVENT
BEGIN:VEVENT
DTSTART;TZID=America/Toronto:20280503T090000
DTEND;TZID=America/Toronto:20280503T103000
DTSTAMP:20260422T144500
CREATED:20250829T222554Z
LAST-MODIFIED:20251104T200746Z
UID:10000427-1840957200-1840962600@www.bayshoreseniors.ca
SUMMARY:Lifestyles
DESCRIPTION:Our Lifestyle Section features several exciting activities. The participation fee is a toonie ($2)\, and there is a 50/50 draw for a loonie ($1).
URL:https://www.bayshoreseniors.ca/event/lifestyles-2-2/2028-05-03/
LOCATION:Craft Room
CATEGORIES:Lifestyle
ATTACH;FMTTYPE=image/jpeg:https://www.bayshoreseniors.ca/wp-content/uploads/2025/03/home-slide-8-1.jpg
END:VEVENT
BEGIN:VEVENT
DTSTART;TZID=America/Toronto:20280510T090000
DTEND;TZID=America/Toronto:20280510T103000
DTSTAMP:20260422T144500
CREATED:20250829T222554Z
LAST-MODIFIED:20251104T200746Z
UID:10000428-1841562000-1841567400@www.bayshoreseniors.ca
SUMMARY:Lifestyles
DESCRIPTION:Our Lifestyle Section features several exciting activities. The participation fee is a toonie ($2)\, and there is a 50/50 draw for a loonie ($1).
URL:https://www.bayshoreseniors.ca/event/lifestyles-2-2/2028-05-10/
LOCATION:Craft Room
CATEGORIES:Lifestyle
ATTACH;FMTTYPE=image/jpeg:https://www.bayshoreseniors.ca/wp-content/uploads/2025/03/home-slide-8-1.jpg
END:VEVENT
BEGIN:VEVENT
DTSTART;TZID=America/Toronto:20280517T090000
DTEND;TZID=America/Toronto:20280517T103000
DTSTAMP:20260422T144500
CREATED:20250829T222554Z
LAST-MODIFIED:20251104T200746Z
UID:10000429-1842166800-1842172200@www.bayshoreseniors.ca
SUMMARY:Lifestyles
DESCRIPTION:Our Lifestyle Section features several exciting activities. The participation fee is a toonie ($2)\, and there is a 50/50 draw for a loonie ($1).
URL:https://www.bayshoreseniors.ca/event/lifestyles-2-2/2028-05-17/
LOCATION:Craft Room
CATEGORIES:Lifestyle
ATTACH;FMTTYPE=image/jpeg:https://www.bayshoreseniors.ca/wp-content/uploads/2025/03/home-slide-8-1.jpg
END:VEVENT
BEGIN:VEVENT
DTSTART;TZID=America/Toronto:20280524T090000
DTEND;TZID=America/Toronto:20280524T103000
DTSTAMP:20260422T144500
CREATED:20250829T222554Z
LAST-MODIFIED:20251104T200746Z
UID:10000430-1842771600-1842777000@www.bayshoreseniors.ca
SUMMARY:Lifestyles
DESCRIPTION:Our Lifestyle Section features several exciting activities. The participation fee is a toonie ($2)\, and there is a 50/50 draw for a loonie ($1).
URL:https://www.bayshoreseniors.ca/event/lifestyles-2-2/2028-05-24/
LOCATION:Craft Room
CATEGORIES:Lifestyle
ATTACH;FMTTYPE=image/jpeg:https://www.bayshoreseniors.ca/wp-content/uploads/2025/03/home-slide-8-1.jpg
END:VEVENT
BEGIN:VEVENT
DTSTART;TZID=America/Toronto:20280531T090000
DTEND;TZID=America/Toronto:20280531T103000
DTSTAMP:20260422T144500
CREATED:20250829T222554Z
LAST-MODIFIED:20251104T200746Z
UID:10000431-1843376400-1843381800@www.bayshoreseniors.ca
SUMMARY:Lifestyles
DESCRIPTION:Our Lifestyle Section features several exciting activities. The participation fee is a toonie ($2)\, and there is a 50/50 draw for a loonie ($1).
URL:https://www.bayshoreseniors.ca/event/lifestyles-2-2/2028-05-31/
LOCATION:Craft Room
CATEGORIES:Lifestyle
ATTACH;FMTTYPE=image/jpeg:https://www.bayshoreseniors.ca/wp-content/uploads/2025/03/home-slide-8-1.jpg
END:VEVENT
BEGIN:VEVENT
DTSTART;TZID=America/Toronto:20280607T090000
DTEND;TZID=America/Toronto:20280607T103000
DTSTAMP:20260422T144500
CREATED:20250829T222554Z
LAST-MODIFIED:20251104T200746Z
UID:10000432-1843981200-1843986600@www.bayshoreseniors.ca
SUMMARY:Lifestyles
DESCRIPTION:Our Lifestyle Section features several exciting activities. The participation fee is a toonie ($2)\, and there is a 50/50 draw for a loonie ($1).
URL:https://www.bayshoreseniors.ca/event/lifestyles-2-2/2028-06-07/
LOCATION:Craft Room
CATEGORIES:Lifestyle
ATTACH;FMTTYPE=image/jpeg:https://www.bayshoreseniors.ca/wp-content/uploads/2025/03/home-slide-8-1.jpg
END:VEVENT
BEGIN:VEVENT
DTSTART;TZID=America/Toronto:20280614T090000
DTEND;TZID=America/Toronto:20280614T103000
DTSTAMP:20260422T144500
CREATED:20250829T222554Z
LAST-MODIFIED:20251104T200746Z
UID:10000433-1844586000-1844591400@www.bayshoreseniors.ca
SUMMARY:Lifestyles
DESCRIPTION:Our Lifestyle Section features several exciting activities. The participation fee is a toonie ($2)\, and there is a 50/50 draw for a loonie ($1).
URL:https://www.bayshoreseniors.ca/event/lifestyles-2-2/2028-06-14/
LOCATION:Craft Room
CATEGORIES:Lifestyle
ATTACH;FMTTYPE=image/jpeg:https://www.bayshoreseniors.ca/wp-content/uploads/2025/03/home-slide-8-1.jpg
END:VEVENT
BEGIN:VEVENT
DTSTART;TZID=America/Toronto:20280621T090000
DTEND;TZID=America/Toronto:20280621T103000
DTSTAMP:20260422T144500
CREATED:20250829T222554Z
LAST-MODIFIED:20251104T200746Z
UID:10000434-1845190800-1845196200@www.bayshoreseniors.ca
SUMMARY:Lifestyles
DESCRIPTION:Our Lifestyle Section features several exciting activities. The participation fee is a toonie ($2)\, and there is a 50/50 draw for a loonie ($1).
URL:https://www.bayshoreseniors.ca/event/lifestyles-2-2/2028-06-21/
LOCATION:Craft Room
CATEGORIES:Lifestyle
ATTACH;FMTTYPE=image/jpeg:https://www.bayshoreseniors.ca/wp-content/uploads/2025/03/home-slide-8-1.jpg
END:VEVENT
BEGIN:VEVENT
DTSTART;TZID=America/Toronto:20280628T090000
DTEND;TZID=America/Toronto:20280628T103000
DTSTAMP:20260422T144500
CREATED:20250829T222554Z
LAST-MODIFIED:20251104T200746Z
UID:10000435-1845795600-1845801000@www.bayshoreseniors.ca
SUMMARY:Lifestyles
DESCRIPTION:Our Lifestyle Section features several exciting activities. The participation fee is a toonie ($2)\, and there is a 50/50 draw for a loonie ($1).
URL:https://www.bayshoreseniors.ca/event/lifestyles-2-2/2028-06-28/
LOCATION:Craft Room
CATEGORIES:Lifestyle
ATTACH;FMTTYPE=image/jpeg:https://www.bayshoreseniors.ca/wp-content/uploads/2025/03/home-slide-8-1.jpg
END:VEVENT
BEGIN:VEVENT
DTSTART;TZID=America/Toronto:20280705T090000
DTEND;TZID=America/Toronto:20280705T103000
DTSTAMP:20260422T144500
CREATED:20250829T222554Z
LAST-MODIFIED:20251104T200746Z
UID:10000436-1846400400-1846405800@www.bayshoreseniors.ca
SUMMARY:Lifestyles
DESCRIPTION:Our Lifestyle Section features several exciting activities. The participation fee is a toonie ($2)\, and there is a 50/50 draw for a loonie ($1).
URL:https://www.bayshoreseniors.ca/event/lifestyles-2-2/2028-07-05/
LOCATION:Craft Room
CATEGORIES:Lifestyle
ATTACH;FMTTYPE=image/jpeg:https://www.bayshoreseniors.ca/wp-content/uploads/2025/03/home-slide-8-1.jpg
END:VEVENT
BEGIN:VEVENT
DTSTART;TZID=America/Toronto:20280712T090000
DTEND;TZID=America/Toronto:20280712T103000
DTSTAMP:20260422T144500
CREATED:20250829T222554Z
LAST-MODIFIED:20251104T200746Z
UID:10000437-1847005200-1847010600@www.bayshoreseniors.ca
SUMMARY:Lifestyles
DESCRIPTION:Our Lifestyle Section features several exciting activities. The participation fee is a toonie ($2)\, and there is a 50/50 draw for a loonie ($1).
URL:https://www.bayshoreseniors.ca/event/lifestyles-2-2/2028-07-12/
LOCATION:Craft Room
CATEGORIES:Lifestyle
ATTACH;FMTTYPE=image/jpeg:https://www.bayshoreseniors.ca/wp-content/uploads/2025/03/home-slide-8-1.jpg
END:VEVENT
BEGIN:VEVENT
DTSTART;TZID=America/Toronto:20280719T090000
DTEND;TZID=America/Toronto:20280719T103000
DTSTAMP:20260422T144500
CREATED:20250829T222554Z
LAST-MODIFIED:20251104T200746Z
UID:10000438-1847610000-1847615400@www.bayshoreseniors.ca
SUMMARY:Lifestyles
DESCRIPTION:Our Lifestyle Section features several exciting activities. The participation fee is a toonie ($2)\, and there is a 50/50 draw for a loonie ($1).
URL:https://www.bayshoreseniors.ca/event/lifestyles-2-2/2028-07-19/
LOCATION:Craft Room
CATEGORIES:Lifestyle
ATTACH;FMTTYPE=image/jpeg:https://www.bayshoreseniors.ca/wp-content/uploads/2025/03/home-slide-8-1.jpg
END:VEVENT
BEGIN:VEVENT
DTSTART;TZID=America/Toronto:20280726T090000
DTEND;TZID=America/Toronto:20280726T103000
DTSTAMP:20260422T144500
CREATED:20250829T222554Z
LAST-MODIFIED:20251104T200746Z
UID:10000439-1848214800-1848220200@www.bayshoreseniors.ca
SUMMARY:Lifestyles
DESCRIPTION:Our Lifestyle Section features several exciting activities. The participation fee is a toonie ($2)\, and there is a 50/50 draw for a loonie ($1).
URL:https://www.bayshoreseniors.ca/event/lifestyles-2-2/2028-07-26/
LOCATION:Craft Room
CATEGORIES:Lifestyle
ATTACH;FMTTYPE=image/jpeg:https://www.bayshoreseniors.ca/wp-content/uploads/2025/03/home-slide-8-1.jpg
END:VEVENT
BEGIN:VEVENT
DTSTART;TZID=America/Toronto:20280802T090000
DTEND;TZID=America/Toronto:20280802T103000
DTSTAMP:20260422T144500
CREATED:20250829T222554Z
LAST-MODIFIED:20251104T200746Z
UID:10000440-1848819600-1848825000@www.bayshoreseniors.ca
SUMMARY:Lifestyles
DESCRIPTION:Our Lifestyle Section features several exciting activities. The participation fee is a toonie ($2)\, and there is a 50/50 draw for a loonie ($1).
URL:https://www.bayshoreseniors.ca/event/lifestyles-2-2/2028-08-02/
LOCATION:Craft Room
CATEGORIES:Lifestyle
ATTACH;FMTTYPE=image/jpeg:https://www.bayshoreseniors.ca/wp-content/uploads/2025/03/home-slide-8-1.jpg
END:VEVENT
BEGIN:VEVENT
DTSTART;TZID=America/Toronto:20280809T090000
DTEND;TZID=America/Toronto:20280809T103000
DTSTAMP:20260422T144500
CREATED:20250829T222554Z
LAST-MODIFIED:20251104T200746Z
UID:10000441-1849424400-1849429800@www.bayshoreseniors.ca
SUMMARY:Lifestyles
DESCRIPTION:Our Lifestyle Section features several exciting activities. The participation fee is a toonie ($2)\, and there is a 50/50 draw for a loonie ($1).
URL:https://www.bayshoreseniors.ca/event/lifestyles-2-2/2028-08-09/
LOCATION:Craft Room
CATEGORIES:Lifestyle
ATTACH;FMTTYPE=image/jpeg:https://www.bayshoreseniors.ca/wp-content/uploads/2025/03/home-slide-8-1.jpg
END:VEVENT
BEGIN:VEVENT
DTSTART;TZID=America/Toronto:20280816T090000
DTEND;TZID=America/Toronto:20280816T103000
DTSTAMP:20260422T144500
CREATED:20250829T222554Z
LAST-MODIFIED:20251104T200746Z
UID:10000442-1850029200-1850034600@www.bayshoreseniors.ca
SUMMARY:Lifestyles
DESCRIPTION:Our Lifestyle Section features several exciting activities. The participation fee is a toonie ($2)\, and there is a 50/50 draw for a loonie ($1).
URL:https://www.bayshoreseniors.ca/event/lifestyles-2-2/2028-08-16/
LOCATION:Craft Room
CATEGORIES:Lifestyle
ATTACH;FMTTYPE=image/jpeg:https://www.bayshoreseniors.ca/wp-content/uploads/2025/03/home-slide-8-1.jpg
END:VEVENT
BEGIN:VEVENT
DTSTART;TZID=America/Toronto:20280823T090000
DTEND;TZID=America/Toronto:20280823T103000
DTSTAMP:20260422T144500
CREATED:20250829T222554Z
LAST-MODIFIED:20251104T200746Z
UID:10000443-1850634000-1850639400@www.bayshoreseniors.ca
SUMMARY:Lifestyles
DESCRIPTION:Our Lifestyle Section features several exciting activities. The participation fee is a toonie ($2)\, and there is a 50/50 draw for a loonie ($1).
URL:https://www.bayshoreseniors.ca/event/lifestyles-2-2/2028-08-23/
LOCATION:Craft Room
CATEGORIES:Lifestyle
ATTACH;FMTTYPE=image/jpeg:https://www.bayshoreseniors.ca/wp-content/uploads/2025/03/home-slide-8-1.jpg
END:VEVENT
BEGIN:VEVENT
DTSTART;TZID=America/Toronto:20280830T090000
DTEND;TZID=America/Toronto:20280830T103000
DTSTAMP:20260422T144500
CREATED:20250829T222554Z
LAST-MODIFIED:20251104T200746Z
UID:10000444-1851238800-1851244200@www.bayshoreseniors.ca
SUMMARY:Lifestyles
DESCRIPTION:Our Lifestyle Section features several exciting activities. The participation fee is a toonie ($2)\, and there is a 50/50 draw for a loonie ($1).
URL:https://www.bayshoreseniors.ca/event/lifestyles-2-2/2028-08-30/
LOCATION:Craft Room
CATEGORIES:Lifestyle
ATTACH;FMTTYPE=image/jpeg:https://www.bayshoreseniors.ca/wp-content/uploads/2025/03/home-slide-8-1.jpg
END:VEVENT
BEGIN:VEVENT
DTSTART;TZID=America/Toronto:20280906T090000
DTEND;TZID=America/Toronto:20280906T103000
DTSTAMP:20260422T144500
CREATED:20250829T222554Z
LAST-MODIFIED:20251104T200746Z
UID:10000445-1851843600-1851849000@www.bayshoreseniors.ca
SUMMARY:Lifestyles
DESCRIPTION:Our Lifestyle Section features several exciting activities. The participation fee is a toonie ($2)\, and there is a 50/50 draw for a loonie ($1).
URL:https://www.bayshoreseniors.ca/event/lifestyles-2-2/2028-09-06/
LOCATION:Craft Room
CATEGORIES:Lifestyle
ATTACH;FMTTYPE=image/jpeg:https://www.bayshoreseniors.ca/wp-content/uploads/2025/03/home-slide-8-1.jpg
END:VEVENT
BEGIN:VEVENT
DTSTART;TZID=America/Toronto:20280913T090000
DTEND;TZID=America/Toronto:20280913T103000
DTSTAMP:20260422T144500
CREATED:20250829T222554Z
LAST-MODIFIED:20251104T200746Z
UID:10000446-1852448400-1852453800@www.bayshoreseniors.ca
SUMMARY:Lifestyles
DESCRIPTION:Our Lifestyle Section features several exciting activities. The participation fee is a toonie ($2)\, and there is a 50/50 draw for a loonie ($1).
URL:https://www.bayshoreseniors.ca/event/lifestyles-2-2/2028-09-13/
LOCATION:Craft Room
CATEGORIES:Lifestyle
ATTACH;FMTTYPE=image/jpeg:https://www.bayshoreseniors.ca/wp-content/uploads/2025/03/home-slide-8-1.jpg
END:VEVENT
BEGIN:VEVENT
DTSTART;TZID=America/Toronto:20280920T090000
DTEND;TZID=America/Toronto:20280920T103000
DTSTAMP:20260422T144500
CREATED:20250829T222554Z
LAST-MODIFIED:20251104T200746Z
UID:10000447-1853053200-1853058600@www.bayshoreseniors.ca
SUMMARY:Lifestyles
DESCRIPTION:Our Lifestyle Section features several exciting activities. The participation fee is a toonie ($2)\, and there is a 50/50 draw for a loonie ($1).
URL:https://www.bayshoreseniors.ca/event/lifestyles-2-2/2028-09-20/
LOCATION:Craft Room
CATEGORIES:Lifestyle
ATTACH;FMTTYPE=image/jpeg:https://www.bayshoreseniors.ca/wp-content/uploads/2025/03/home-slide-8-1.jpg
END:VEVENT
END:VCALENDAR