BEGIN:VCALENDAR
VERSION:2.0
PRODID:-//Bayshore Seniors - ECPv6.15.18//NONSGML v1.0//EN
CALSCALE:GREGORIAN
METHOD:PUBLISH
X-WR-CALNAME:Bayshore Seniors
X-ORIGINAL-URL:https://www.bayshoreseniors.ca
X-WR-CALDESC:Events for Bayshore Seniors
REFRESH-INTERVAL;VALUE=DURATION:PT1H
X-Robots-Tag:noindex
X-PUBLISHED-TTL:PT1H
BEGIN:VTIMEZONE
TZID:America/Toronto
BEGIN:DAYLIGHT
TZOFFSETFROM:-0500
TZOFFSETTO:-0400
TZNAME:EDT
DTSTART:20250309T070000
END:DAYLIGHT
BEGIN:STANDARD
TZOFFSETFROM:-0400
TZOFFSETTO:-0500
TZNAME:EST
DTSTART:20251102T060000
END:STANDARD
BEGIN:DAYLIGHT
TZOFFSETFROM:-0500
TZOFFSETTO:-0400
TZNAME:EDT
DTSTART:20260308T070000
END:DAYLIGHT
BEGIN:STANDARD
TZOFFSETFROM:-0400
TZOFFSETTO:-0500
TZNAME:EST
DTSTART:20261101T060000
END:STANDARD
BEGIN:DAYLIGHT
TZOFFSETFROM:-0500
TZOFFSETTO:-0400
TZNAME:EDT
DTSTART:20270314T070000
END:DAYLIGHT
BEGIN:STANDARD
TZOFFSETFROM:-0400
TZOFFSETTO:-0500
TZNAME:EST
DTSTART:20271107T060000
END:STANDARD
END:VTIMEZONE
BEGIN:VEVENT
DTSTART;TZID=America/Toronto:20260424T080000
DTEND;TZID=America/Toronto:20260424T170000
DTSTAMP:20260419T183547
CREATED:20250829T225506Z
LAST-MODIFIED:20251104T200914Z
UID:10003340-1777017600-1777050000@www.bayshoreseniors.ca
SUMMARY:Gardening (Spring & Fall)
DESCRIPTION:We’re excited to invite seniors to explore the joys of gardening with us! Here\, you’ll have the opportunity to exchange gardening knowledge\, share tips\, and engage in enriching experiences with fellow members. Join us in activities like maintaining the beautiful landscaping at the Bay Shore Seniors Center. If you find joy in flowers and lovingly tended gardens\, we would be thrilled to have you on board. This is not only a chance to learn new skills but also to forge friendships with those who share your passion. We can’t wait to have you with us!
URL:https://www.bayshoreseniors.ca/event/gardening-spring-fall/2026-04-24/
CATEGORIES:Gardening (Spring & Fall)
ATTACH;FMTTYPE=image/jpeg:https://www.bayshoreseniors.ca/wp-content/uploads/2022/08/Flowers-for-GM.jpg
END:VEVENT
BEGIN:VEVENT
DTSTART;TZID=America/Toronto:20260501T080000
DTEND;TZID=America/Toronto:20260501T170000
DTSTAMP:20260419T183547
CREATED:20250829T225506Z
LAST-MODIFIED:20251104T200914Z
UID:10003341-1777622400-1777654800@www.bayshoreseniors.ca
SUMMARY:Gardening (Spring & Fall)
DESCRIPTION:We’re excited to invite seniors to explore the joys of gardening with us! Here\, you’ll have the opportunity to exchange gardening knowledge\, share tips\, and engage in enriching experiences with fellow members. Join us in activities like maintaining the beautiful landscaping at the Bay Shore Seniors Center. If you find joy in flowers and lovingly tended gardens\, we would be thrilled to have you on board. This is not only a chance to learn new skills but also to forge friendships with those who share your passion. We can’t wait to have you with us!
URL:https://www.bayshoreseniors.ca/event/gardening-spring-fall/2026-05-01/
CATEGORIES:Gardening (Spring & Fall)
ATTACH;FMTTYPE=image/jpeg:https://www.bayshoreseniors.ca/wp-content/uploads/2022/08/Flowers-for-GM.jpg
END:VEVENT
BEGIN:VEVENT
DTSTART;TZID=America/Toronto:20260508T080000
DTEND;TZID=America/Toronto:20260508T170000
DTSTAMP:20260419T183547
CREATED:20250829T225506Z
LAST-MODIFIED:20251104T200914Z
UID:10003342-1778227200-1778259600@www.bayshoreseniors.ca
SUMMARY:Gardening (Spring & Fall)
DESCRIPTION:We’re excited to invite seniors to explore the joys of gardening with us! Here\, you’ll have the opportunity to exchange gardening knowledge\, share tips\, and engage in enriching experiences with fellow members. Join us in activities like maintaining the beautiful landscaping at the Bay Shore Seniors Center. If you find joy in flowers and lovingly tended gardens\, we would be thrilled to have you on board. This is not only a chance to learn new skills but also to forge friendships with those who share your passion. We can’t wait to have you with us!
URL:https://www.bayshoreseniors.ca/event/gardening-spring-fall/2026-05-08/
CATEGORIES:Gardening (Spring & Fall)
ATTACH;FMTTYPE=image/jpeg:https://www.bayshoreseniors.ca/wp-content/uploads/2022/08/Flowers-for-GM.jpg
END:VEVENT
BEGIN:VEVENT
DTSTART;TZID=America/Toronto:20260515T080000
DTEND;TZID=America/Toronto:20260515T170000
DTSTAMP:20260419T183547
CREATED:20250829T225506Z
LAST-MODIFIED:20251104T200914Z
UID:10003343-1778832000-1778864400@www.bayshoreseniors.ca
SUMMARY:Gardening (Spring & Fall)
DESCRIPTION:We’re excited to invite seniors to explore the joys of gardening with us! Here\, you’ll have the opportunity to exchange gardening knowledge\, share tips\, and engage in enriching experiences with fellow members. Join us in activities like maintaining the beautiful landscaping at the Bay Shore Seniors Center. If you find joy in flowers and lovingly tended gardens\, we would be thrilled to have you on board. This is not only a chance to learn new skills but also to forge friendships with those who share your passion. We can’t wait to have you with us!
URL:https://www.bayshoreseniors.ca/event/gardening-spring-fall/2026-05-15/
CATEGORIES:Gardening (Spring & Fall)
ATTACH;FMTTYPE=image/jpeg:https://www.bayshoreseniors.ca/wp-content/uploads/2022/08/Flowers-for-GM.jpg
END:VEVENT
BEGIN:VEVENT
DTSTART;TZID=America/Toronto:20260522T080000
DTEND;TZID=America/Toronto:20260522T170000
DTSTAMP:20260419T183547
CREATED:20250829T225506Z
LAST-MODIFIED:20251104T200914Z
UID:10003344-1779436800-1779469200@www.bayshoreseniors.ca
SUMMARY:Gardening (Spring & Fall)
DESCRIPTION:We’re excited to invite seniors to explore the joys of gardening with us! Here\, you’ll have the opportunity to exchange gardening knowledge\, share tips\, and engage in enriching experiences with fellow members. Join us in activities like maintaining the beautiful landscaping at the Bay Shore Seniors Center. If you find joy in flowers and lovingly tended gardens\, we would be thrilled to have you on board. This is not only a chance to learn new skills but also to forge friendships with those who share your passion. We can’t wait to have you with us!
URL:https://www.bayshoreseniors.ca/event/gardening-spring-fall/2026-05-22/
CATEGORIES:Gardening (Spring & Fall)
ATTACH;FMTTYPE=image/jpeg:https://www.bayshoreseniors.ca/wp-content/uploads/2022/08/Flowers-for-GM.jpg
END:VEVENT
BEGIN:VEVENT
DTSTART;TZID=America/Toronto:20260529T080000
DTEND;TZID=America/Toronto:20260529T170000
DTSTAMP:20260419T183547
CREATED:20250829T225506Z
LAST-MODIFIED:20251104T200914Z
UID:10003345-1780041600-1780074000@www.bayshoreseniors.ca
SUMMARY:Gardening (Spring & Fall)
DESCRIPTION:We’re excited to invite seniors to explore the joys of gardening with us! Here\, you’ll have the opportunity to exchange gardening knowledge\, share tips\, and engage in enriching experiences with fellow members. Join us in activities like maintaining the beautiful landscaping at the Bay Shore Seniors Center. If you find joy in flowers and lovingly tended gardens\, we would be thrilled to have you on board. This is not only a chance to learn new skills but also to forge friendships with those who share your passion. We can’t wait to have you with us!
URL:https://www.bayshoreseniors.ca/event/gardening-spring-fall/2026-05-29/
CATEGORIES:Gardening (Spring & Fall)
ATTACH;FMTTYPE=image/jpeg:https://www.bayshoreseniors.ca/wp-content/uploads/2022/08/Flowers-for-GM.jpg
END:VEVENT
BEGIN:VEVENT
DTSTART;TZID=America/Toronto:20260605T080000
DTEND;TZID=America/Toronto:20260605T170000
DTSTAMP:20260419T183547
CREATED:20250829T225506Z
LAST-MODIFIED:20251104T200914Z
UID:10003346-1780646400-1780678800@www.bayshoreseniors.ca
SUMMARY:Gardening (Spring & Fall)
DESCRIPTION:We’re excited to invite seniors to explore the joys of gardening with us! Here\, you’ll have the opportunity to exchange gardening knowledge\, share tips\, and engage in enriching experiences with fellow members. Join us in activities like maintaining the beautiful landscaping at the Bay Shore Seniors Center. If you find joy in flowers and lovingly tended gardens\, we would be thrilled to have you on board. This is not only a chance to learn new skills but also to forge friendships with those who share your passion. We can’t wait to have you with us!
URL:https://www.bayshoreseniors.ca/event/gardening-spring-fall/2026-06-05/
CATEGORIES:Gardening (Spring & Fall)
ATTACH;FMTTYPE=image/jpeg:https://www.bayshoreseniors.ca/wp-content/uploads/2022/08/Flowers-for-GM.jpg
END:VEVENT
BEGIN:VEVENT
DTSTART;TZID=America/Toronto:20260612T080000
DTEND;TZID=America/Toronto:20260612T170000
DTSTAMP:20260419T183547
CREATED:20250829T225506Z
LAST-MODIFIED:20251104T200914Z
UID:10003347-1781251200-1781283600@www.bayshoreseniors.ca
SUMMARY:Gardening (Spring & Fall)
DESCRIPTION:We’re excited to invite seniors to explore the joys of gardening with us! Here\, you’ll have the opportunity to exchange gardening knowledge\, share tips\, and engage in enriching experiences with fellow members. Join us in activities like maintaining the beautiful landscaping at the Bay Shore Seniors Center. If you find joy in flowers and lovingly tended gardens\, we would be thrilled to have you on board. This is not only a chance to learn new skills but also to forge friendships with those who share your passion. We can’t wait to have you with us!
URL:https://www.bayshoreseniors.ca/event/gardening-spring-fall/2026-06-12/
CATEGORIES:Gardening (Spring & Fall)
ATTACH;FMTTYPE=image/jpeg:https://www.bayshoreseniors.ca/wp-content/uploads/2022/08/Flowers-for-GM.jpg
END:VEVENT
BEGIN:VEVENT
DTSTART;TZID=America/Toronto:20260619T080000
DTEND;TZID=America/Toronto:20260619T170000
DTSTAMP:20260419T183547
CREATED:20250829T225506Z
LAST-MODIFIED:20251104T200914Z
UID:10003348-1781856000-1781888400@www.bayshoreseniors.ca
SUMMARY:Gardening (Spring & Fall)
DESCRIPTION:We’re excited to invite seniors to explore the joys of gardening with us! Here\, you’ll have the opportunity to exchange gardening knowledge\, share tips\, and engage in enriching experiences with fellow members. Join us in activities like maintaining the beautiful landscaping at the Bay Shore Seniors Center. If you find joy in flowers and lovingly tended gardens\, we would be thrilled to have you on board. This is not only a chance to learn new skills but also to forge friendships with those who share your passion. We can’t wait to have you with us!
URL:https://www.bayshoreseniors.ca/event/gardening-spring-fall/2026-06-19/
CATEGORIES:Gardening (Spring & Fall)
ATTACH;FMTTYPE=image/jpeg:https://www.bayshoreseniors.ca/wp-content/uploads/2022/08/Flowers-for-GM.jpg
END:VEVENT
BEGIN:VEVENT
DTSTART;TZID=America/Toronto:20260626T080000
DTEND;TZID=America/Toronto:20260626T170000
DTSTAMP:20260419T183547
CREATED:20250829T225506Z
LAST-MODIFIED:20251104T200914Z
UID:10003349-1782460800-1782493200@www.bayshoreseniors.ca
SUMMARY:Gardening (Spring & Fall)
DESCRIPTION:We’re excited to invite seniors to explore the joys of gardening with us! Here\, you’ll have the opportunity to exchange gardening knowledge\, share tips\, and engage in enriching experiences with fellow members. Join us in activities like maintaining the beautiful landscaping at the Bay Shore Seniors Center. If you find joy in flowers and lovingly tended gardens\, we would be thrilled to have you on board. This is not only a chance to learn new skills but also to forge friendships with those who share your passion. We can’t wait to have you with us!
URL:https://www.bayshoreseniors.ca/event/gardening-spring-fall/2026-06-26/
CATEGORIES:Gardening (Spring & Fall)
ATTACH;FMTTYPE=image/jpeg:https://www.bayshoreseniors.ca/wp-content/uploads/2022/08/Flowers-for-GM.jpg
END:VEVENT
BEGIN:VEVENT
DTSTART;TZID=America/Toronto:20260703T080000
DTEND;TZID=America/Toronto:20260703T170000
DTSTAMP:20260419T183547
CREATED:20250829T225506Z
LAST-MODIFIED:20251104T200914Z
UID:10003350-1783065600-1783098000@www.bayshoreseniors.ca
SUMMARY:Gardening (Spring & Fall)
DESCRIPTION:We’re excited to invite seniors to explore the joys of gardening with us! Here\, you’ll have the opportunity to exchange gardening knowledge\, share tips\, and engage in enriching experiences with fellow members. Join us in activities like maintaining the beautiful landscaping at the Bay Shore Seniors Center. If you find joy in flowers and lovingly tended gardens\, we would be thrilled to have you on board. This is not only a chance to learn new skills but also to forge friendships with those who share your passion. We can’t wait to have you with us!
URL:https://www.bayshoreseniors.ca/event/gardening-spring-fall/2026-07-03/
CATEGORIES:Gardening (Spring & Fall)
ATTACH;FMTTYPE=image/jpeg:https://www.bayshoreseniors.ca/wp-content/uploads/2022/08/Flowers-for-GM.jpg
END:VEVENT
BEGIN:VEVENT
DTSTART;TZID=America/Toronto:20260710T080000
DTEND;TZID=America/Toronto:20260710T170000
DTSTAMP:20260419T183547
CREATED:20250829T225506Z
LAST-MODIFIED:20251104T200914Z
UID:10003351-1783670400-1783702800@www.bayshoreseniors.ca
SUMMARY:Gardening (Spring & Fall)
DESCRIPTION:We’re excited to invite seniors to explore the joys of gardening with us! Here\, you’ll have the opportunity to exchange gardening knowledge\, share tips\, and engage in enriching experiences with fellow members. Join us in activities like maintaining the beautiful landscaping at the Bay Shore Seniors Center. If you find joy in flowers and lovingly tended gardens\, we would be thrilled to have you on board. This is not only a chance to learn new skills but also to forge friendships with those who share your passion. We can’t wait to have you with us!
URL:https://www.bayshoreseniors.ca/event/gardening-spring-fall/2026-07-10/
CATEGORIES:Gardening (Spring & Fall)
ATTACH;FMTTYPE=image/jpeg:https://www.bayshoreseniors.ca/wp-content/uploads/2022/08/Flowers-for-GM.jpg
END:VEVENT
BEGIN:VEVENT
DTSTART;TZID=America/Toronto:20260717T080000
DTEND;TZID=America/Toronto:20260717T170000
DTSTAMP:20260419T183547
CREATED:20250829T225506Z
LAST-MODIFIED:20251104T200914Z
UID:10003352-1784275200-1784307600@www.bayshoreseniors.ca
SUMMARY:Gardening (Spring & Fall)
DESCRIPTION:We’re excited to invite seniors to explore the joys of gardening with us! Here\, you’ll have the opportunity to exchange gardening knowledge\, share tips\, and engage in enriching experiences with fellow members. Join us in activities like maintaining the beautiful landscaping at the Bay Shore Seniors Center. If you find joy in flowers and lovingly tended gardens\, we would be thrilled to have you on board. This is not only a chance to learn new skills but also to forge friendships with those who share your passion. We can’t wait to have you with us!
URL:https://www.bayshoreseniors.ca/event/gardening-spring-fall/2026-07-17/
CATEGORIES:Gardening (Spring & Fall)
ATTACH;FMTTYPE=image/jpeg:https://www.bayshoreseniors.ca/wp-content/uploads/2022/08/Flowers-for-GM.jpg
END:VEVENT
BEGIN:VEVENT
DTSTART;TZID=America/Toronto:20260724T080000
DTEND;TZID=America/Toronto:20260724T170000
DTSTAMP:20260419T183547
CREATED:20250829T225506Z
LAST-MODIFIED:20251104T200914Z
UID:10003353-1784880000-1784912400@www.bayshoreseniors.ca
SUMMARY:Gardening (Spring & Fall)
DESCRIPTION:We’re excited to invite seniors to explore the joys of gardening with us! Here\, you’ll have the opportunity to exchange gardening knowledge\, share tips\, and engage in enriching experiences with fellow members. Join us in activities like maintaining the beautiful landscaping at the Bay Shore Seniors Center. If you find joy in flowers and lovingly tended gardens\, we would be thrilled to have you on board. This is not only a chance to learn new skills but also to forge friendships with those who share your passion. We can’t wait to have you with us!
URL:https://www.bayshoreseniors.ca/event/gardening-spring-fall/2026-07-24/
CATEGORIES:Gardening (Spring & Fall)
ATTACH;FMTTYPE=image/jpeg:https://www.bayshoreseniors.ca/wp-content/uploads/2022/08/Flowers-for-GM.jpg
END:VEVENT
BEGIN:VEVENT
DTSTART;TZID=America/Toronto:20260731T080000
DTEND;TZID=America/Toronto:20260731T170000
DTSTAMP:20260419T183547
CREATED:20250829T225506Z
LAST-MODIFIED:20251104T200914Z
UID:10003354-1785484800-1785517200@www.bayshoreseniors.ca
SUMMARY:Gardening (Spring & Fall)
DESCRIPTION:We’re excited to invite seniors to explore the joys of gardening with us! Here\, you’ll have the opportunity to exchange gardening knowledge\, share tips\, and engage in enriching experiences with fellow members. Join us in activities like maintaining the beautiful landscaping at the Bay Shore Seniors Center. If you find joy in flowers and lovingly tended gardens\, we would be thrilled to have you on board. This is not only a chance to learn new skills but also to forge friendships with those who share your passion. We can’t wait to have you with us!
URL:https://www.bayshoreseniors.ca/event/gardening-spring-fall/2026-07-31/
CATEGORIES:Gardening (Spring & Fall)
ATTACH;FMTTYPE=image/jpeg:https://www.bayshoreseniors.ca/wp-content/uploads/2022/08/Flowers-for-GM.jpg
END:VEVENT
BEGIN:VEVENT
DTSTART;TZID=America/Toronto:20260807T080000
DTEND;TZID=America/Toronto:20260807T170000
DTSTAMP:20260419T183547
CREATED:20250829T225506Z
LAST-MODIFIED:20251104T200914Z
UID:10003355-1786089600-1786122000@www.bayshoreseniors.ca
SUMMARY:Gardening (Spring & Fall)
DESCRIPTION:We’re excited to invite seniors to explore the joys of gardening with us! Here\, you’ll have the opportunity to exchange gardening knowledge\, share tips\, and engage in enriching experiences with fellow members. Join us in activities like maintaining the beautiful landscaping at the Bay Shore Seniors Center. If you find joy in flowers and lovingly tended gardens\, we would be thrilled to have you on board. This is not only a chance to learn new skills but also to forge friendships with those who share your passion. We can’t wait to have you with us!
URL:https://www.bayshoreseniors.ca/event/gardening-spring-fall/2026-08-07/
CATEGORIES:Gardening (Spring & Fall)
ATTACH;FMTTYPE=image/jpeg:https://www.bayshoreseniors.ca/wp-content/uploads/2022/08/Flowers-for-GM.jpg
END:VEVENT
BEGIN:VEVENT
DTSTART;TZID=America/Toronto:20260814T080000
DTEND;TZID=America/Toronto:20260814T170000
DTSTAMP:20260419T183547
CREATED:20250829T225506Z
LAST-MODIFIED:20251104T200914Z
UID:10003356-1786694400-1786726800@www.bayshoreseniors.ca
SUMMARY:Gardening (Spring & Fall)
DESCRIPTION:We’re excited to invite seniors to explore the joys of gardening with us! Here\, you’ll have the opportunity to exchange gardening knowledge\, share tips\, and engage in enriching experiences with fellow members. Join us in activities like maintaining the beautiful landscaping at the Bay Shore Seniors Center. If you find joy in flowers and lovingly tended gardens\, we would be thrilled to have you on board. This is not only a chance to learn new skills but also to forge friendships with those who share your passion. We can’t wait to have you with us!
URL:https://www.bayshoreseniors.ca/event/gardening-spring-fall/2026-08-14/
CATEGORIES:Gardening (Spring & Fall)
ATTACH;FMTTYPE=image/jpeg:https://www.bayshoreseniors.ca/wp-content/uploads/2022/08/Flowers-for-GM.jpg
END:VEVENT
BEGIN:VEVENT
DTSTART;TZID=America/Toronto:20260821T080000
DTEND;TZID=America/Toronto:20260821T170000
DTSTAMP:20260419T183547
CREATED:20250829T225506Z
LAST-MODIFIED:20251104T200914Z
UID:10003357-1787299200-1787331600@www.bayshoreseniors.ca
SUMMARY:Gardening (Spring & Fall)
DESCRIPTION:We’re excited to invite seniors to explore the joys of gardening with us! Here\, you’ll have the opportunity to exchange gardening knowledge\, share tips\, and engage in enriching experiences with fellow members. Join us in activities like maintaining the beautiful landscaping at the Bay Shore Seniors Center. If you find joy in flowers and lovingly tended gardens\, we would be thrilled to have you on board. This is not only a chance to learn new skills but also to forge friendships with those who share your passion. We can’t wait to have you with us!
URL:https://www.bayshoreseniors.ca/event/gardening-spring-fall/2026-08-21/
CATEGORIES:Gardening (Spring & Fall)
ATTACH;FMTTYPE=image/jpeg:https://www.bayshoreseniors.ca/wp-content/uploads/2022/08/Flowers-for-GM.jpg
END:VEVENT
BEGIN:VEVENT
DTSTART;TZID=America/Toronto:20260828T080000
DTEND;TZID=America/Toronto:20260828T170000
DTSTAMP:20260419T183547
CREATED:20250829T225506Z
LAST-MODIFIED:20251104T200914Z
UID:10003358-1787904000-1787936400@www.bayshoreseniors.ca
SUMMARY:Gardening (Spring & Fall)
DESCRIPTION:We’re excited to invite seniors to explore the joys of gardening with us! Here\, you’ll have the opportunity to exchange gardening knowledge\, share tips\, and engage in enriching experiences with fellow members. Join us in activities like maintaining the beautiful landscaping at the Bay Shore Seniors Center. If you find joy in flowers and lovingly tended gardens\, we would be thrilled to have you on board. This is not only a chance to learn new skills but also to forge friendships with those who share your passion. We can’t wait to have you with us!
URL:https://www.bayshoreseniors.ca/event/gardening-spring-fall/2026-08-28/
CATEGORIES:Gardening (Spring & Fall)
ATTACH;FMTTYPE=image/jpeg:https://www.bayshoreseniors.ca/wp-content/uploads/2022/08/Flowers-for-GM.jpg
END:VEVENT
BEGIN:VEVENT
DTSTART;TZID=America/Toronto:20260904T080000
DTEND;TZID=America/Toronto:20260904T170000
DTSTAMP:20260419T183547
CREATED:20250829T225506Z
LAST-MODIFIED:20251104T200914Z
UID:10003359-1788508800-1788541200@www.bayshoreseniors.ca
SUMMARY:Gardening (Spring & Fall)
DESCRIPTION:We’re excited to invite seniors to explore the joys of gardening with us! Here\, you’ll have the opportunity to exchange gardening knowledge\, share tips\, and engage in enriching experiences with fellow members. Join us in activities like maintaining the beautiful landscaping at the Bay Shore Seniors Center. If you find joy in flowers and lovingly tended gardens\, we would be thrilled to have you on board. This is not only a chance to learn new skills but also to forge friendships with those who share your passion. We can’t wait to have you with us!
URL:https://www.bayshoreseniors.ca/event/gardening-spring-fall/2026-09-04/
CATEGORIES:Gardening (Spring & Fall)
ATTACH;FMTTYPE=image/jpeg:https://www.bayshoreseniors.ca/wp-content/uploads/2022/08/Flowers-for-GM.jpg
END:VEVENT
BEGIN:VEVENT
DTSTART;TZID=America/Toronto:20260911T080000
DTEND;TZID=America/Toronto:20260911T170000
DTSTAMP:20260419T183547
CREATED:20250829T225506Z
LAST-MODIFIED:20251104T200914Z
UID:10003360-1789113600-1789146000@www.bayshoreseniors.ca
SUMMARY:Gardening (Spring & Fall)
DESCRIPTION:We’re excited to invite seniors to explore the joys of gardening with us! Here\, you’ll have the opportunity to exchange gardening knowledge\, share tips\, and engage in enriching experiences with fellow members. Join us in activities like maintaining the beautiful landscaping at the Bay Shore Seniors Center. If you find joy in flowers and lovingly tended gardens\, we would be thrilled to have you on board. This is not only a chance to learn new skills but also to forge friendships with those who share your passion. We can’t wait to have you with us!
URL:https://www.bayshoreseniors.ca/event/gardening-spring-fall/2026-09-11/
CATEGORIES:Gardening (Spring & Fall)
ATTACH;FMTTYPE=image/jpeg:https://www.bayshoreseniors.ca/wp-content/uploads/2022/08/Flowers-for-GM.jpg
END:VEVENT
BEGIN:VEVENT
DTSTART;TZID=America/Toronto:20260918T080000
DTEND;TZID=America/Toronto:20260918T170000
DTSTAMP:20260419T183547
CREATED:20250829T225506Z
LAST-MODIFIED:20251104T200914Z
UID:10003361-1789718400-1789750800@www.bayshoreseniors.ca
SUMMARY:Gardening (Spring & Fall)
DESCRIPTION:We’re excited to invite seniors to explore the joys of gardening with us! Here\, you’ll have the opportunity to exchange gardening knowledge\, share tips\, and engage in enriching experiences with fellow members. Join us in activities like maintaining the beautiful landscaping at the Bay Shore Seniors Center. If you find joy in flowers and lovingly tended gardens\, we would be thrilled to have you on board. This is not only a chance to learn new skills but also to forge friendships with those who share your passion. We can’t wait to have you with us!
URL:https://www.bayshoreseniors.ca/event/gardening-spring-fall/2026-09-18/
CATEGORIES:Gardening (Spring & Fall)
ATTACH;FMTTYPE=image/jpeg:https://www.bayshoreseniors.ca/wp-content/uploads/2022/08/Flowers-for-GM.jpg
END:VEVENT
BEGIN:VEVENT
DTSTART;TZID=America/Toronto:20260925T080000
DTEND;TZID=America/Toronto:20260925T170000
DTSTAMP:20260419T183547
CREATED:20250829T225506Z
LAST-MODIFIED:20251104T200914Z
UID:10003362-1790323200-1790355600@www.bayshoreseniors.ca
SUMMARY:Gardening (Spring & Fall)
DESCRIPTION:We’re excited to invite seniors to explore the joys of gardening with us! Here\, you’ll have the opportunity to exchange gardening knowledge\, share tips\, and engage in enriching experiences with fellow members. Join us in activities like maintaining the beautiful landscaping at the Bay Shore Seniors Center. If you find joy in flowers and lovingly tended gardens\, we would be thrilled to have you on board. This is not only a chance to learn new skills but also to forge friendships with those who share your passion. We can’t wait to have you with us!
URL:https://www.bayshoreseniors.ca/event/gardening-spring-fall/2026-09-25/
CATEGORIES:Gardening (Spring & Fall)
ATTACH;FMTTYPE=image/jpeg:https://www.bayshoreseniors.ca/wp-content/uploads/2022/08/Flowers-for-GM.jpg
END:VEVENT
BEGIN:VEVENT
DTSTART;TZID=America/Toronto:20261002T080000
DTEND;TZID=America/Toronto:20261002T170000
DTSTAMP:20260419T183547
CREATED:20250829T225506Z
LAST-MODIFIED:20251104T200914Z
UID:10003363-1790928000-1790960400@www.bayshoreseniors.ca
SUMMARY:Gardening (Spring & Fall)
DESCRIPTION:We’re excited to invite seniors to explore the joys of gardening with us! Here\, you’ll have the opportunity to exchange gardening knowledge\, share tips\, and engage in enriching experiences with fellow members. Join us in activities like maintaining the beautiful landscaping at the Bay Shore Seniors Center. If you find joy in flowers and lovingly tended gardens\, we would be thrilled to have you on board. This is not only a chance to learn new skills but also to forge friendships with those who share your passion. We can’t wait to have you with us!
URL:https://www.bayshoreseniors.ca/event/gardening-spring-fall/2026-10-02/
CATEGORIES:Gardening (Spring & Fall)
ATTACH;FMTTYPE=image/jpeg:https://www.bayshoreseniors.ca/wp-content/uploads/2022/08/Flowers-for-GM.jpg
END:VEVENT
END:VCALENDAR